BEGIN:VCALENDAR
VERSION:2.0
PRODID:-//Rainbow Sports Club - ECPv6.15.17//NONSGML v1.0//EN
CALSCALE:GREGORIAN
METHOD:PUBLISH
X-WR-CALNAME:Rainbow Sports Club
X-ORIGINAL-URL:https://www.rainbowsportsclub.com.au
X-WR-CALDESC:Events for Rainbow Sports Club
REFRESH-INTERVAL;VALUE=DURATION:PT1H
X-Robots-Tag:noindex
X-PUBLISHED-TTL:PT1H
BEGIN:VTIMEZONE
TZID:Australia/Brisbane
BEGIN:STANDARD
TZOFFSETFROM:+1000
TZOFFSETTO:+1000
TZNAME:AEST
DTSTART:20240101T000000
END:STANDARD
END:VTIMEZONE
BEGIN:VEVENT
DTSTART;VALUE=DATE:20250930
DTEND;VALUE=DATE:20251011
DTSTAMP:20260420T044113
CREATED:20250925T071208Z
LAST-MODIFIED:20250930T020958Z
UID:8626-1759190400-1760140799@www.rainbowsportsclub.com.au
SUMMARY:ADVENTURE PASSPORT
DESCRIPTION:All school holidays we’re giving kids the opportunity to explore\, solve mysteries\, play sport and complete activities in order to select a reward off our prize tables\, and to go into the draw to win a Switch. It’s free to kids 12 and under\, and is sure to be a lot of fun
URL:https://www.rainbowsportsclub.com.au/event/adventure-passport/
LOCATION:Rainbow Beach Sports Club\, Turana St\, Rainbow Beach\, QLD\, 4581\, Australia
CATEGORIES:Special Events,What's On
ATTACH;FMTTYPE=image/jpeg:https://www.rainbowsportsclub.com.au/wp-content/uploads/2025/07/Untitled-design-2025-06-26T215345.060-scaled.jpg
END:VEVENT
END:VCALENDAR