BEGIN:VCALENDAR
VERSION:2.0
PRODID:-//Rainbow Sports Club - ECPv6.15.17//NONSGML v1.0//EN
CALSCALE:GREGORIAN
METHOD:PUBLISH
X-WR-CALNAME:Rainbow Sports Club
X-ORIGINAL-URL:https://www.rainbowsportsclub.com.au
X-WR-CALDESC:Events for Rainbow Sports Club
REFRESH-INTERVAL;VALUE=DURATION:PT1H
X-Robots-Tag:noindex
X-PUBLISHED-TTL:PT1H
BEGIN:VTIMEZONE
TZID:Australia/Brisbane
BEGIN:STANDARD
TZOFFSETFROM:+1000
TZOFFSETTO:+1000
TZNAME:AEST
DTSTART:20250101T000000
END:STANDARD
END:VTIMEZONE
BEGIN:VEVENT
DTSTART;VALUE=DATE:20260126
DTEND;VALUE=DATE:20260127
DTSTAMP:20260421T043041
CREATED:20260109T051154Z
LAST-MODIFIED:20260109T051154Z
UID:9009-1769385600-1769471999@www.rainbowsportsclub.com.au
SUMMARY:AUSTRALIA DAY
DESCRIPTION:We have planned an epic day to celebrate this great country \nThere’ll be thong throwing\, watermelon eating competitions\, raffles\, giveaways\, best Aussie clobber\, and live entertainment from 1pm courtesy of Nick Rolfe \nLike we said: EPIC
URL:https://www.rainbowsportsclub.com.au/event/australia-day/
LOCATION:Rainbow Beach Sports Club\, Turana St\, Rainbow Beach\, QLD\, 4581\, Australia
CATEGORIES:Special Events,What's On
ATTACH;FMTTYPE=image/jpeg:https://www.rainbowsportsclub.com.au/wp-content/uploads/2026/01/09012026014631-RainbowBeach-AustraliaDay_TVLandscape.jpg
END:VEVENT
END:VCALENDAR