BEGIN:VCALENDAR
VERSION:2.0
PRODID:-//Rainbow Sports Club - ECPv6.15.17//NONSGML v1.0//EN
CALSCALE:GREGORIAN
METHOD:PUBLISH
X-WR-CALNAME:Rainbow Sports Club
X-ORIGINAL-URL:https://www.rainbowsportsclub.com.au
X-WR-CALDESC:Events for Rainbow Sports Club
REFRESH-INTERVAL;VALUE=DURATION:PT1H
X-Robots-Tag:noindex
X-PUBLISHED-TTL:PT1H
BEGIN:VTIMEZONE
TZID:Australia/Brisbane
BEGIN:STANDARD
TZOFFSETFROM:+1000
TZOFFSETTO:+1000
TZNAME:AEST
DTSTART:20240101T000000
END:STANDARD
END:VTIMEZONE
BEGIN:VEVENT
DTSTART;TZID=Australia/Brisbane:20250721T080000
DTEND;TZID=Australia/Brisbane:20250721T170000
DTSTAMP:20260420T001046
CREATED:20250720T234811Z
LAST-MODIFIED:20250720T234811Z
UID:8182-1753084800-1753117200@www.rainbowsportsclub.com.au
SUMMARY:DANIEL DAY
DESCRIPTION:LIVE MUSIC kicks off at 7.30pm with the vibes pushing all the way through to 10.30pm
URL:https://www.rainbowsportsclub.com.au/event/daniel-day/
CATEGORIES:Events,What's On
ATTACH;FMTTYPE=image/jpeg:https://www.rainbowsportsclub.com.au/wp-content/uploads/2025/07/DANIEL-DAY-Entertainment-Music-1-scaled.jpg
END:VEVENT
END:VCALENDAR