BEGIN:VCALENDAR
VERSION:2.0
PRODID:-//Rainbow Sports Club - ECPv6.15.17//NONSGML v1.0//EN
CALSCALE:GREGORIAN
METHOD:PUBLISH
X-WR-CALNAME:Rainbow Sports Club
X-ORIGINAL-URL:https://www.rainbowsportsclub.com.au
X-WR-CALDESC:Events for Rainbow Sports Club
REFRESH-INTERVAL;VALUE=DURATION:PT1H
X-Robots-Tag:noindex
X-PUBLISHED-TTL:PT1H
BEGIN:VTIMEZONE
TZID:Australia/Brisbane
BEGIN:STANDARD
TZOFFSETFROM:+1000
TZOFFSETTO:+1000
TZNAME:AEST
DTSTART:20250101T000000
END:STANDARD
END:VTIMEZONE
BEGIN:VEVENT
DTSTART;TZID=Australia/Brisbane:20260417T193000
DTEND;TZID=Australia/Brisbane:20260417T223000
DTSTAMP:20260422T195321
CREATED:20260412T024916Z
LAST-MODIFIED:20260412T024916Z
UID:9585-1776454200-1776465000@www.rainbowsportsclub.com.au
SUMMARY:GRAEME JENSEN Live
DESCRIPTION:Join Graeme Jensen in the sports bar following the evening’s community raffles and he’ll ensure your Friday night gives off all the right vibes
URL:https://www.rainbowsportsclub.com.au/event/graeme-jensen-live-5/
LOCATION:Rainbow Beach Sports Club\, Turana St\, Rainbow Beach\, QLD\, 4581\, Australia
CATEGORIES:Events,What's On
ATTACH;FMTTYPE=image/jpeg:https://www.rainbowsportsclub.com.au/wp-content/uploads/2026/04/FRIDAY-MUSI-RBSC-1.jpg
END:VEVENT
END:VCALENDAR