BEGIN:VCALENDAR
VERSION:2.0
PRODID:-//Rainbow Sports Club - ECPv6.15.17//NONSGML v1.0//EN
CALSCALE:GREGORIAN
METHOD:PUBLISH
X-WR-CALNAME:Rainbow Sports Club
X-ORIGINAL-URL:https://www.rainbowsportsclub.com.au
X-WR-CALDESC:Events for Rainbow Sports Club
REFRESH-INTERVAL;VALUE=DURATION:PT1H
X-Robots-Tag:noindex
X-PUBLISHED-TTL:PT1H
BEGIN:VTIMEZONE
TZID:Australia/Brisbane
BEGIN:STANDARD
TZOFFSETFROM:+1000
TZOFFSETTO:+1000
TZNAME:AEST
DTSTART:20240101T000000
END:STANDARD
END:VTIMEZONE
BEGIN:VEVENT
DTSTART;TZID=Australia/Brisbane:20251203T110000
DTEND;TZID=Australia/Brisbane:20251203T140000
DTSTAMP:20260420T103446
CREATED:20251124T043359Z
LAST-MODIFIED:20251124T043434Z
UID:8800-1764759600-1764770400@www.rainbowsportsclub.com.au
SUMMARY:Morning Melodies
DESCRIPTION:Join us on the first Wednesday of the month\, from 11am to 2pm\, for a wonderfully entertaining\, host lead sing-a-long\, including a two-course lunch
URL:https://www.rainbowsportsclub.com.au/event/morning-melodies-2/
LOCATION:Rainbow Beach Sports Club\, Turana St\, Rainbow Beach\, QLD\, 4581\, Australia
CATEGORIES:What's On
ATTACH;FMTTYPE=image/jpeg:https://www.rainbowsportsclub.com.au/wp-content/uploads/2025/11/Rainbow-Beach-Morning-Melodies-Dec_Web-Page-Banner.jpg
END:VEVENT
END:VCALENDAR