BEGIN:VCALENDAR
VERSION:2.0
PRODID:-//Rainbow Sports Club - ECPv6.15.17//NONSGML v1.0//EN
CALSCALE:GREGORIAN
METHOD:PUBLISH
X-WR-CALNAME:Rainbow Sports Club
X-ORIGINAL-URL:https://www.rainbowsportsclub.com.au
X-WR-CALDESC:Events for Rainbow Sports Club
REFRESH-INTERVAL;VALUE=DURATION:PT1H
X-Robots-Tag:noindex
X-PUBLISHED-TTL:PT1H
BEGIN:VTIMEZONE
TZID:Australia/Brisbane
BEGIN:STANDARD
TZOFFSETFROM:+1000
TZOFFSETTO:+1000
TZNAME:AEST
DTSTART:20240101T000000
END:STANDARD
END:VTIMEZONE
BEGIN:VEVENT
DTSTART;TZID=Australia/Brisbane:20251216T200000
DTEND;TZID=Australia/Brisbane:20251216T203000
DTSTAMP:20260420T121140
CREATED:20251209T034206Z
LAST-MODIFIED:20251211T025557Z
UID:10020434-1765915200-1765917000@www.rainbowsportsclub.com.au
SUMMARY:Music Bingo
DESCRIPTION:Following our members draws\, and back by popular demand\, we have Music Bingo \nFree to play and loads of great prizes
URL:https://www.rainbowsportsclub.com.au/event/music-bingo-2/2025-12-16/
LOCATION:Rainbow Beach Sports Club\, Turana St\, Rainbow Beach\, QLD\, 4581\, Australia
CATEGORIES:What's On
ATTACH;FMTTYPE=image/jpeg:https://www.rainbowsportsclub.com.au/wp-content/uploads/2025/12/music-bingo-envelope-3-1.jpg
END:VEVENT
END:VCALENDAR