BEGIN:VCALENDAR
VERSION:2.0
PRODID:-//Rainbow Sports Club - ECPv6.15.17//NONSGML v1.0//EN
CALSCALE:GREGORIAN
METHOD:PUBLISH
X-WR-CALNAME:Rainbow Sports Club
X-ORIGINAL-URL:https://www.rainbowsportsclub.com.au
X-WR-CALDESC:Events for Rainbow Sports Club
REFRESH-INTERVAL;VALUE=DURATION:PT1H
X-Robots-Tag:noindex
X-PUBLISHED-TTL:PT1H
BEGIN:VTIMEZONE
TZID:Australia/Brisbane
BEGIN:STANDARD
TZOFFSETFROM:+1000
TZOFFSETTO:+1000
TZNAME:AEST
DTSTART:20240101T000000
END:STANDARD
END:VTIMEZONE
BEGIN:VEVENT
DTSTART;TZID=Australia/Brisbane:20250925T110000
DTEND;TZID=Australia/Brisbane:20250925T133000
DTSTAMP:20260420T200649
CREATED:20250815T031412Z
LAST-MODIFIED:20250925T074557Z
UID:8308-1758798000-1758807000@www.rainbowsportsclub.com.au
SUMMARY:PAINT & POP TOPS
DESCRIPTION:$45 per person \nEach child takes home their own 30x40cm canvas creation \nIncludes kids meal and pop top \nChoose from Beach Flamingos or Jiggly Jellyfish \nSpots are limited so book today – BOOK HERE
URL:https://www.rainbowsportsclub.com.au/event/paint-pop-tops/
CATEGORIES:Events,Special Events,What's On
ATTACH;FMTTYPE=image/jpeg:https://www.rainbowsportsclub.com.au/wp-content/uploads/2025/09/Kids-Paint-Pop-Tops-Fusion-scaled.jpg
END:VEVENT
END:VCALENDAR