BEGIN:VCALENDAR
VERSION:2.0
PRODID:-//Rainbow Sports Club - ECPv6.15.17//NONSGML v1.0//EN
CALSCALE:GREGORIAN
METHOD:PUBLISH
X-WR-CALNAME:Rainbow Sports Club
X-ORIGINAL-URL:https://www.rainbowsportsclub.com.au
X-WR-CALDESC:Events for Rainbow Sports Club
REFRESH-INTERVAL;VALUE=DURATION:PT1H
X-Robots-Tag:noindex
X-PUBLISHED-TTL:PT1H
BEGIN:VTIMEZONE
TZID:Australia/Brisbane
BEGIN:STANDARD
TZOFFSETFROM:+1000
TZOFFSETTO:+1000
TZNAME:AEST
DTSTART:20240101T000000
END:STANDARD
END:VTIMEZONE
BEGIN:VEVENT
DTSTART;VALUE=DATE:20250728
DTEND;VALUE=DATE:20250729
DTSTAMP:20260420T014648
CREATED:20250722T005126Z
LAST-MODIFIED:20250725T053304Z
UID:8199-1753660800-1753747199@www.rainbowsportsclub.com.au
SUMMARY:SEAFOOD BOWLS EVENT
DESCRIPTION:Bowls Club Member Event \nContact Bowls President Steve Hebberd for more information \n0423336411
URL:https://www.rainbowsportsclub.com.au/event/seafood-bowls-event/
CATEGORIES:Events,What's On
ATTACH;FMTTYPE=image/jpeg:https://www.rainbowsportsclub.com.au/wp-content/uploads/2025/07/SEAFOOD-BOWLS-EVENT-2-scaled.jpg
END:VEVENT
END:VCALENDAR