BEGIN:VCALENDAR
VERSION:2.0
PRODID:-//Rainbow Sports Club - ECPv6.15.17//NONSGML v1.0//EN
CALSCALE:GREGORIAN
METHOD:PUBLISH
X-ORIGINAL-URL:https://www.rainbowsportsclub.com.au
X-WR-CALDESC:Events for Rainbow Sports Club
REFRESH-INTERVAL;VALUE=DURATION:PT1H
X-Robots-Tag:noindex
X-PUBLISHED-TTL:PT1H
BEGIN:VTIMEZONE
TZID:Australia/Brisbane
BEGIN:STANDARD
TZOFFSETFROM:+1000
TZOFFSETTO:+1000
TZNAME:AEST
DTSTART:20230101T000000
END:STANDARD
END:VTIMEZONE
BEGIN:VEVENT
DTSTART;VALUE=DATE:20241105
DTEND;VALUE=DATE:20241106
DTSTAMP:20260421T104647
CREATED:20240918T055632Z
LAST-MODIFIED:20241025T033448Z
UID:10007112-1730764800-1730851199@www.rainbowsportsclub.com.au
SUMMARY:Melbourne Cup Luncheon
DESCRIPTION:Make the most of the festivities for Melbourne Cup day with an incredible Luncheon on offer. \nVIP package includes 2-course Seafood Luncheon\, Hobby Horse Races\, Calcutta\, Sweeps\, Lucky Door Prizes\, raffles\, multiple big screen viewing\, Fashions of the Field\, courtesy bus (because of course) and live entertainment from 4pm \nTickets must be pre-purchased\, no payment on the day: BOOK HERE \nTickets $85 for members | $90 n-m
URL:https://www.rainbowsportsclub.com.au/event/melbourne-cup-luncheon/
LOCATION:Rainbow Beach Sports Club\, Turana St\, Rainbow Beach\, QLD\, 4581\, Australia
CATEGORIES:Daily Promotions,Events,Major Promotions,What's On
ATTACH;FMTTYPE=image/jpeg:https://www.rainbowsportsclub.com.au/wp-content/uploads/2024/09/Melbourne-Cup-Luncheon-EDM-Header-Rainbow-Beach.jpg
END:VEVENT
END:VCALENDAR