BEGIN:VCALENDAR
VERSION:2.0
PRODID:-//Rainbow Sports Club - ECPv6.15.17//NONSGML v1.0//EN
CALSCALE:GREGORIAN
METHOD:PUBLISH
X-WR-CALNAME:Rainbow Sports Club
X-ORIGINAL-URL:https://www.rainbowsportsclub.com.au
X-WR-CALDESC:Events for Rainbow Sports Club
REFRESH-INTERVAL;VALUE=DURATION:PT1H
X-Robots-Tag:noindex
X-PUBLISHED-TTL:PT1H
BEGIN:VTIMEZONE
TZID:Australia/Brisbane
BEGIN:STANDARD
TZOFFSETFROM:+1000
TZOFFSETTO:+1000
TZNAME:AEST
DTSTART:20230101T000000
END:STANDARD
END:VTIMEZONE
BEGIN:VEVENT
DTSTART;TZID=Australia/Brisbane:20241219T160000
DTEND;TZID=Australia/Brisbane:20241219T220000
DTSTAMP:20260421T150858
CREATED:20241014T023251Z
LAST-MODIFIED:20241121T002540Z
UID:10007187-1734624000-1734645600@www.rainbowsportsclub.com.au
SUMMARY:Mega Christmas Ham Raffles
DESCRIPTION:With 50 hams to win you will want to be here at Rainbow Beach Sports Club from 4pm on Thursday 19th December to grab your tickets ready for the first draw at 7.30pm. \n  \n$2 per ticket\, or \n3 for $5
URL:https://www.rainbowsportsclub.com.au/event/mega-christmas-ham-raffles/
LOCATION:QLD
CATEGORIES:Events,What's On
ATTACH;FMTTYPE=image/jpeg:https://www.rainbowsportsclub.com.au/wp-content/uploads/2024/10/RBSC-Mega-Ham-Raffle_VECTORS.jpg
END:VEVENT
END:VCALENDAR