BEGIN:VCALENDAR
VERSION:2.0
PRODID:-//Rainbow Sports Club - ECPv6.15.17//NONSGML v1.0//EN
CALSCALE:GREGORIAN
METHOD:PUBLISH
X-WR-CALNAME:Rainbow Sports Club
X-ORIGINAL-URL:https://www.rainbowsportsclub.com.au
X-WR-CALDESC:Events for Rainbow Sports Club
REFRESH-INTERVAL;VALUE=DURATION:PT1H
X-Robots-Tag:noindex
X-PUBLISHED-TTL:PT1H
BEGIN:VTIMEZONE
TZID:Australia/Brisbane
BEGIN:STANDARD
TZOFFSETFROM:+1000
TZOFFSETTO:+1000
TZNAME:AEST
DTSTART:20240101T000000
END:STANDARD
END:VTIMEZONE
BEGIN:VEVENT
DTSTART;TZID=Australia/Brisbane:20250829T193000
DTEND;TZID=Australia/Brisbane:20250829T223000
DTSTAMP:20260421T142647
CREATED:20250328T120833Z
LAST-MODIFIED:20250720T232925Z
UID:10010580-1756495800-1756506600@www.rainbowsportsclub.com.au
SUMMARY:Brad Sorenson
DESCRIPTION:Brad has a great song list and a great way with a song
URL:https://www.rainbowsportsclub.com.au/event/brad-sorenson/
LOCATION:QLD
CATEGORIES:Events,What's On
ATTACH;FMTTYPE=image/jpeg:https://www.rainbowsportsclub.com.au/wp-content/uploads/2025/07/Brad-Sorenson-entertainment-music-scaled.jpg
END:VEVENT
END:VCALENDAR