BEGIN:VCALENDAR
VERSION:2.0
PRODID:-//Rainbow Sports Club - ECPv6.15.17//NONSGML v1.0//EN
CALSCALE:GREGORIAN
METHOD:PUBLISH
X-ORIGINAL-URL:https://www.rainbowsportsclub.com.au
X-WR-CALDESC:Events for Rainbow Sports Club
REFRESH-INTERVAL;VALUE=DURATION:PT1H
X-Robots-Tag:noindex
X-PUBLISHED-TTL:PT1H
BEGIN:VTIMEZONE
TZID:Australia/Brisbane
BEGIN:STANDARD
TZOFFSETFROM:+1000
TZOFFSETTO:+1000
TZNAME:AEST
DTSTART:20240101T000000
END:STANDARD
END:VTIMEZONE
BEGIN:VEVENT
DTSTART;TZID=Australia/Brisbane:20250923T120000
DTEND;TZID=Australia/Brisbane:20250923T140000
DTSTAMP:20260421T124240
CREATED:20250902T035238Z
LAST-MODIFIED:20250909T104252Z
UID:10015840-1758628800-1758636000@www.rainbowsportsclub.com.au
SUMMARY:Spin & Save
DESCRIPTION:Every Tuesday from midday to 2pm you have a chance to spin our wheel TWICE every 15 minutes between 1pm and 2pm. Every $10 you put through the gaming room from midday earns you another ticket in the draw\, increasing your chances
URL:https://www.rainbowsportsclub.com.au/event/spin-win-2/2025-09-23/
LOCATION:QLD
CATEGORIES:Events,What's On
ATTACH;FMTTYPE=image/jpeg:https://www.rainbowsportsclub.com.au/wp-content/uploads/2025/05/RBSC-Spin-Save_TVL.jpg
END:VEVENT
BEGIN:VEVENT
DTSTART;TZID=Australia/Brisbane:20250923T190000
DTEND;TZID=Australia/Brisbane:20250923T203000
DTSTAMP:20260421T124240
CREATED:20250902T034729Z
LAST-MODIFIED:20250902T034731Z
UID:10016126-1758654000-1758659400@www.rainbowsportsclub.com.au
SUMMARY:TUESDAY TRIVIA
DESCRIPTION:Every Tuesday from 7pm \nFree to join in \nPlay solo or as a team \nLots of great prizes
URL:https://www.rainbowsportsclub.com.au/event/tuesday-trivia-2/2025-09-23/
LOCATION:QLD
CATEGORIES:Events,What's On
ATTACH;FMTTYPE=image/jpeg:https://www.rainbowsportsclub.com.au/wp-content/uploads/2025/07/T-7-1.jpg
END:VEVENT
END:VCALENDAR