BEGIN:VCALENDAR
VERSION:2.0
PRODID:-//Rainbow Sports Club - ECPv6.15.17//NONSGML v1.0//EN
CALSCALE:GREGORIAN
METHOD:PUBLISH
X-WR-CALNAME:Rainbow Sports Club
X-ORIGINAL-URL:https://www.rainbowsportsclub.com.au
X-WR-CALDESC:Events for Rainbow Sports Club
REFRESH-INTERVAL;VALUE=DURATION:PT1H
X-Robots-Tag:noindex
X-PUBLISHED-TTL:PT1H
BEGIN:VTIMEZONE
TZID:Australia/Brisbane
BEGIN:STANDARD
TZOFFSETFROM:+1000
TZOFFSETTO:+1000
TZNAME:AEST
DTSTART:20240101T000000
END:STANDARD
END:VTIMEZONE
BEGIN:VEVENT
DTSTART;TZID=Australia/Brisbane:20251018T180000
DTEND;TZID=Australia/Brisbane:20251018T190000
DTSTAMP:20260421T111924
CREATED:20251013T234002Z
LAST-MODIFIED:20251028T012901Z
UID:10017932-1760810400-1760814000@www.rainbowsportsclub.com.au
SUMMARY:Community Raffles
DESCRIPTION:Cooloola Coast Turtle Care is the beneficiary of our October community raffles
URL:https://www.rainbowsportsclub.com.au/event/community-raffles-2/2025-10-18/
LOCATION:Rainbow Beach Sports Club\, Turana St\, Rainbow Beach\, QLD\, 4581\, Australia
CATEGORIES:What's On
ATTACH;FMTTYPE=image/jpeg:https://www.rainbowsportsclub.com.au/wp-content/uploads/2025/10/EVERY-SATURDAY-IN-OCTOBER-scaled.jpg
END:VEVENT
BEGIN:VEVENT
DTSTART;TZID=Australia/Brisbane:20251018T200000
DTEND;TZID=Australia/Brisbane:20251025T220000
DTSTAMP:20260421T111924
CREATED:20250930T021408Z
LAST-MODIFIED:20251013T231045Z
UID:10015853-1760817600-1761429600@www.rainbowsportsclub.com.au
SUMMARY:SATURDAY NIGHT MUSIC BINGO
DESCRIPTION:It’s like bingo but the music is sorta loud\, cheating is allowed\, and people who play it are wowed by the fact it’s free to play. \nOkay\, it’s not a lot like traditional bingo\, but there is a grid and you need to cross things off to win. Oh\, and there are prizes when you win too.
URL:https://www.rainbowsportsclub.com.au/event/saturday-night-music-trivia-2/
LOCATION:Rainbow Beach Sports Club\, Turana St\, Rainbow Beach\, QLD\, 4581\, Australia
CATEGORIES:Events,What's On
ATTACH;FMTTYPE=image/jpeg:https://www.rainbowsportsclub.com.au/wp-content/uploads/2025/05/Music-Bingo-BIG-SCREEN-scaled.jpg
END:VEVENT
END:VCALENDAR