BEGIN:VCALENDAR
VERSION:2.0
PRODID:-//Rainbow Sports Club - ECPv6.15.17//NONSGML v1.0//EN
CALSCALE:GREGORIAN
METHOD:PUBLISH
X-WR-CALNAME:Rainbow Sports Club
X-ORIGINAL-URL:https://www.rainbowsportsclub.com.au
X-WR-CALDESC:Events for Rainbow Sports Club
REFRESH-INTERVAL;VALUE=DURATION:PT1H
X-Robots-Tag:noindex
X-PUBLISHED-TTL:PT1H
BEGIN:VTIMEZONE
TZID:Australia/Brisbane
BEGIN:STANDARD
TZOFFSETFROM:+1000
TZOFFSETTO:+1000
TZNAME:AEST
DTSTART:20240101T000000
END:STANDARD
END:VTIMEZONE
BEGIN:VEVENT
DTSTART;TZID=Australia/Brisbane:20251121T193000
DTEND;TZID=Australia/Brisbane:20251125T223000
DTSTAMP:20260421T094556
CREATED:20241128T060956Z
LAST-MODIFIED:20251115T084956Z
UID:10018229-1763753400-1764109800@www.rainbowsportsclub.com.au
SUMMARY:LIVE MUSIC FRIDAY
DESCRIPTION:FRIDAY NIGHTS are about letting your hair down\, so you’ll find a musician or three on stage ready to pick\, pluck and strum their magic from 7.30pm to 10.30pm \nThe return of live music to our venue is a boon for the club\, members & musicians \nEnjoy!!
URL:https://www.rainbowsportsclub.com.au/event/live-music-friday/2025-11-21/
LOCATION:QLD
CATEGORIES:What's On
ATTACH;FMTTYPE=image/jpeg:https://www.rainbowsportsclub.com.au/wp-content/uploads/2024/11/Black-Brown-Modern-Music-Present.jpg
END:VEVENT
BEGIN:VEVENT
DTSTART;TZID=Australia/Brisbane:20251125T130000
DTEND;TZID=Australia/Brisbane:20251125T140000
DTSTAMP:20260421T094556
CREATED:20251013T232228Z
LAST-MODIFIED:20251209T031618Z
UID:10017668-1764075600-1764079200@www.rainbowsportsclub.com.au
SUMMARY:SPIN & SAVE
DESCRIPTION:Every Tuesday arvo at 2pm\, four lucky members will get the chance to spin our wheel – TWICE !!! Meaning we add the two amounts and hand over the readies. Easy as \nAll members need to do is use their membership card to swipe in as they enter\, to order stuff at the tills (every $4)\, and in the gaming room (every $10) from midday. \n 
URL:https://www.rainbowsportsclub.com.au/event/spin-save/2025-11-25/
LOCATION:Rainbow Beach Sports Club\, Turana St\, Rainbow Beach\, QLD\, 4581\, Australia
CATEGORIES:What's On
ATTACH;FMTTYPE=image/jpeg:https://www.rainbowsportsclub.com.au/wp-content/uploads/2025/10/Rainbow_Wheel_Be_Lucky_EDM_Header-1.jpg
END:VEVENT
END:VCALENDAR