BEGIN:VCALENDAR
VERSION:2.0
PRODID:-//Rainbow Sports Club - ECPv6.15.17//NONSGML v1.0//EN
CALSCALE:GREGORIAN
METHOD:PUBLISH
X-WR-CALNAME:Rainbow Sports Club
X-ORIGINAL-URL:https://www.rainbowsportsclub.com.au
X-WR-CALDESC:Events for Rainbow Sports Club
REFRESH-INTERVAL;VALUE=DURATION:PT1H
X-Robots-Tag:noindex
X-PUBLISHED-TTL:PT1H
BEGIN:VTIMEZONE
TZID:Australia/Brisbane
BEGIN:STANDARD
TZOFFSETFROM:+1000
TZOFFSETTO:+1000
TZNAME:AEST
DTSTART:20240101T000000
END:STANDARD
END:VTIMEZONE
BEGIN:VEVENT
DTSTART;VALUE=DATE:20251212
DTEND;VALUE=DATE:20260126
DTSTAMP:20260421T024253
CREATED:20251210T040922Z
LAST-MODIFIED:20251230T025601Z
UID:10020563-1765497600-1769385599@www.rainbowsportsclub.com.au
SUMMARY:Adventure Passport
DESCRIPTION:All Christmas holidays\, we have our Adventure Passport challenges ready to catch the imagination and energy of your kids \nTasks include playing lawn bowls\, discovering answers to quests in and around our venue & Rainbow Beach\, colouring-in\, writing\, and so much more. They can even earn stamps for having a drink or something to eat \nAnd once they’ve collected ten stamps they can pick a reward off our tables of toys\, games\, sporting equipment\, etc \nWhat’s more\, they can swap stamps for rewards up to 5 times !!! \nThis project is all about keeping kids busy throughout the break\, and is set up under our Beach Buddies membership club for those 15 & under. Membership is a mere $5 to kick off\, with it also earning discounts & gifts\, free admission to the tennis courts and so much more \nFor more information\, and an Adventure Passport to get started\, please see our friendly team member at reception in the foyer
URL:https://www.rainbowsportsclub.com.au/event/adventure-passport-2/
LOCATION:Rainbow Beach Sports Club\, Turana St\, Rainbow Beach\, QLD\, 4581\, Australia
CATEGORIES:Events,Family,Special Events,What's On
ATTACH;FMTTYPE=image/jpeg:https://www.rainbowsportsclub.com.au/wp-content/uploads/2025/12/Rainbow-Passport-Adventure_TVL.jpg
END:VEVENT
BEGIN:VEVENT
DTSTART;VALUE=DATE:20260105
DTEND;VALUE=DATE:20260106
DTSTAMP:20260421T024254
CREATED:20260103T085330Z
LAST-MODIFIED:20260105T230707Z
UID:10020588-1767571200-1767657599@www.rainbowsportsclub.com.au
SUMMARY:SLALOM SLIDE
DESCRIPTION:We are thrilled to introduce some summer fun at our Rainbow Beach Aquatic Centre\, with our very first inflatable – the Slalom Slide \nConditions \n~ limited to a maximum of 20 participants a session \n~ first in\, first to jump in (no bookings\, except for party bookings) \n~ $5pp to join the fun \n~ Beach Buddies members can join in for FREE \n~ only for competent swimmers \nSessions  \nMonday-Saturday \n9am-10.30am & 3pm-4.30pm
URL:https://www.rainbowsportsclub.com.au/event/slalom-slide/
LOCATION:Rainbow Beach Sports Club\, Turana St\, Rainbow Beach\, QLD\, 4581\, Australia
CATEGORIES:Special Events,What's On
ATTACH;FMTTYPE=image/jpeg:https://www.rainbowsportsclub.com.au/wp-content/uploads/2026/01/5-3-scaled.jpg
END:VEVENT
END:VCALENDAR