BEGIN:VCALENDAR
VERSION:2.0
PRODID:-//Rainbow Sports Club - ECPv6.15.17//NONSGML v1.0//EN
CALSCALE:GREGORIAN
METHOD:PUBLISH
X-WR-CALNAME:Rainbow Sports Club
X-ORIGINAL-URL:https://www.rainbowsportsclub.com.au
X-WR-CALDESC:Events for Rainbow Sports Club
REFRESH-INTERVAL;VALUE=DURATION:PT1H
X-Robots-Tag:noindex
X-PUBLISHED-TTL:PT1H
BEGIN:VTIMEZONE
TZID:Australia/Brisbane
BEGIN:STANDARD
TZOFFSETFROM:+1000
TZOFFSETTO:+1000
TZNAME:AEST
DTSTART:20240101T000000
END:STANDARD
END:VTIMEZONE
BEGIN:VEVENT
DTSTART;VALUE=DATE:20251212
DTEND;VALUE=DATE:20260126
DTSTAMP:20260421T094553
CREATED:20251210T040922Z
LAST-MODIFIED:20251230T025601Z
UID:10020563-1765497600-1769385599@www.rainbowsportsclub.com.au
SUMMARY:Adventure Passport
DESCRIPTION:All Christmas holidays\, we have our Adventure Passport challenges ready to catch the imagination and energy of your kids \nTasks include playing lawn bowls\, discovering answers to quests in and around our venue & Rainbow Beach\, colouring-in\, writing\, and so much more. They can even earn stamps for having a drink or something to eat \nAnd once they’ve collected ten stamps they can pick a reward off our tables of toys\, games\, sporting equipment\, etc \nWhat’s more\, they can swap stamps for rewards up to 5 times !!! \nThis project is all about keeping kids busy throughout the break\, and is set up under our Beach Buddies membership club for those 15 & under. Membership is a mere $5 to kick off\, with it also earning discounts & gifts\, free admission to the tennis courts and so much more \nFor more information\, and an Adventure Passport to get started\, please see our friendly team member at reception in the foyer
URL:https://www.rainbowsportsclub.com.au/event/adventure-passport-2/
LOCATION:Rainbow Beach Sports Club\, Turana St\, Rainbow Beach\, QLD\, 4581\, Australia
CATEGORIES:Events,Family,Special Events,What's On
ATTACH;FMTTYPE=image/jpeg:https://www.rainbowsportsclub.com.au/wp-content/uploads/2025/12/Rainbow-Passport-Adventure_TVL.jpg
END:VEVENT
BEGIN:VEVENT
DTSTART;TZID=Australia/Brisbane:20260108T110000
DTEND;TZID=Australia/Brisbane:20260108T140000
DTSTAMP:20260421T094553
CREATED:20251210T035908Z
LAST-MODIFIED:20260109T083659Z
UID:10020509-1767870000-1767880800@www.rainbowsportsclub.com.au
SUMMARY:Paint & Poppers
DESCRIPTION:Every Thursday in January until the school holidays come to an end\, we are holding a hosted painting activity from 11am\, with everything provided including guided instructions to help your child produce a wall-worthy piece of art \nThe low price of $35 includes not only a canvas\, paints\, brushes\, easel\, paint tray\, and a host to guide your child’s creativity\, but lunch & a popper \nOur young Beach Buddies receive a discount of $5 for this activity – if your kid isn’t a Beach Buddy yet\, join them up! \nPlaces are strictly limited so be sure to book in our reception area
URL:https://www.rainbowsportsclub.com.au/event/paint-poppers/2026-01-08/
LOCATION:Rainbow Beach Sports Club\, Turana St\, Rainbow Beach\, QLD\, 4581\, Australia
CATEGORIES:Family,Special Events,What's On
ATTACH;FMTTYPE=image/jpeg:https://www.rainbowsportsclub.com.au/wp-content/uploads/2025/12/Paint-Poppers-scaled.jpg
END:VEVENT
BEGIN:VEVENT
DTSTART;TZID=Australia/Brisbane:20260108T190000
DTEND;TZID=Australia/Brisbane:20260108T210000
DTSTAMP:20260421T094553
CREATED:20250729T000441Z
LAST-MODIFIED:20251210T015935Z
UID:10017142-1767898800-1767906000@www.rainbowsportsclub.com.au
SUMMARY:Thursday Trivia
DESCRIPTION:Whether to underline your know-it-all status\, or the opportunity to win some great prizes\, we’ve got the perfect excuse to drink\, laugh\, and show off your vast knowledge of useless information to your friends. \nArrive early to nab the best tables and nominate your team name. \nThe first round kicks off at 7pm 😀 \nPrizes for each of six rounds for teams of 1 to 4 players. \nFree to play. \nBe sure to bring your sense of humour
URL:https://www.rainbowsportsclub.com.au/event/thursday-trivia-2/2026-01-08/
LOCATION:Rainbow Beach Sports Club\, Turana St\, Rainbow Beach\, QLD\, 4581\, Australia
CATEGORIES:Events,What's On
ATTACH;FMTTYPE=image/jpeg:https://www.rainbowsportsclub.com.au/wp-content/uploads/2025/07/T-8-1.jpg
END:VEVENT
END:VCALENDAR