BEGIN:VCALENDAR
VERSION:2.0
PRODID:-//Rainbow Sports Club - ECPv6.15.17//NONSGML v1.0//EN
CALSCALE:GREGORIAN
METHOD:PUBLISH
X-ORIGINAL-URL:https://www.rainbowsportsclub.com.au
X-WR-CALDESC:Events for Rainbow Sports Club
REFRESH-INTERVAL;VALUE=DURATION:PT1H
X-Robots-Tag:noindex
X-PUBLISHED-TTL:PT1H
BEGIN:VTIMEZONE
TZID:Australia/Brisbane
BEGIN:STANDARD
TZOFFSETFROM:+1000
TZOFFSETTO:+1000
TZNAME:AEST
DTSTART:20240101T000000
END:STANDARD
END:VTIMEZONE
BEGIN:VEVENT
DTSTART;VALUE=DATE:20251212
DTEND;VALUE=DATE:20260126
DTSTAMP:20260421T111945
CREATED:20251210T040922Z
LAST-MODIFIED:20251230T025601Z
UID:10020563-1765497600-1769385599@www.rainbowsportsclub.com.au
SUMMARY:Adventure Passport
DESCRIPTION:All Christmas holidays\, we have our Adventure Passport challenges ready to catch the imagination and energy of your kids \nTasks include playing lawn bowls\, discovering answers to quests in and around our venue & Rainbow Beach\, colouring-in\, writing\, and so much more. They can even earn stamps for having a drink or something to eat \nAnd once they’ve collected ten stamps they can pick a reward off our tables of toys\, games\, sporting equipment\, etc \nWhat’s more\, they can swap stamps for rewards up to 5 times !!! \nThis project is all about keeping kids busy throughout the break\, and is set up under our Beach Buddies membership club for those 15 & under. Membership is a mere $5 to kick off\, with it also earning discounts & gifts\, free admission to the tennis courts and so much more \nFor more information\, and an Adventure Passport to get started\, please see our friendly team member at reception in the foyer
URL:https://www.rainbowsportsclub.com.au/event/adventure-passport-2/
LOCATION:Rainbow Beach Sports Club\, Turana St\, Rainbow Beach\, QLD\, 4581\, Australia
CATEGORIES:Events,Family,Special Events,What's On
ATTACH;FMTTYPE=image/jpeg:https://www.rainbowsportsclub.com.au/wp-content/uploads/2025/12/Rainbow-Passport-Adventure_TVL.jpg
END:VEVENT
BEGIN:VEVENT
DTSTART;VALUE=DATE:20260118
DTEND;VALUE=DATE:20260202
DTSTAMP:20260421T111945
CREATED:20260114T214642Z
LAST-MODIFIED:20260128T231029Z
UID:10020874-1768694400-1769990399@www.rainbowsportsclub.com.au
SUMMARY:AUSTRALIAN OPEN LIVE
DESCRIPTION:LIVE until 1st Feb  –  Join us in the sports bar to catch the Australian Open live on the biggest screen in Rainbow Beach
URL:https://www.rainbowsportsclub.com.au/event/australian-open-live/
LOCATION:Rainbow Beach Sports Club\, Turana St\, Rainbow Beach\, QLD\, 4581\, Australia
CATEGORIES:Special Events,What's On
ATTACH;FMTTYPE=image/jpeg:https://www.rainbowsportsclub.com.au/wp-content/uploads/2026/01/Untitled-design-2026-01-15T074240.960-scaled.jpg
END:VEVENT
BEGIN:VEVENT
DTSTART;TZID=Australia/Brisbane:20260124T180000
DTEND;TZID=Australia/Brisbane:20260124T193000
DTSTAMP:20260421T111945
CREATED:20260111T085458Z
LAST-MODIFIED:20260118T081825Z
UID:10020892-1769277600-1769283000@www.rainbowsportsclub.com.au
SUMMARY:COMMUNITY RAFFLES
DESCRIPTION:Every week our community raffles help local community groups raise much needed funds \nAll January\, your chance to win meat trays will support Rainbow Beach Bowling Club & Rainbow Beach Aquatic Centre
URL:https://www.rainbowsportsclub.com.au/event/community-raffles-3/2026-01-24/
LOCATION:Rainbow Beach Sports Club\, Turana St\, Rainbow Beach\, QLD\, 4581\, Australia
CATEGORIES:What's On
ATTACH;FMTTYPE=image/jpeg:https://www.rainbowsportsclub.com.au/wp-content/uploads/2026/01/Fri-Sat-Raffles-1-scaled.jpg
END:VEVENT
BEGIN:VEVENT
DTSTART;TZID=Australia/Brisbane:20260124T193000
DTEND;TZID=Australia/Brisbane:20260124T223000
DTSTAMP:20260421T111945
CREATED:20260118T081256Z
LAST-MODIFIED:20260118T081658Z
UID:10020887-1769283000-1769293800@www.rainbowsportsclub.com.au
SUMMARY:COOL LULA Live
DESCRIPTION:Great musicians pumping out awesome songs –  that’s what Cool Lula is all about
URL:https://www.rainbowsportsclub.com.au/event/cool-lula-live-2/
LOCATION:Rainbow Beach Sports Club\, Turana St\, Rainbow Beach\, QLD\, 4581\, Australia
CATEGORIES:What's On
ATTACH;FMTTYPE=image/jpeg:https://www.rainbowsportsclub.com.au/wp-content/uploads/2026/01/Saturday-Music-2-scaled.jpg
END:VEVENT
END:VCALENDAR