BEGIN:VCALENDAR
VERSION:2.0
PRODID:-//Rainbow Sports Club - ECPv6.15.17//NONSGML v1.0//EN
CALSCALE:GREGORIAN
METHOD:PUBLISH
X-WR-CALNAME:Rainbow Sports Club
X-ORIGINAL-URL:https://www.rainbowsportsclub.com.au
X-WR-CALDESC:Events for Rainbow Sports Club
REFRESH-INTERVAL;VALUE=DURATION:PT1H
X-Robots-Tag:noindex
X-PUBLISHED-TTL:PT1H
BEGIN:VTIMEZONE
TZID:Australia/Brisbane
BEGIN:STANDARD
TZOFFSETFROM:+1000
TZOFFSETTO:+1000
TZNAME:AEST
DTSTART:20250101T000000
END:STANDARD
END:VTIMEZONE
BEGIN:VEVENT
DTSTART;VALUE=DATE:20260206
DTEND;VALUE=DATE:20260223
DTSTAMP:20260420T233255
CREATED:20260115T005857Z
LAST-MODIFIED:20260115T005857Z
UID:10020875-1770336000-1771804799@www.rainbowsportsclub.com.au
SUMMARY:WINTER OLYMPICS LIVE
DESCRIPTION:Join us to cheer on our fellow Australians as they take on the world
URL:https://www.rainbowsportsclub.com.au/event/winter-olympics-live/
LOCATION:Rainbow Beach Sports Club\, Turana St\, Rainbow Beach\, QLD\, 4581\, Australia
CATEGORIES:What's On
ATTACH;FMTTYPE=image/jpeg:https://www.rainbowsportsclub.com.au/wp-content/uploads/2026/01/LIVE-SPORT-Fusion-Winter-Olympics-scaled.jpg
END:VEVENT
BEGIN:VEVENT
DTSTART;TZID=Australia/Brisbane:20260222T170000
DTEND;TZID=Australia/Brisbane:20260222T200000
DTSTAMP:20260420T233255
CREATED:20260219T123400Z
LAST-MODIFIED:20260220T075505Z
UID:10021200-1771779600-1771790400@www.rainbowsportsclub.com.au
SUMMARY:GRAEME JENSEN live
DESCRIPTION:With the Levi Hanna Forever Fishing Classic presentations happening in our venue\, we’ve had to move our Sunday muso to another time slot\, so please join local favourite Graeme Jensen at the sports bar for a late afternoon to early evening of good music\, good company and great vibes from 5pm to 8pm
URL:https://www.rainbowsportsclub.com.au/event/graeme-jensen-live-3/
LOCATION:Rainbow Beach Sports Club\, Turana St\, Rainbow Beach\, QLD\, 4581\, Australia
CATEGORIES:What's On
ATTACH;FMTTYPE=image/jpeg:https://www.rainbowsportsclub.com.au/wp-content/uploads/2026/02/RBSC-SUNDAY-MUSIC-scaled.jpg
END:VEVENT
END:VCALENDAR