BEGIN:VCALENDAR
VERSION:2.0
PRODID:-//Rainbow Sports Club - ECPv6.15.17//NONSGML v1.0//EN
CALSCALE:GREGORIAN
METHOD:PUBLISH
X-ORIGINAL-URL:https://www.rainbowsportsclub.com.au
X-WR-CALDESC:Events for Rainbow Sports Club
REFRESH-INTERVAL;VALUE=DURATION:PT1H
X-Robots-Tag:noindex
X-PUBLISHED-TTL:PT1H
BEGIN:VTIMEZONE
TZID:Australia/Brisbane
BEGIN:STANDARD
TZOFFSETFROM:+1000
TZOFFSETTO:+1000
TZNAME:AEST
DTSTART:20250101T000000
END:STANDARD
END:VTIMEZONE
BEGIN:VEVENT
DTSTART;VALUE=DATE:20260403
DTEND;VALUE=DATE:20260420
DTSTAMP:20260423T025755
CREATED:20260313T083455Z
LAST-MODIFIED:20260412T025846Z
UID:10021497-1775174400-1776643199@www.rainbowsportsclub.com.au
SUMMARY:Adventure Passport
DESCRIPTION:BEACH BUDDIES is our kids membership for 15 & unders\, and one of the many benefits of being a Beach Buddy is free participation in our Adventure Passport program throughout school holidays \nWe set a series of challenges and tasks to choose from\, and every time a Beach Buddies ticks one off they earn a point or three towards being able to choose their own reward from tables chock full of options. And they can do this UP TO FOUR TIMES during any school holiday period !!! \nTheir Adventure Passports can be picked up from our reception in the foyer \nNot a Beach Buddy? Join today for only $5
URL:https://www.rainbowsportsclub.com.au/event/adventure-passport-3/
LOCATION:Rainbow Beach Sports Club\, Turana St\, Rainbow Beach\, QLD\, 4581\, Australia
CATEGORIES:Daily Promotions,Events,Family,Major Promotions,Special Events,What's On
ATTACH;FMTTYPE=image/jpeg:https://www.rainbowsportsclub.com.au/wp-content/uploads/2026/03/3rd-april-scaled.jpg
END:VEVENT
BEGIN:VEVENT
DTSTART;TZID=Australia/Brisbane:20260404T110000
DTEND;TZID=Australia/Brisbane:20260404T133000
DTSTAMP:20260423T025755
CREATED:20260313T085420Z
LAST-MODIFIED:20260313T085420Z
UID:10021498-1775300400-1775309400@www.rainbowsportsclub.com.au
SUMMARY:Kids Clever Bunny Easter Trivia
DESCRIPTION:Got yourself a clever little bunny in the house? Well\, bring them in and let them put those smarts to good use \nWe have a day of kids trivia planned and we’re giving away hundreds of dollars in chocolate eggs! \nEvery better\, every kid will win chocolate before\, and quite likely well before\, the questions end \nWe guarantee it’ll be fun and absolutely delicious \nIt’s only $10 to book them in\, so call us on 54863191 and secure their spot
URL:https://www.rainbowsportsclub.com.au/event/kids-clever-bunny-easter-trivia/
LOCATION:Rainbow Beach Sports Club\, Turana St\, Rainbow Beach\, QLD\, 4581\, Australia
CATEGORIES:Family,Special Events,What's On
ATTACH;FMTTYPE=image/jpeg:https://www.rainbowsportsclub.com.au/wp-content/uploads/2026/03/KIDS-Trivia-Clever-Bunny-scaled.jpg
END:VEVENT
BEGIN:VEVENT
DTSTART;TZID=Australia/Brisbane:20260404T193000
DTEND;TZID=Australia/Brisbane:20260404T223000
DTSTAMP:20260423T025755
CREATED:20260403T065142Z
LAST-MODIFIED:20260403T065142Z
UID:10021530-1775331000-1775341800@www.rainbowsportsclub.com.au
SUMMARY:JOEL MAK Live
DESCRIPTION:Local music icon Joel Mak is with us again Saturday night from 7.30pm to liven up your night out in all the right cords & keys. Don’t miss out
URL:https://www.rainbowsportsclub.com.au/event/joel-mak-live-7/
LOCATION:Rainbow Beach Sports Club\, Turana St\, Rainbow Beach\, QLD\, 4581\, Australia
CATEGORIES:What's On
ATTACH;FMTTYPE=image/jpeg:https://www.rainbowsportsclub.com.au/wp-content/uploads/2026/04/Saturday-Music-13.jpg
END:VEVENT
END:VCALENDAR