BEGIN:VCALENDAR
VERSION:2.0
PRODID:-//Rainbow Sports Club - ECPv6.15.17//NONSGML v1.0//EN
CALSCALE:GREGORIAN
METHOD:PUBLISH
X-ORIGINAL-URL:https://www.rainbowsportsclub.com.au
X-WR-CALDESC:Events for Rainbow Sports Club
REFRESH-INTERVAL;VALUE=DURATION:PT1H
X-Robots-Tag:noindex
X-PUBLISHED-TTL:PT1H
BEGIN:VTIMEZONE
TZID:Australia/Brisbane
BEGIN:STANDARD
TZOFFSETFROM:+1000
TZOFFSETTO:+1000
TZNAME:AEST
DTSTART:20250101T000000
END:STANDARD
END:VTIMEZONE
BEGIN:VEVENT
DTSTART;VALUE=DATE:20260425
DTEND;VALUE=DATE:20260426
DTSTAMP:20260424T190558
CREATED:20260419T084122Z
LAST-MODIFIED:20260421T030547Z
UID:10021547-1777075200-1777161599@www.rainbowsportsclub.com.au
SUMMARY:ANZAC DAY
DESCRIPTION:Following Anzac Day ceremonies\, our venue will be opening at 11.30am\, with no gaming or bottle shop sales until 1pm \n\nTwo-Up from 1pm\nLive entertainment with Bevan Spiers from 5pm\nFree lawn bowls\n\nJoin us for an afternoon of sports on Rainbow Beach’s biggest screen
URL:https://www.rainbowsportsclub.com.au/event/anzac-day/
LOCATION:Rainbow Beach Sports Club\, Turana St\, Rainbow Beach\, QLD\, 4581\, Australia
CATEGORIES:Special Events,What's On
ATTACH;FMTTYPE=image/jpeg:https://www.rainbowsportsclub.com.au/wp-content/uploads/2026/04/Anzac-Day-2026-3.jpg
END:VEVENT
BEGIN:VEVENT
DTSTART;TZID=Australia/Brisbane:20260425T170000
DTEND;TZID=Australia/Brisbane:20260425T200000
DTSTAMP:20260424T190558
CREATED:20260419T102353Z
LAST-MODIFIED:20260419T102353Z
UID:10021550-1777136400-1777147200@www.rainbowsportsclub.com.au
SUMMARY:BEVAN SPIERS Live
DESCRIPTION:Slight change to our usual live entertainment schedule with Bevan Spiers starting up at 5pm on Anzac Day
URL:https://www.rainbowsportsclub.com.au/event/bevan-spiers-live-2/
LOCATION:Rainbow Beach Sports Club\, Turana St\, Rainbow Beach\, QLD\, 4581\, Australia
CATEGORIES:What's On
ATTACH;FMTTYPE=image/jpeg:https://www.rainbowsportsclub.com.au/wp-content/uploads/2026/04/Saturday-Music-16.jpg
END:VEVENT
END:VCALENDAR