BEGIN:VCALENDAR
VERSION:2.0
PRODID:-//Rainbow Sports Club - ECPv6.15.17//NONSGML v1.0//EN
CALSCALE:GREGORIAN
METHOD:PUBLISH
X-ORIGINAL-URL:https://www.rainbowsportsclub.com.au
X-WR-CALDESC:Events for Rainbow Sports Club
REFRESH-INTERVAL;VALUE=DURATION:PT1H
X-Robots-Tag:noindex
X-PUBLISHED-TTL:PT1H
BEGIN:VTIMEZONE
TZID:Australia/Brisbane
BEGIN:STANDARD
TZOFFSETFROM:+1000
TZOFFSETTO:+1000
TZNAME:AEST
DTSTART:20240101T000000
END:STANDARD
END:VTIMEZONE
BEGIN:VEVENT
DTSTART;VALUE=DATE:20251215
DTEND;VALUE=DATE:20251216
DTSTAMP:20260420T073044
CREATED:20251113T222630Z
LAST-MODIFIED:20251113T222630Z
UID:10018490-1765756800-1765843199@www.rainbowsportsclub.com.au
SUMMARY:MEGA TOY GIVEAWAY
DESCRIPTION:Our Beach Buddies members are invited to swipe their card at the kiosk as they come into the venue to receive a Christmas gift from us 🙂 \nIf your kid/s isn’t a member yet\, not worries. Family of members are welcome to join up their kid/s – 15 & under – at any time so their kid/s can enjoy ongoing benefits like invitations to activities\, specials\, gifts\, discounts\, and plain old-fashioned fun \nBeach Buddies is all about them \nSee you here soon !!!
URL:https://www.rainbowsportsclub.com.au/event/mega-toy-giveaway/
LOCATION:Rainbow Beach Sports Club\, Turana St\, Rainbow Beach\, QLD\, 4581\, Australia
CATEGORIES:Events,Major Promotions,Special Events,What's On
ATTACH;FMTTYPE=image/jpeg:https://www.rainbowsportsclub.com.au/wp-content/uploads/2025/11/Rainbow-Mega-Toy-Giveaway_TVL.jpg
END:VEVENT
END:VCALENDAR