BEGIN:VCALENDAR
VERSION:2.0
PRODID:-//Rainbow Sports Club - ECPv6.15.17//NONSGML v1.0//EN
CALSCALE:GREGORIAN
METHOD:PUBLISH
X-WR-CALNAME:Rainbow Sports Club
X-ORIGINAL-URL:https://www.rainbowsportsclub.com.au
X-WR-CALDESC:Events for Rainbow Sports Club
REFRESH-INTERVAL;VALUE=DURATION:PT1H
X-Robots-Tag:noindex
X-PUBLISHED-TTL:PT1H
BEGIN:VTIMEZONE
TZID:Australia/Brisbane
BEGIN:STANDARD
TZOFFSETFROM:+1000
TZOFFSETTO:+1000
TZNAME:AEST
DTSTART:20230101T000000
END:STANDARD
END:VTIMEZONE
BEGIN:VEVENT
DTSTART;TZID=Australia/Brisbane:20241006T122000
DTEND;TZID=Australia/Brisbane:20241006T210000
DTSTAMP:20260421T151338
CREATED:20240919T074153Z
LAST-MODIFIED:20240919T074431Z
UID:10007114-1728217200-1728248400@www.rainbowsportsclub.com.au
SUMMARY:NRL GRAND FINAL
DESCRIPTION:Best place to be for a GRAND FINAL is a SPORTS CLUB. That’s just science. \nRainbow Beach Sports Club is upping their game with beverage specials\, 20 wings for $20\, and the BIG game on the BIG screen!
URL:https://www.rainbowsportsclub.com.au/event/nrl-grand-final/
LOCATION:Rainbow Beach Sports Club\, Turana St\, Rainbow Beach\, QLD\, 4581\, Australia
CATEGORIES:Daily Promotions,Events,Major Promotions,What's On
ATTACH;FMTTYPE=image/jpeg:https://www.rainbowsportsclub.com.au/wp-content/uploads/2024/09/Rainbow-Beach-Footy-Grand-Finals_VECTORS-480x272_03.jpg
END:VEVENT
BEGIN:VEVENT
DTSTART;TZID=Australia/Brisbane:20240928T143000
DTEND;TZID=Australia/Brisbane:20240928T210000
DTSTAMP:20260421T151338
CREATED:20240919T073753Z
LAST-MODIFIED:20240919T074600Z
UID:10007113-1727533800-1727557200@www.rainbowsportsclub.com.au
SUMMARY:AFL GRAND FINAL
DESCRIPTION:Best place to be for a GRAND FINAL is a SPORTS CLUB. That’s just science. \nRainbow Beach Sports Club is upping their game with beverage specials\, 20 wings for $20\, and the BIG game on the BIG screen!
URL:https://www.rainbowsportsclub.com.au/event/afl-grand-final/
LOCATION:Rainbow Beach Sports Club\, Turana St\, Rainbow Beach\, QLD\, 4581\, Australia
CATEGORIES:Daily Promotions,Events,Major Promotions,What's On
ATTACH;FMTTYPE=image/jpeg:https://www.rainbowsportsclub.com.au/wp-content/uploads/2024/09/Rainbow-Beach-Footy-Grand-Finals_VECTORS-480x272_03.jpg
END:VEVENT
BEGIN:VEVENT
DTSTART;TZID=Australia/Brisbane:20240829T173000
DTEND;TZID=Australia/Brisbane:20240829T210000
DTSTAMP:20260421T151338
CREATED:20240815T024442Z
LAST-MODIFIED:20240815T025120Z
UID:10006524-1724952600-1724965200@www.rainbowsportsclub.com.au
SUMMARY:CHINESE BUFFET
DESCRIPTION:FOR ONE NIGHT ONLY you have the opportunity to spoil yourself over & over again with our ALL YOU CAN EAT \nChinese Buffet\, including all your favourites. \nHoney Sesame Chicken \nSweet & Sour Pork \nMongolian Lamb \nAdults $34.90 | Kids 5-12 $14.90|Babes Under 5 FREE\n(Members pricing – non members add $2) \nBookings ESSENTIAL – Click here to secure your spot!
URL:https://www.rainbowsportsclub.com.au/event/chinese-buffet/
LOCATION:Rainbow Beach Sports Club\, Turana St\, Rainbow Beach\, QLD\, 4581\, Australia
CATEGORIES:What's On
ATTACH;FMTTYPE=image/jpeg:https://www.rainbowsportsclub.com.au/wp-content/uploads/2024/08/Rainbow-Beach-Chinese-Buffet_V-1.jpg
END:VEVENT
BEGIN:VEVENT
DTSTART;TZID=Australia/Brisbane:20240822T190000
DTEND;TZID=Australia/Brisbane:20240822T220000
DTSTAMP:20260421T151338
CREATED:20240709T224920Z
LAST-MODIFIED:20250120T032408Z
UID:10006497-1724353200-1724364000@www.rainbowsportsclub.com.au
SUMMARY:Thursday Trivia
DESCRIPTION:Looking for a fun team activity to do? Thursdays are Trivia Nights at Rainbow Beach Sports Club! \nGather your team and register for free from 6pm for your chance to win some great prizes. \nTrivia kicks off at 7pm – so make sure to be ready!
URL:https://www.rainbowsportsclub.com.au/event/thursday-trivia/2024-08-22/
LOCATION:Rainbow Beach Sports Club\, Turana St\, Rainbow Beach\, QLD\, 4581\, Australia
CATEGORIES:Events,What's On
END:VEVENT
BEGIN:VEVENT
DTSTART;TZID=Australia/Brisbane:20240815T190000
DTEND;TZID=Australia/Brisbane:20240815T220000
DTSTAMP:20260421T151338
CREATED:20240709T224920Z
LAST-MODIFIED:20250120T032408Z
UID:10006496-1723748400-1723759200@www.rainbowsportsclub.com.au
SUMMARY:Thursday Trivia
DESCRIPTION:Looking for a fun team activity to do? Thursdays are Trivia Nights at Rainbow Beach Sports Club! \nGather your team and register for free from 6pm for your chance to win some great prizes. \nTrivia kicks off at 7pm – so make sure to be ready!
URL:https://www.rainbowsportsclub.com.au/event/thursday-trivia/2024-08-15/
LOCATION:Rainbow Beach Sports Club\, Turana St\, Rainbow Beach\, QLD\, 4581\, Australia
CATEGORIES:Events,What's On
END:VEVENT
BEGIN:VEVENT
DTSTART;TZID=Australia/Brisbane:20240808T190000
DTEND;TZID=Australia/Brisbane:20240808T220000
DTSTAMP:20260421T151338
CREATED:20240709T224920Z
LAST-MODIFIED:20250120T032408Z
UID:10006495-1723143600-1723154400@www.rainbowsportsclub.com.au
SUMMARY:Thursday Trivia
DESCRIPTION:Looking for a fun team activity to do? Thursdays are Trivia Nights at Rainbow Beach Sports Club! \nGather your team and register for free from 6pm for your chance to win some great prizes. \nTrivia kicks off at 7pm – so make sure to be ready!
URL:https://www.rainbowsportsclub.com.au/event/thursday-trivia/2024-08-08/
LOCATION:Rainbow Beach Sports Club\, Turana St\, Rainbow Beach\, QLD\, 4581\, Australia
CATEGORIES:Events,What's On
END:VEVENT
BEGIN:VEVENT
DTSTART;TZID=Australia/Brisbane:20240801T190000
DTEND;TZID=Australia/Brisbane:20240801T220000
DTSTAMP:20260421T151338
CREATED:20240709T224920Z
LAST-MODIFIED:20250120T032408Z
UID:10006494-1722538800-1722549600@www.rainbowsportsclub.com.au
SUMMARY:Thursday Trivia
DESCRIPTION:Looking for a fun team activity to do? Thursdays are Trivia Nights at Rainbow Beach Sports Club! \nGather your team and register for free from 6pm for your chance to win some great prizes. \nTrivia kicks off at 7pm – so make sure to be ready!
URL:https://www.rainbowsportsclub.com.au/event/thursday-trivia/2024-08-01/
LOCATION:Rainbow Beach Sports Club\, Turana St\, Rainbow Beach\, QLD\, 4581\, Australia
CATEGORIES:Events,What's On
END:VEVENT
BEGIN:VEVENT
DTSTART;TZID=Australia/Brisbane:20240725T190000
DTEND;TZID=Australia/Brisbane:20240725T220000
DTSTAMP:20260421T151338
CREATED:20240709T224920Z
LAST-MODIFIED:20250120T032408Z
UID:10006493-1721934000-1721944800@www.rainbowsportsclub.com.au
SUMMARY:Thursday Trivia
DESCRIPTION:Looking for a fun team activity to do? Thursdays are Trivia Nights at Rainbow Beach Sports Club! \nGather your team and register for free from 6pm for your chance to win some great prizes. \nTrivia kicks off at 7pm – so make sure to be ready!
URL:https://www.rainbowsportsclub.com.au/event/thursday-trivia/2024-07-25/
LOCATION:Rainbow Beach Sports Club\, Turana St\, Rainbow Beach\, QLD\, 4581\, Australia
CATEGORIES:Events,What's On
END:VEVENT
BEGIN:VEVENT
DTSTART;TZID=Australia/Brisbane:20240718T190000
DTEND;TZID=Australia/Brisbane:20240718T220000
DTSTAMP:20260421T151338
CREATED:20240709T224920Z
LAST-MODIFIED:20250120T032408Z
UID:10006492-1721329200-1721340000@www.rainbowsportsclub.com.au
SUMMARY:Thursday Trivia
DESCRIPTION:Looking for a fun team activity to do? Thursdays are Trivia Nights at Rainbow Beach Sports Club! \nGather your team and register for free from 6pm for your chance to win some great prizes. \nTrivia kicks off at 7pm – so make sure to be ready!
URL:https://www.rainbowsportsclub.com.au/event/thursday-trivia/2024-07-18/
LOCATION:Rainbow Beach Sports Club\, Turana St\, Rainbow Beach\, QLD\, 4581\, Australia
CATEGORIES:Events,What's On
END:VEVENT
BEGIN:VEVENT
DTSTART;TZID=Australia/Brisbane:20240711T190000
DTEND;TZID=Australia/Brisbane:20240711T220000
DTSTAMP:20260421T151338
CREATED:20240709T224920Z
LAST-MODIFIED:20250120T032408Z
UID:10006491-1720724400-1720735200@www.rainbowsportsclub.com.au
SUMMARY:Thursday Trivia
DESCRIPTION:Looking for a fun team activity to do? Thursdays are Trivia Nights at Rainbow Beach Sports Club! \nGather your team and register for free from 6pm for your chance to win some great prizes. \nTrivia kicks off at 7pm – so make sure to be ready!
URL:https://www.rainbowsportsclub.com.au/event/thursday-trivia/2024-07-11/
LOCATION:Rainbow Beach Sports Club\, Turana St\, Rainbow Beach\, QLD\, 4581\, Australia
CATEGORIES:Events,What's On
END:VEVENT
END:VCALENDAR