BEGIN:VCALENDAR
VERSION:2.0
PRODID:-//Rainbow Sports Club - ECPv6.15.17//NONSGML v1.0//EN
CALSCALE:GREGORIAN
METHOD:PUBLISH
X-ORIGINAL-URL:https://www.rainbowsportsclub.com.au
X-WR-CALDESC:Events for Rainbow Sports Club
REFRESH-INTERVAL;VALUE=DURATION:PT1H
X-Robots-Tag:noindex
X-PUBLISHED-TTL:PT1H
BEGIN:VTIMEZONE
TZID:Australia/Brisbane
BEGIN:STANDARD
TZOFFSETFROM:+1000
TZOFFSETTO:+1000
TZNAME:AEST
DTSTART:20250101T000000
END:STANDARD
END:VTIMEZONE
BEGIN:VEVENT
DTSTART;TZID=Australia/Brisbane:20260215T193000
DTEND;TZID=Australia/Brisbane:20260215T223000
DTSTAMP:20260421T145340
CREATED:20260204T210448Z
LAST-MODIFIED:20260212T000033Z
UID:10021184-1771183800-1771194600@www.rainbowsportsclub.com.au
SUMMARY:Nick Rolfe LIVE
DESCRIPTION:Sunday afternoon is set to be vibing with Nick Rolfe in the sports bar from 1pm
URL:https://www.rainbowsportsclub.com.au/event/aspy-jones-live/
LOCATION:Rainbow Beach Sports Club\, Turana St\, Rainbow Beach\, QLD\, 4581\, Australia
CATEGORIES:What's On
ATTACH;FMTTYPE=image/jpeg:https://www.rainbowsportsclub.com.au/wp-content/uploads/2026/02/Sunday-Arvo-Music-4-scaled.jpg
END:VEVENT
BEGIN:VEVENT
DTSTART;TZID=Australia/Brisbane:20260217T173000
DTEND;TZID=Australia/Brisbane:20260217T200000
DTSTAMP:20260421T145340
CREATED:20260114T012207Z
LAST-MODIFIED:20260204T203750Z
UID:10020871-1771349400-1771358400@www.rainbowsportsclub.com.au
SUMMARY:MEMBERS NIGHT All-You-Can-Eat Chinese Buffet
DESCRIPTION:Join us for a very special Members Night to not only celebrate Chinese New Year with an All You Can Eat Chinese Buffet\, but to give away a whole heap of cash \nDishes will include Lemon Chicken\, Beef & Black Bean\, Fried Rice\, Sweet & Sour Pork\, Mongolian Lamb\, & loads more of your favourites \nWhile you’re filling your bellies\, our Members Draw will be looking for 3 people IN THE VENUE to give $1000 cash to…each. Guaranteed \nBookings are essential\, so call us on 54863191 or go to our website to book to secure your table\, or see our team at reception \nAdults $37       Kids 5-12 $13       Kids Under 5 FREE
URL:https://www.rainbowsportsclub.com.au/event/all-you-can-eat-chinese-buffet/
LOCATION:Rainbow Beach Sports Club\, Turana St\, Rainbow Beach\, QLD\, 4581\, Australia
CATEGORIES:Meal specials,Special Events,What's On
ATTACH;FMTTYPE=image/jpeg:https://www.rainbowsportsclub.com.au/wp-content/uploads/2026/01/Chinese-Buffet-5.30pm-1-scaled.jpg
END:VEVENT
BEGIN:VEVENT
DTSTART;TZID=Australia/Brisbane:20260217T200000
DTEND;TZID=Australia/Brisbane:20260217T210000
DTSTAMP:20260421T145340
CREATED:20260105T230234Z
LAST-MODIFIED:20260105T230234Z
UID:10020596-1771358400-1771362000@www.rainbowsportsclub.com.au
SUMMARY:MUSIC BINGO
DESCRIPTION:Listen to 30 seconds of a song and figure out the title\, then see if you can cross it off your game sheet. Call ‘BINGO!’ before anyone else. Win a prize. \nIt’s that simple\, and it’s a lot of fun. Also\, FREE to participate
URL:https://www.rainbowsportsclub.com.au/event/music-bingo-3/2026-02-17/
LOCATION:Rainbow Beach Sports Club\, Turana St\, Rainbow Beach\, QLD\, 4581\, Australia
CATEGORIES:What's On
ATTACH;FMTTYPE=image/jpeg:https://www.rainbowsportsclub.com.au/wp-content/uploads/2025/12/music-bingo-envelope-3-1.jpg
END:VEVENT
BEGIN:VEVENT
DTSTART;TZID=Australia/Brisbane:20260219T190000
DTEND;TZID=Australia/Brisbane:20260219T210000
DTSTAMP:20260421T145340
CREATED:20260115T192941Z
LAST-MODIFIED:20260313T085528Z
UID:10017148-1771527600-1771534800@www.rainbowsportsclub.com.au
SUMMARY:Thursday Trivia
DESCRIPTION:Whether to underline your know-it-all status\, or the opportunity to win some great prizes\, we’ve got the perfect excuse to drink\, laugh\, and show off your vast knowledge of useless information to your friends. \nArrive early to nab the best tables and nominate your team name. \nThe first round kicks off at 7pm 😀 \nPrizes for each of six rounds for teams of 1 to 4 players. \nFree to play. \nBe sure to bring your sense of humour
URL:https://www.rainbowsportsclub.com.au/event/thursday-trivia-2-3/2026-02-19/
LOCATION:Rainbow Beach Sports Club\, Turana St\, Rainbow Beach\, QLD\, 4581\, Australia
CATEGORIES:Events,What's On
ATTACH;FMTTYPE=image/jpeg:https://www.rainbowsportsclub.com.au/wp-content/uploads/2026/03/04032026004424-RBS-20-RainbowBeach-Trivia_TVL.jpg
END:VEVENT
BEGIN:VEVENT
DTSTART;TZID=Australia/Brisbane:20260220T193000
DTEND;TZID=Australia/Brisbane:20260220T223000
DTSTAMP:20260421T145340
CREATED:20260219T124157Z
LAST-MODIFIED:20260220T075553Z
UID:10021201-1771615800-1771626600@www.rainbowsportsclub.com.au
SUMMARY:SIMON MEOLA live
DESCRIPTION:Friday nights are always EPIC at the Rainbow Beach Sports Club\, and what better way to ramp up those vibes than to ask Simon Meola to provide the sounds
URL:https://www.rainbowsportsclub.com.au/event/simon-meola-live/
LOCATION:Rainbow Beach Sports Club\, Turana St\, Rainbow Beach\, QLD\, 4581\, Australia
CATEGORIES:What's On
ATTACH;FMTTYPE=image/jpeg:https://www.rainbowsportsclub.com.au/wp-content/uploads/2026/02/RBSC-FRIDAY-MUSIC-6-scaled.jpg
END:VEVENT
BEGIN:VEVENT
DTSTART;TZID=Australia/Brisbane:20260222T170000
DTEND;TZID=Australia/Brisbane:20260222T200000
DTSTAMP:20260421T145340
CREATED:20260219T123400Z
LAST-MODIFIED:20260220T075505Z
UID:10021200-1771779600-1771790400@www.rainbowsportsclub.com.au
SUMMARY:GRAEME JENSEN live
DESCRIPTION:With the Levi Hanna Forever Fishing Classic presentations happening in our venue\, we’ve had to move our Sunday muso to another time slot\, so please join local favourite Graeme Jensen at the sports bar for a late afternoon to early evening of good music\, good company and great vibes from 5pm to 8pm
URL:https://www.rainbowsportsclub.com.au/event/graeme-jensen-live-3/
LOCATION:Rainbow Beach Sports Club\, Turana St\, Rainbow Beach\, QLD\, 4581\, Australia
CATEGORIES:What's On
ATTACH;FMTTYPE=image/jpeg:https://www.rainbowsportsclub.com.au/wp-content/uploads/2026/02/RBSC-SUNDAY-MUSIC-scaled.jpg
END:VEVENT
BEGIN:VEVENT
DTSTART;VALUE=DATE:20260223
DTEND;VALUE=DATE:20260224
DTSTAMP:20260421T145340
CREATED:20260222T061159Z
LAST-MODIFIED:20260222T061259Z
UID:10021205-1771804800-1771891199@www.rainbowsportsclub.com.au
SUMMARY:SEAFOOD BOWLS DAY
DESCRIPTION:
URL:https://www.rainbowsportsclub.com.au/event/seafood-bowls-day/
LOCATION:Rainbow Beach Sports Club\, Turana St\, Rainbow Beach\, QLD\, 4581\, Australia
CATEGORIES:Special Events,What's On
ATTACH;FMTTYPE=image/jpeg:https://www.rainbowsportsclub.com.au/wp-content/uploads/2026/02/seafood-bowls-day-1-scaled.jpg
END:VEVENT
BEGIN:VEVENT
DTSTART;TZID=Australia/Brisbane:20260224T200000
DTEND;TZID=Australia/Brisbane:20260224T210000
DTSTAMP:20260421T145340
CREATED:20260105T230234Z
LAST-MODIFIED:20260105T230234Z
UID:10020597-1771963200-1771966800@www.rainbowsportsclub.com.au
SUMMARY:MUSIC BINGO
DESCRIPTION:Listen to 30 seconds of a song and figure out the title\, then see if you can cross it off your game sheet. Call ‘BINGO!’ before anyone else. Win a prize. \nIt’s that simple\, and it’s a lot of fun. Also\, FREE to participate
URL:https://www.rainbowsportsclub.com.au/event/music-bingo-3/2026-02-24/
LOCATION:Rainbow Beach Sports Club\, Turana St\, Rainbow Beach\, QLD\, 4581\, Australia
CATEGORIES:What's On
ATTACH;FMTTYPE=image/jpeg:https://www.rainbowsportsclub.com.au/wp-content/uploads/2025/12/music-bingo-envelope-3-1.jpg
END:VEVENT
BEGIN:VEVENT
DTSTART;TZID=Australia/Brisbane:20260226T190000
DTEND;TZID=Australia/Brisbane:20260226T210000
DTSTAMP:20260421T145340
CREATED:20260115T192941Z
LAST-MODIFIED:20260313T085528Z
UID:10017149-1772132400-1772139600@www.rainbowsportsclub.com.au
SUMMARY:Thursday Trivia
DESCRIPTION:Whether to underline your know-it-all status\, or the opportunity to win some great prizes\, we’ve got the perfect excuse to drink\, laugh\, and show off your vast knowledge of useless information to your friends. \nArrive early to nab the best tables and nominate your team name. \nThe first round kicks off at 7pm 😀 \nPrizes for each of six rounds for teams of 1 to 4 players. \nFree to play. \nBe sure to bring your sense of humour
URL:https://www.rainbowsportsclub.com.au/event/thursday-trivia-2-3/2026-02-26/
LOCATION:Rainbow Beach Sports Club\, Turana St\, Rainbow Beach\, QLD\, 4581\, Australia
CATEGORIES:Events,What's On
ATTACH;FMTTYPE=image/jpeg:https://www.rainbowsportsclub.com.au/wp-content/uploads/2026/03/04032026004424-RBS-20-RainbowBeach-Trivia_TVL.jpg
END:VEVENT
BEGIN:VEVENT
DTSTART;TZID=Australia/Brisbane:20260227T193000
DTEND;TZID=Australia/Brisbane:20260227T223000
DTSTAMP:20260421T145340
CREATED:20260227T064347Z
LAST-MODIFIED:20260227T064430Z
UID:10021211-1772220600-1772231400@www.rainbowsportsclub.com.au
SUMMARY:AARON WESTLAKE Live
DESCRIPTION:Aaron Westlake will take the stage at 7.30pm
URL:https://www.rainbowsportsclub.com.au/event/aaron-westlake-live/
LOCATION:Rainbow Beach Sports Club\, Turana St\, Rainbow Beach\, QLD\, 4581\, Australia
CATEGORIES:What's On
ATTACH;FMTTYPE=image/jpeg:https://www.rainbowsportsclub.com.au/wp-content/uploads/2026/02/RBSC-FRIDAY-MUSIC-5-scaled.jpg
END:VEVENT
BEGIN:VEVENT
DTSTART;TZID=Australia/Brisbane:20260228T193000
DTEND;TZID=Australia/Brisbane:20260228T223000
DTSTAMP:20260421T145340
CREATED:20260227T064551Z
LAST-MODIFIED:20260227T064551Z
UID:10021212-1772307000-1772317800@www.rainbowsportsclub.com.au
SUMMARY:JUNCTION ROAD Live
DESCRIPTION:Junction Road will be entertaining patrons from 7.30pm
URL:https://www.rainbowsportsclub.com.au/event/junction-road-live-2/
LOCATION:Rainbow Beach Sports Club\, Turana St\, Rainbow Beach\, QLD\, 4581\, Australia
CATEGORIES:What's On
ATTACH;FMTTYPE=image/jpeg:https://www.rainbowsportsclub.com.au/wp-content/uploads/2026/02/Saturday-Music-7-scaled.jpg
END:VEVENT
BEGIN:VEVENT
DTSTART;VALUE=DATE:20260301
DTEND;VALUE=DATE:20260401
DTSTAMP:20260421T145340
CREATED:20260222T033930Z
LAST-MODIFIED:20260301T084339Z
UID:10021203-1772323200-1775001599@www.rainbowsportsclub.com.au
SUMMARY:Split the G
DESCRIPTION:As we all know\, St Patricks Day is synonymous with Guinness\, but we think it deserves a whole month 🙂 Split the G all March
URL:https://www.rainbowsportsclub.com.au/event/split-the-g/
LOCATION:Rainbow Beach Sports Club\, Turana St\, Rainbow Beach\, QLD\, 4581\, Australia
CATEGORIES:Special Events,What's On
ATTACH;FMTTYPE=image/jpeg:https://www.rainbowsportsclub.com.au/wp-content/uploads/2026/02/Guinness-March-1-scaled.jpg
END:VEVENT
BEGIN:VEVENT
DTSTART;TZID=Australia/Brisbane:20260301T130000
DTEND;TZID=Australia/Brisbane:20260301T160000
DTSTAMP:20260421T145340
CREATED:20260227T064736Z
LAST-MODIFIED:20260228T011059Z
UID:10021213-1772370000-1772380800@www.rainbowsportsclub.com.au
SUMMARY:JOEL MAK Live
DESCRIPTION:Joel Mak will hit all the right notes Sunday afternoon
URL:https://www.rainbowsportsclub.com.au/event/joel-mak-live-5/
LOCATION:Rainbow Beach Sports Club\, Turana St\, Rainbow Beach\, QLD\, 4581\, Australia
CATEGORIES:What's On
ATTACH;FMTTYPE=image/jpeg:https://www.rainbowsportsclub.com.au/wp-content/uploads/2026/02/Sunday-Arvo-Music-6-scaled.jpg
END:VEVENT
BEGIN:VEVENT
DTSTART;TZID=Australia/Brisbane:20260304T110000
DTEND;TZID=Australia/Brisbane:20260304T140000
DTSTAMP:20260421T145340
CREATED:20260116T055216Z
LAST-MODIFIED:20260204T225346Z
UID:10020882-1772622000-1772632800@www.rainbowsportsclub.com.au
SUMMARY:MORNING MELODIES
DESCRIPTION:On the first Wednesday of every month\, we invite a popular local musician to host our Morning Melodies \nMorning Melodies is a lovely 3 hours of singing along\, or just soaking up the music\, and includes lunch and a lucky door prize \nSince first introducing this activity several months ago it’s grown in popularity and is a great experience for participants\, hosts and our team \nWe look forward to hearing you there
URL:https://www.rainbowsportsclub.com.au/event/morning-melodies-4/
LOCATION:Rainbow Beach Sports Club\, Turana St\, Rainbow Beach\, QLD\, 4581\, Australia
CATEGORIES:Special Events,What's On
ATTACH;FMTTYPE=image/jpeg:https://www.rainbowsportsclub.com.au/wp-content/uploads/2026/01/morning-melodies--scaled.jpg
END:VEVENT
BEGIN:VEVENT
DTSTART;TZID=Australia/Brisbane:20260305T190000
DTEND;TZID=Australia/Brisbane:20260305T210000
DTSTAMP:20260421T145340
CREATED:20260115T192941Z
LAST-MODIFIED:20260313T085528Z
UID:10017150-1772737200-1772744400@www.rainbowsportsclub.com.au
SUMMARY:Thursday Trivia
DESCRIPTION:Whether to underline your know-it-all status\, or the opportunity to win some great prizes\, we’ve got the perfect excuse to drink\, laugh\, and show off your vast knowledge of useless information to your friends. \nArrive early to nab the best tables and nominate your team name. \nThe first round kicks off at 7pm 😀 \nPrizes for each of six rounds for teams of 1 to 4 players. \nFree to play. \nBe sure to bring your sense of humour
URL:https://www.rainbowsportsclub.com.au/event/thursday-trivia-2-3/2026-03-05/
LOCATION:Rainbow Beach Sports Club\, Turana St\, Rainbow Beach\, QLD\, 4581\, Australia
CATEGORIES:Events,What's On
ATTACH;FMTTYPE=image/jpeg:https://www.rainbowsportsclub.com.au/wp-content/uploads/2026/03/04032026004424-RBS-20-RainbowBeach-Trivia_TVL.jpg
END:VEVENT
BEGIN:VEVENT
DTSTART;TZID=Australia/Brisbane:20260306T193000
DTEND;TZID=Australia/Brisbane:20260306T223000
DTSTAMP:20260421T145340
CREATED:20260305T222307Z
LAST-MODIFIED:20260305T222307Z
UID:10021483-1772825400-1772836200@www.rainbowsportsclub.com.au
SUMMARY:KARL MCLEAN Live
DESCRIPTION:Karl McLean is back again to perform in the sports bar from 7.30pm
URL:https://www.rainbowsportsclub.com.au/event/karl-mclean-live-2/
LOCATION:Rainbow Beach Sports Club\, Turana St\, Rainbow Beach\, QLD\, 4581\, Australia
CATEGORIES:What's On
ATTACH;FMTTYPE=image/jpeg:https://www.rainbowsportsclub.com.au/wp-content/uploads/2026/03/RBSC-FRIDAY-MUSIC-7-scaled.jpg
END:VEVENT
BEGIN:VEVENT
DTSTART;TZID=Australia/Brisbane:20260307T193000
DTEND;TZID=Australia/Brisbane:20260307T223000
DTSTAMP:20260421T145340
CREATED:20260305T222534Z
LAST-MODIFIED:20260305T222534Z
UID:10021484-1772911800-1772922600@www.rainbowsportsclub.com.au
SUMMARY:MITCH PETERS Live
DESCRIPTION:Mitch Peters will be rocking the venue foundations from 7.30pm
URL:https://www.rainbowsportsclub.com.au/event/mitch-peters-live-2/
LOCATION:Rainbow Beach Sports Club\, Turana St\, Rainbow Beach\, QLD\, 4581\, Australia
CATEGORIES:What's On
ATTACH;FMTTYPE=image/jpeg:https://www.rainbowsportsclub.com.au/wp-content/uploads/2026/03/Saturday-Music-9-scaled.jpg
END:VEVENT
BEGIN:VEVENT
DTSTART;VALUE=DATE:20260308
DTEND;VALUE=DATE:20260309
DTSTAMP:20260421T145340
CREATED:20260222T060628Z
LAST-MODIFIED:20260222T061340Z
UID:10021204-1772928000-1773014399@www.rainbowsportsclub.com.au
SUMMARY:INTERNATIONAL WOMENS DAY
DESCRIPTION:
URL:https://www.rainbowsportsclub.com.au/event/international-womens-day/
LOCATION:Rainbow Beach Sports Club\, Turana St\, Rainbow Beach\, QLD\, 4581\, Australia
CATEGORIES:Special Events,What's On
ATTACH;FMTTYPE=image/jpeg:https://www.rainbowsportsclub.com.au/wp-content/uploads/2026/02/proudly-supports-scaled.jpg
END:VEVENT
BEGIN:VEVENT
DTSTART;TZID=Australia/Brisbane:20260308T120000
DTEND;TZID=Australia/Brisbane:20260308T150000
DTSTAMP:20260421T145340
CREATED:20260305T223023Z
LAST-MODIFIED:20260305T223023Z
UID:10021485-1772971200-1772982000@www.rainbowsportsclub.com.au
SUMMARY:BRAD TURNER Live
DESCRIPTION:Brad Turner is set to turn a lazy Sunday afternoon into a great vibe \nNOTE: To fit in with footy kickoff Brad will start his set from midday
URL:https://www.rainbowsportsclub.com.au/event/brad-turner-live-2/
LOCATION:Rainbow Beach Sports Club\, Turana St\, Rainbow Beach\, QLD\, 4581\, Australia
CATEGORIES:What's On
ATTACH;FMTTYPE=image/jpeg:https://www.rainbowsportsclub.com.au/wp-content/uploads/2026/03/Sunday-Arvo-Music-7-scaled.jpg
END:VEVENT
BEGIN:VEVENT
DTSTART;TZID=Australia/Brisbane:20260312T190000
DTEND;TZID=Australia/Brisbane:20260312T210000
DTSTAMP:20260421T145340
CREATED:20260115T192941Z
LAST-MODIFIED:20260313T085528Z
UID:10017151-1773342000-1773349200@www.rainbowsportsclub.com.au
SUMMARY:Thursday Trivia
DESCRIPTION:Whether to underline your know-it-all status\, or the opportunity to win some great prizes\, we’ve got the perfect excuse to drink\, laugh\, and show off your vast knowledge of useless information to your friends. \nArrive early to nab the best tables and nominate your team name. \nThe first round kicks off at 7pm 😀 \nPrizes for each of six rounds for teams of 1 to 4 players. \nFree to play. \nBe sure to bring your sense of humour
URL:https://www.rainbowsportsclub.com.au/event/thursday-trivia-2-3/2026-03-12/
LOCATION:Rainbow Beach Sports Club\, Turana St\, Rainbow Beach\, QLD\, 4581\, Australia
CATEGORIES:Events,What's On
ATTACH;FMTTYPE=image/jpeg:https://www.rainbowsportsclub.com.au/wp-content/uploads/2026/03/04032026004424-RBS-20-RainbowBeach-Trivia_TVL.jpg
END:VEVENT
BEGIN:VEVENT
DTSTART;TZID=Australia/Brisbane:20260313T193000
DTEND;TZID=Australia/Brisbane:20260313T223000
DTSTAMP:20260421T145340
CREATED:20260313T080727Z
LAST-MODIFIED:20260313T080727Z
UID:10021491-1773430200-1773441000@www.rainbowsportsclub.com.au
SUMMARY:GRAEME JENSEN Live
DESCRIPTION:Graeme Jensen has been a regional favourite ever since he entered stage left onto a local stage with his popular brand of great music and good humour
URL:https://www.rainbowsportsclub.com.au/event/graeme-jensen-live-4/
LOCATION:Rainbow Beach Sports Club\, Turana St\, Rainbow Beach\, QLD\, 4581\, Australia
CATEGORIES:What's On
ATTACH;FMTTYPE=image/jpeg:https://www.rainbowsportsclub.com.au/wp-content/uploads/2026/03/RBSC-FRIDAY-MUSIC-8-scaled.jpg
END:VEVENT
BEGIN:VEVENT
DTSTART;TZID=Australia/Brisbane:20260314T193000
DTEND;TZID=Australia/Brisbane:20260314T223000
DTSTAMP:20260421T145340
CREATED:20260313T080919Z
LAST-MODIFIED:20260313T080919Z
UID:10021492-1773516600-1773527400@www.rainbowsportsclub.com.au
SUMMARY:BRAD TURNER Live
DESCRIPTION:Brad Turner has been turning appreciate ears since he pulled up a stool and began singing for members & guests\, and we’re always thrilled to welcome him back to the venue
URL:https://www.rainbowsportsclub.com.au/event/brad-turner-live-3/
LOCATION:Rainbow Beach Sports Club\, Turana St\, Rainbow Beach\, QLD\, 4581\, Australia
CATEGORIES:What's On
ATTACH;FMTTYPE=image/jpeg:https://www.rainbowsportsclub.com.au/wp-content/uploads/2026/03/Saturday-Music-10-scaled.jpg
END:VEVENT
BEGIN:VEVENT
DTSTART;TZID=Australia/Brisbane:20260315T130000
DTEND;TZID=Australia/Brisbane:20260315T150000
DTSTAMP:20260421T145340
CREATED:20260313T081059Z
LAST-MODIFIED:20260313T081059Z
UID:10021493-1773579600-1773586800@www.rainbowsportsclub.com.au
SUMMARY:JOEL MAK Live
DESCRIPTION:Joel Mak’s brand of music is well appreciated by our Sunday crowd looking for a smooth exit to the weekend before another big week
URL:https://www.rainbowsportsclub.com.au/event/joel-mak-live-6/
LOCATION:Rainbow Beach Sports Club\, Turana St\, Rainbow Beach\, QLD\, 4581\, Australia
CATEGORIES:What's On
ATTACH;FMTTYPE=image/jpeg:https://www.rainbowsportsclub.com.au/wp-content/uploads/2026/03/Sunday-Arvo-Music-8-scaled.jpg
END:VEVENT
BEGIN:VEVENT
DTSTART;TZID=Australia/Brisbane:20260319T190000
DTEND;TZID=Australia/Brisbane:20260319T210000
DTSTAMP:20260421T145340
CREATED:20260115T192941Z
LAST-MODIFIED:20260313T085528Z
UID:10017152-1773946800-1773954000@www.rainbowsportsclub.com.au
SUMMARY:Thursday Trivia
DESCRIPTION:Whether to underline your know-it-all status\, or the opportunity to win some great prizes\, we’ve got the perfect excuse to drink\, laugh\, and show off your vast knowledge of useless information to your friends. \nArrive early to nab the best tables and nominate your team name. \nThe first round kicks off at 7pm 😀 \nPrizes for each of six rounds for teams of 1 to 4 players. \nFree to play. \nBe sure to bring your sense of humour
URL:https://www.rainbowsportsclub.com.au/event/thursday-trivia-2-3/2026-03-19/
LOCATION:Rainbow Beach Sports Club\, Turana St\, Rainbow Beach\, QLD\, 4581\, Australia
CATEGORIES:Events,What's On
ATTACH;FMTTYPE=image/jpeg:https://www.rainbowsportsclub.com.au/wp-content/uploads/2026/03/04032026004424-RBS-20-RainbowBeach-Trivia_TVL.jpg
END:VEVENT
BEGIN:VEVENT
DTSTART;TZID=Australia/Brisbane:20260320T193000
DTEND;TZID=Australia/Brisbane:20260320T223000
DTSTAMP:20260421T145340
CREATED:20260320T074020Z
LAST-MODIFIED:20260320T074020Z
UID:10021509-1774035000-1774045800@www.rainbowsportsclub.com.au
SUMMARY:SIMON MEOLA Live
DESCRIPTION:Join us in the sports bar after raffles are drawn for an evening with Simon Meola as he performs and entertains members & guests
URL:https://www.rainbowsportsclub.com.au/event/simon-meola-live-2/
LOCATION:Rainbow Beach Sports Club\, Turana St\, Rainbow Beach\, QLD\, 4581\, Australia
CATEGORIES:What's On
ATTACH;FMTTYPE=image/jpeg:https://www.rainbowsportsclub.com.au/wp-content/uploads/2026/03/RBSC-FRIDAY-MUSIC-9-scaled.jpg
END:VEVENT
BEGIN:VEVENT
DTSTART;TZID=Australia/Brisbane:20260321T073000
DTEND;TZID=Australia/Brisbane:20260321T223000
DTSTAMP:20260421T145340
CREATED:20260320T074143Z
LAST-MODIFIED:20260320T074143Z
UID:10021510-1774078200-1774132200@www.rainbowsportsclub.com.au
SUMMARY:GEORGIA BLUE Live
DESCRIPTION:Georgia Blue is back for another night of great music in the sports bar
URL:https://www.rainbowsportsclub.com.au/event/georgia-blue-live/
LOCATION:Rainbow Beach Sports Club\, Turana St\, Rainbow Beach\, QLD\, 4581\, Australia
CATEGORIES:What's On
ATTACH;FMTTYPE=image/jpeg:https://www.rainbowsportsclub.com.au/wp-content/uploads/2026/03/Saturday-Music-11-scaled.jpg
END:VEVENT
BEGIN:VEVENT
DTSTART;TZID=Australia/Brisbane:20260322T130000
DTEND;TZID=Australia/Brisbane:20260322T160000
DTSTAMP:20260421T145340
CREATED:20260320T074328Z
LAST-MODIFIED:20260320T074328Z
UID:10021511-1774184400-1774195200@www.rainbowsportsclub.com.au
SUMMARY:BILLY GUY Live
DESCRIPTION:See out your weekend with good vibes laid on thick by Billy Guy\, in the sports bar Sunday arvo
URL:https://www.rainbowsportsclub.com.au/event/billy-guy-live/
LOCATION:Rainbow Beach Sports Club\, Turana St\, Rainbow Beach\, QLD\, 4581\, Australia
CATEGORIES:What's On
ATTACH;FMTTYPE=image/jpeg:https://www.rainbowsportsclub.com.au/wp-content/uploads/2026/03/Sunday-Arvo-Music-9-scaled.jpg
END:VEVENT
BEGIN:VEVENT
DTSTART;TZID=Australia/Brisbane:20260326T190000
DTEND;TZID=Australia/Brisbane:20260326T210000
DTSTAMP:20260421T145340
CREATED:20260115T192941Z
LAST-MODIFIED:20260313T085528Z
UID:10017153-1774551600-1774558800@www.rainbowsportsclub.com.au
SUMMARY:Thursday Trivia
DESCRIPTION:Whether to underline your know-it-all status\, or the opportunity to win some great prizes\, we’ve got the perfect excuse to drink\, laugh\, and show off your vast knowledge of useless information to your friends. \nArrive early to nab the best tables and nominate your team name. \nThe first round kicks off at 7pm 😀 \nPrizes for each of six rounds for teams of 1 to 4 players. \nFree to play. \nBe sure to bring your sense of humour
URL:https://www.rainbowsportsclub.com.au/event/thursday-trivia-2-3/2026-03-26/
LOCATION:Rainbow Beach Sports Club\, Turana St\, Rainbow Beach\, QLD\, 4581\, Australia
CATEGORIES:Events,What's On
ATTACH;FMTTYPE=image/jpeg:https://www.rainbowsportsclub.com.au/wp-content/uploads/2026/03/04032026004424-RBS-20-RainbowBeach-Trivia_TVL.jpg
END:VEVENT
BEGIN:VEVENT
DTSTART;TZID=Australia/Brisbane:20260327T193000
DTEND;TZID=Australia/Brisbane:20260327T223000
DTSTAMP:20260421T145340
CREATED:20260323T094800Z
LAST-MODIFIED:20260323T094800Z
UID:10021517-1774639800-1774650600@www.rainbowsportsclub.com.au
SUMMARY:THOSE FOLK Live
DESCRIPTION:Great to have Those Folk back in the venue and providing the vibes in the Sports Bar come Friday night
URL:https://www.rainbowsportsclub.com.au/event/those-folk-live/
LOCATION:Rainbow Beach Sports Club\, Turana St\, Rainbow Beach\, QLD\, 4581\, Australia
CATEGORIES:What's On
ATTACH;FMTTYPE=image/jpeg:https://www.rainbowsportsclub.com.au/wp-content/uploads/2026/03/RBSC-FRIDAY-MUSIC-10.jpg
END:VEVENT
BEGIN:VEVENT
DTSTART;TZID=Australia/Brisbane:20260328T193000
DTEND;TZID=Australia/Brisbane:20260328T223000
DTSTAMP:20260421T145340
CREATED:20260323T094952Z
LAST-MODIFIED:20260323T095020Z
UID:10021518-1774726200-1774737000@www.rainbowsportsclub.com.au
SUMMARY:PETER ATKINSON Live
DESCRIPTION:Members & guests welcome Peter Atkinson to the sports bar this Saturday night
URL:https://www.rainbowsportsclub.com.au/event/9523/
LOCATION:Rainbow Beach Sports Club\, Turana St\, Rainbow Beach\, QLD\, 4581\, Australia
CATEGORIES:What's On
ATTACH;FMTTYPE=image/jpeg:https://www.rainbowsportsclub.com.au/wp-content/uploads/2026/03/Saturday-Music-12.jpg
END:VEVENT
END:VCALENDAR