BEGIN:VCALENDAR
VERSION:2.0
PRODID:-//Rainbow Sports Club - ECPv6.15.17//NONSGML v1.0//EN
CALSCALE:GREGORIAN
METHOD:PUBLISH
X-WR-CALNAME:Rainbow Sports Club
X-ORIGINAL-URL:https://www.rainbowsportsclub.com.au
X-WR-CALDESC:Events for Rainbow Sports Club
REFRESH-INTERVAL;VALUE=DURATION:PT1H
X-Robots-Tag:noindex
X-PUBLISHED-TTL:PT1H
BEGIN:VTIMEZONE
TZID:Australia/Brisbane
BEGIN:STANDARD
TZOFFSETFROM:+1000
TZOFFSETTO:+1000
TZNAME:AEST
DTSTART:20240101T000000
END:STANDARD
END:VTIMEZONE
BEGIN:VEVENT
DTSTART;VALUE=DATE:20251104
DTEND;VALUE=DATE:20251105
DTSTAMP:20260420T165847
CREATED:20250904T104806Z
LAST-MODIFIED:20250925T074527Z
UID:10017107-1762214400-1762300799@www.rainbowsportsclub.com.au
SUMMARY:MELBOURNE CUP 2025
DESCRIPTION:Melbourne Cup is one of our iconic events\, with the entire venue given over to making the day delicious\, exciting\, fun\, and memorable \nThis event WILL sell out\, so don’t dally organizing your friends and booking your table \n\nBubbles on arrival\n2-course Seafood Luncheon\nTAB facilities from 8am\nSweeps\, Calcutta\, Hobby Horse Races & Raffles\nBest dressed prizes\nLive entertainment\n\n$95 members \n$105 non members \nCLICK HERE TO BOOK YOUR TABLE
URL:https://www.rainbowsportsclub.com.au/event/melbourne-cup-2025/
LOCATION:QLD
CATEGORIES:Events,Major Promotions,Special Events,What's On
ATTACH;FMTTYPE=image/jpeg:https://www.rainbowsportsclub.com.au/wp-content/uploads/2025/09/Rainbow-Beach-Melbourne-Cup_TVL.jpg
END:VEVENT
BEGIN:VEVENT
DTSTART;VALUE=DATE:20251104
DTEND;VALUE=DATE:20251105
DTSTAMP:20260420T165847
CREATED:20251028T013539Z
LAST-MODIFIED:20251028T013700Z
UID:10017961-1762214400-1762300799@www.rainbowsportsclub.com.au
SUMMARY:CUP DAY CASH
DESCRIPTION:Something special for Melbourne Cup
URL:https://www.rainbowsportsclub.com.au/event/cup-day-cash/
LOCATION:Rainbow Beach Sports Club\, Turana St\, Rainbow Beach\, QLD\, 4581\, Australia
CATEGORIES:What's On
ATTACH;FMTTYPE=image/jpeg:https://www.rainbowsportsclub.com.au/wp-content/uploads/2025/10/Rainbow-Cup-Day-Cash_16x9-Landscape-1.jpg
END:VEVENT
BEGIN:VEVENT
DTSTART;TZID=Australia/Brisbane:20251105T110000
DTEND;TZID=Australia/Brisbane:20251105T140000
DTSTAMP:20260420T165847
CREATED:20250903T225121Z
LAST-MODIFIED:20251028T012814Z
UID:10017048-1762340400-1762351200@www.rainbowsportsclub.com.au
SUMMARY:MORNING MELODIES
DESCRIPTION:We are thrilled to announce local musical icon Maria Whittaker will be hosting Morning Melodies on the 1st Wednesday of every month from 11am to 2pm \nYour $19.90 (members price) includes a 2-course lunch\, tea & coffee station\, lucky door price and raffles. \nCome along and start your month off with some laughs\, good food and singing along to all your favourites \nBookings essential – CLICK TO BOOK \nCourtesy Bus available for Morning Melodies\, only by appointment \nPick up \n\nTin Can Bay: 10.15 am\nCooloola Cove: 10.30 am\n\nReturn (leave sports club @ 2.00 pm) \n\nCooloola Cove: 2.30 pm\nTin Can Bay: 2.45 pm
URL:https://www.rainbowsportsclub.com.au/event/morning-melodies/2025-11-05/
LOCATION:QLD
CATEGORIES:Daily Promotions,Events,Special Events,What's On
ATTACH;FMTTYPE=image/jpeg:https://www.rainbowsportsclub.com.au/wp-content/uploads/2025/09/Rainbow-Beach-Morning-Melodies_Nov_Web-Page-Banner.jpg
END:VEVENT
BEGIN:VEVENT
DTSTART;TZID=Australia/Brisbane:20251106T190000
DTEND;TZID=Australia/Brisbane:20251106T210000
DTSTAMP:20260420T165847
CREATED:20250729T000441Z
LAST-MODIFIED:20251210T015935Z
UID:10017133-1762455600-1762462800@www.rainbowsportsclub.com.au
SUMMARY:Thursday Trivia
DESCRIPTION:Whether to underline your know-it-all status\, or the opportunity to win some great prizes\, we’ve got the perfect excuse to drink\, laugh\, and show off your vast knowledge of useless information to your friends. \nArrive early to nab the best tables and nominate your team name. \nThe first round kicks off at 7pm 😀 \nPrizes for each of six rounds for teams of 1 to 4 players. \nFree to play. \nBe sure to bring your sense of humour
URL:https://www.rainbowsportsclub.com.au/event/thursday-trivia-2/2025-11-06/
LOCATION:Rainbow Beach Sports Club\, Turana St\, Rainbow Beach\, QLD\, 4581\, Australia
CATEGORIES:Events,What's On
ATTACH;FMTTYPE=image/jpeg:https://www.rainbowsportsclub.com.au/wp-content/uploads/2025/07/T-8-1.jpg
END:VEVENT
BEGIN:VEVENT
DTSTART;TZID=Australia/Brisbane:20251107T193000
DTEND;TZID=Australia/Brisbane:20251107T223000
DTSTAMP:20260420T165847
CREATED:20251105T231226Z
LAST-MODIFIED:20251105T231617Z
UID:10017965-1762543800-1762554600@www.rainbowsportsclub.com.au
SUMMARY:Ryan Hurricane
DESCRIPTION:
URL:https://www.rainbowsportsclub.com.au/event/ryan-hurricane/
LOCATION:Rainbow Beach Sports Club\, Turana St\, Rainbow Beach\, QLD\, 4581\, Australia
CATEGORIES:What's On
ATTACH;FMTTYPE=image/jpeg:https://www.rainbowsportsclub.com.au/wp-content/uploads/2025/11/Copy-of-Copy-of-SIMON-MEOLA-Entertainment-Music-1-scaled.jpg
END:VEVENT
BEGIN:VEVENT
DTSTART;TZID=Australia/Brisbane:20251108T192900
DTEND;TZID=Australia/Brisbane:20251108T223000
DTSTAMP:20260420T165847
CREATED:20251107T080603Z
LAST-MODIFIED:20251113T222748Z
UID:10018491-1762630140-1762641000@www.rainbowsportsclub.com.au
SUMMARY:LIVE MUSIC SATURDAY
DESCRIPTION:SATURDAY NIGHTS with some legend on a mic & caressing a guitar are back\, baby !! Every week we line up another artist to give vibe to the venue so you and your friends can enjoy your weekend the way you want
URL:https://www.rainbowsportsclub.com.au/event/live-music-saturday/2025-11-08/
LOCATION:Rainbow Beach Sports Club\, Turana St\, Rainbow Beach\, QLD\, 4581\, Australia
CATEGORIES:What's On
ATTACH;FMTTYPE=image/jpeg:https://www.rainbowsportsclub.com.au/wp-content/uploads/2025/11/Saturday-night-live-music-3-scaled.jpg
END:VEVENT
BEGIN:VEVENT
DTSTART;TZID=Australia/Brisbane:20251109T140000
DTEND;TZID=Australia/Brisbane:20251109T153000
DTSTAMP:20260420T165847
CREATED:20251013T235606Z
LAST-MODIFIED:20251014T000214Z
UID:10017944-1762696800-1762702200@www.rainbowsportsclub.com.au
SUMMARY:Splash N Cash
DESCRIPTION:We’re giving away a fantastic jetski on the 7th December 2025\, as well as a total of $10\,000 in cash in weekly draws over 10 weeks to up to 40 members\nMembers will earn one (1) entry ticket during the promotion with every $20 play (turnover) on the gaming machines with their membership card inserted\, with every $4 spend on food and beverage (where card services are available\, and members card is swiped)\, or one (1) daily swipe at the kiosk at Rainbow Beach Sports Club during the promotional period
URL:https://www.rainbowsportsclub.com.au/event/splash-n-cash-2/2025-11-09/
LOCATION:Rainbow Beach Sports Club\, Turana St\, Rainbow Beach\, QLD\, 4581\, Australia
CATEGORIES:What's On
ATTACH;FMTTYPE=image/jpeg:https://www.rainbowsportsclub.com.au/wp-content/uploads/2025/10/Rainbow-Beach-Splash-n-Cash_Website-Page-Banner.jpg
END:VEVENT
BEGIN:VEVENT
DTSTART;TZID=Australia/Brisbane:20251111T130000
DTEND;TZID=Australia/Brisbane:20251111T140000
DTSTAMP:20260420T165847
CREATED:20251013T232228Z
LAST-MODIFIED:20251209T031618Z
UID:10017666-1762866000-1762869600@www.rainbowsportsclub.com.au
SUMMARY:SPIN & SAVE
DESCRIPTION:Every Tuesday arvo at 2pm\, four lucky members will get the chance to spin our wheel – TWICE !!! Meaning we add the two amounts and hand over the readies. Easy as \nAll members need to do is use their membership card to swipe in as they enter\, to order stuff at the tills (every $4)\, and in the gaming room (every $10) from midday. \n 
URL:https://www.rainbowsportsclub.com.au/event/spin-save/2025-11-11/
LOCATION:Rainbow Beach Sports Club\, Turana St\, Rainbow Beach\, QLD\, 4581\, Australia
CATEGORIES:What's On
ATTACH;FMTTYPE=image/jpeg:https://www.rainbowsportsclub.com.au/wp-content/uploads/2025/10/Rainbow_Wheel_Be_Lucky_EDM_Header-1.jpg
END:VEVENT
BEGIN:VEVENT
DTSTART;TZID=Australia/Brisbane:20251113T190000
DTEND;TZID=Australia/Brisbane:20251113T210000
DTSTAMP:20260420T165847
CREATED:20250729T000441Z
LAST-MODIFIED:20251210T015935Z
UID:10017134-1763060400-1763067600@www.rainbowsportsclub.com.au
SUMMARY:Thursday Trivia
DESCRIPTION:Whether to underline your know-it-all status\, or the opportunity to win some great prizes\, we’ve got the perfect excuse to drink\, laugh\, and show off your vast knowledge of useless information to your friends. \nArrive early to nab the best tables and nominate your team name. \nThe first round kicks off at 7pm 😀 \nPrizes for each of six rounds for teams of 1 to 4 players. \nFree to play. \nBe sure to bring your sense of humour
URL:https://www.rainbowsportsclub.com.au/event/thursday-trivia-2/2025-11-13/
LOCATION:Rainbow Beach Sports Club\, Turana St\, Rainbow Beach\, QLD\, 4581\, Australia
CATEGORIES:Events,What's On
ATTACH;FMTTYPE=image/jpeg:https://www.rainbowsportsclub.com.au/wp-content/uploads/2025/07/T-8-1.jpg
END:VEVENT
BEGIN:VEVENT
DTSTART;TZID=Australia/Brisbane:20251114T193000
DTEND;TZID=Australia/Brisbane:20251114T223000
DTSTAMP:20260420T165847
CREATED:20251105T230907Z
LAST-MODIFIED:20251105T230907Z
UID:10017963-1763148600-1763159400@www.rainbowsportsclub.com.au
SUMMARY:Maria Whittaker LIVE
DESCRIPTION:
URL:https://www.rainbowsportsclub.com.au/event/maria-whittaker-live-2/
LOCATION:Rainbow Beach Sports Club\, Turana St\, Rainbow Beach\, QLD\, 4581\, Australia
CATEGORIES:What's On
ATTACH;FMTTYPE=image/jpeg:https://www.rainbowsportsclub.com.au/wp-content/uploads/2025/11/Maria-Whittaker-14NOV-scaled.jpg
END:VEVENT
BEGIN:VEVENT
DTSTART;TZID=Australia/Brisbane:20251115T192900
DTEND;TZID=Australia/Brisbane:20251115T223000
DTSTAMP:20260420T165847
CREATED:20251107T080603Z
LAST-MODIFIED:20251113T222748Z
UID:10018492-1763234940-1763245800@www.rainbowsportsclub.com.au
SUMMARY:LIVE MUSIC SATURDAY
DESCRIPTION:SATURDAY NIGHTS with some legend on a mic & caressing a guitar are back\, baby !! Every week we line up another artist to give vibe to the venue so you and your friends can enjoy your weekend the way you want
URL:https://www.rainbowsportsclub.com.au/event/live-music-saturday/2025-11-15/
LOCATION:Rainbow Beach Sports Club\, Turana St\, Rainbow Beach\, QLD\, 4581\, Australia
CATEGORIES:What's On
ATTACH;FMTTYPE=image/jpeg:https://www.rainbowsportsclub.com.au/wp-content/uploads/2025/11/Saturday-night-live-music-3-scaled.jpg
END:VEVENT
BEGIN:VEVENT
DTSTART;TZID=Australia/Brisbane:20251115T193000
DTEND;TZID=Australia/Brisbane:20251115T223000
DTSTAMP:20260420T165847
CREATED:20251106T013404Z
LAST-MODIFIED:20251106T013404Z
UID:10017966-1763235000-1763245800@www.rainbowsportsclub.com.au
SUMMARY:KARL McLEAN
DESCRIPTION:
URL:https://www.rainbowsportsclub.com.au/event/karl-mclean/
LOCATION:Rainbow Beach Sports Club\, Turana St\, Rainbow Beach\, QLD\, 4581\, Australia
CATEGORIES:What's On
ATTACH;FMTTYPE=image/jpeg:https://www.rainbowsportsclub.com.au/wp-content/uploads/2025/11/Karl-Mclean-Entertainment-Music-scaled.jpg
END:VEVENT
BEGIN:VEVENT
DTSTART;TZID=Australia/Brisbane:20251116T140000
DTEND;TZID=Australia/Brisbane:20251116T153000
DTSTAMP:20260420T165847
CREATED:20251013T235606Z
LAST-MODIFIED:20251014T000214Z
UID:10017945-1763301600-1763307000@www.rainbowsportsclub.com.au
SUMMARY:Splash N Cash
DESCRIPTION:We’re giving away a fantastic jetski on the 7th December 2025\, as well as a total of $10\,000 in cash in weekly draws over 10 weeks to up to 40 members\nMembers will earn one (1) entry ticket during the promotion with every $20 play (turnover) on the gaming machines with their membership card inserted\, with every $4 spend on food and beverage (where card services are available\, and members card is swiped)\, or one (1) daily swipe at the kiosk at Rainbow Beach Sports Club during the promotional period
URL:https://www.rainbowsportsclub.com.au/event/splash-n-cash-2/2025-11-16/
LOCATION:Rainbow Beach Sports Club\, Turana St\, Rainbow Beach\, QLD\, 4581\, Australia
CATEGORIES:What's On
ATTACH;FMTTYPE=image/jpeg:https://www.rainbowsportsclub.com.au/wp-content/uploads/2025/10/Rainbow-Beach-Splash-n-Cash_Website-Page-Banner.jpg
END:VEVENT
BEGIN:VEVENT
DTSTART;TZID=Australia/Brisbane:20251118T130000
DTEND;TZID=Australia/Brisbane:20251118T140000
DTSTAMP:20260420T165847
CREATED:20251013T232228Z
LAST-MODIFIED:20251209T031618Z
UID:10017667-1763470800-1763474400@www.rainbowsportsclub.com.au
SUMMARY:SPIN & SAVE
DESCRIPTION:Every Tuesday arvo at 2pm\, four lucky members will get the chance to spin our wheel – TWICE !!! Meaning we add the two amounts and hand over the readies. Easy as \nAll members need to do is use their membership card to swipe in as they enter\, to order stuff at the tills (every $4)\, and in the gaming room (every $10) from midday. \n 
URL:https://www.rainbowsportsclub.com.au/event/spin-save/2025-11-18/
LOCATION:Rainbow Beach Sports Club\, Turana St\, Rainbow Beach\, QLD\, 4581\, Australia
CATEGORIES:What's On
ATTACH;FMTTYPE=image/jpeg:https://www.rainbowsportsclub.com.au/wp-content/uploads/2025/10/Rainbow_Wheel_Be_Lucky_EDM_Header-1.jpg
END:VEVENT
BEGIN:VEVENT
DTSTART;TZID=Australia/Brisbane:20251120T190000
DTEND;TZID=Australia/Brisbane:20251120T210000
DTSTAMP:20260420T165847
CREATED:20250729T000441Z
LAST-MODIFIED:20251210T015935Z
UID:10017135-1763665200-1763672400@www.rainbowsportsclub.com.au
SUMMARY:Thursday Trivia
DESCRIPTION:Whether to underline your know-it-all status\, or the opportunity to win some great prizes\, we’ve got the perfect excuse to drink\, laugh\, and show off your vast knowledge of useless information to your friends. \nArrive early to nab the best tables and nominate your team name. \nThe first round kicks off at 7pm 😀 \nPrizes for each of six rounds for teams of 1 to 4 players. \nFree to play. \nBe sure to bring your sense of humour
URL:https://www.rainbowsportsclub.com.au/event/thursday-trivia-2/2025-11-20/
LOCATION:Rainbow Beach Sports Club\, Turana St\, Rainbow Beach\, QLD\, 4581\, Australia
CATEGORIES:Events,What's On
ATTACH;FMTTYPE=image/jpeg:https://www.rainbowsportsclub.com.au/wp-content/uploads/2025/07/T-8-1.jpg
END:VEVENT
BEGIN:VEVENT
DTSTART;TZID=Australia/Brisbane:20251121T193000
DTEND;TZID=Australia/Brisbane:20251125T223000
DTSTAMP:20260420T165847
CREATED:20241128T060956Z
LAST-MODIFIED:20251115T084956Z
UID:10018229-1763753400-1764109800@www.rainbowsportsclub.com.au
SUMMARY:LIVE MUSIC FRIDAY
DESCRIPTION:FRIDAY NIGHTS are about letting your hair down\, so you’ll find a musician or three on stage ready to pick\, pluck and strum their magic from 7.30pm to 10.30pm \nThe return of live music to our venue is a boon for the club\, members & musicians \nEnjoy!!
URL:https://www.rainbowsportsclub.com.au/event/live-music-friday/2025-11-21/
LOCATION:QLD
CATEGORIES:What's On
ATTACH;FMTTYPE=image/jpeg:https://www.rainbowsportsclub.com.au/wp-content/uploads/2024/11/Black-Brown-Modern-Music-Present.jpg
END:VEVENT
BEGIN:VEVENT
DTSTART;TZID=Australia/Brisbane:20251122T192900
DTEND;TZID=Australia/Brisbane:20251122T223000
DTSTAMP:20260420T165847
CREATED:20251107T080603Z
LAST-MODIFIED:20251113T222748Z
UID:10018493-1763839740-1763850600@www.rainbowsportsclub.com.au
SUMMARY:LIVE MUSIC SATURDAY
DESCRIPTION:SATURDAY NIGHTS with some legend on a mic & caressing a guitar are back\, baby !! Every week we line up another artist to give vibe to the venue so you and your friends can enjoy your weekend the way you want
URL:https://www.rainbowsportsclub.com.au/event/live-music-saturday/2025-11-22/
LOCATION:Rainbow Beach Sports Club\, Turana St\, Rainbow Beach\, QLD\, 4581\, Australia
CATEGORIES:What's On
ATTACH;FMTTYPE=image/jpeg:https://www.rainbowsportsclub.com.au/wp-content/uploads/2025/11/Saturday-night-live-music-3-scaled.jpg
END:VEVENT
BEGIN:VEVENT
DTSTART;TZID=Australia/Brisbane:20251123T140000
DTEND;TZID=Australia/Brisbane:20251123T153000
DTSTAMP:20260420T165847
CREATED:20251013T235606Z
LAST-MODIFIED:20251014T000214Z
UID:10017946-1763906400-1763911800@www.rainbowsportsclub.com.au
SUMMARY:Splash N Cash
DESCRIPTION:We’re giving away a fantastic jetski on the 7th December 2025\, as well as a total of $10\,000 in cash in weekly draws over 10 weeks to up to 40 members\nMembers will earn one (1) entry ticket during the promotion with every $20 play (turnover) on the gaming machines with their membership card inserted\, with every $4 spend on food and beverage (where card services are available\, and members card is swiped)\, or one (1) daily swipe at the kiosk at Rainbow Beach Sports Club during the promotional period
URL:https://www.rainbowsportsclub.com.au/event/splash-n-cash-2/2025-11-23/
LOCATION:Rainbow Beach Sports Club\, Turana St\, Rainbow Beach\, QLD\, 4581\, Australia
CATEGORIES:What's On
ATTACH;FMTTYPE=image/jpeg:https://www.rainbowsportsclub.com.au/wp-content/uploads/2025/10/Rainbow-Beach-Splash-n-Cash_Website-Page-Banner.jpg
END:VEVENT
BEGIN:VEVENT
DTSTART;TZID=Australia/Brisbane:20251125T130000
DTEND;TZID=Australia/Brisbane:20251125T140000
DTSTAMP:20260420T165847
CREATED:20251013T232228Z
LAST-MODIFIED:20251209T031618Z
UID:10017668-1764075600-1764079200@www.rainbowsportsclub.com.au
SUMMARY:SPIN & SAVE
DESCRIPTION:Every Tuesday arvo at 2pm\, four lucky members will get the chance to spin our wheel – TWICE !!! Meaning we add the two amounts and hand over the readies. Easy as \nAll members need to do is use their membership card to swipe in as they enter\, to order stuff at the tills (every $4)\, and in the gaming room (every $10) from midday. \n 
URL:https://www.rainbowsportsclub.com.au/event/spin-save/2025-11-25/
LOCATION:Rainbow Beach Sports Club\, Turana St\, Rainbow Beach\, QLD\, 4581\, Australia
CATEGORIES:What's On
ATTACH;FMTTYPE=image/jpeg:https://www.rainbowsportsclub.com.au/wp-content/uploads/2025/10/Rainbow_Wheel_Be_Lucky_EDM_Header-1.jpg
END:VEVENT
BEGIN:VEVENT
DTSTART;TZID=Australia/Brisbane:20251127T190000
DTEND;TZID=Australia/Brisbane:20251127T210000
DTSTAMP:20260420T165847
CREATED:20250729T000441Z
LAST-MODIFIED:20251210T015935Z
UID:10017136-1764270000-1764277200@www.rainbowsportsclub.com.au
SUMMARY:Thursday Trivia
DESCRIPTION:Whether to underline your know-it-all status\, or the opportunity to win some great prizes\, we’ve got the perfect excuse to drink\, laugh\, and show off your vast knowledge of useless information to your friends. \nArrive early to nab the best tables and nominate your team name. \nThe first round kicks off at 7pm 😀 \nPrizes for each of six rounds for teams of 1 to 4 players. \nFree to play. \nBe sure to bring your sense of humour
URL:https://www.rainbowsportsclub.com.au/event/thursday-trivia-2/2025-11-27/
LOCATION:Rainbow Beach Sports Club\, Turana St\, Rainbow Beach\, QLD\, 4581\, Australia
CATEGORIES:Events,What's On
ATTACH;FMTTYPE=image/jpeg:https://www.rainbowsportsclub.com.au/wp-content/uploads/2025/07/T-8-1.jpg
END:VEVENT
BEGIN:VEVENT
DTSTART;TZID=Australia/Brisbane:20251128T193000
DTEND;TZID=Australia/Brisbane:20251202T223000
DTSTAMP:20260420T165847
CREATED:20241128T060956Z
LAST-MODIFIED:20251115T084956Z
UID:10018230-1764358200-1764714600@www.rainbowsportsclub.com.au
SUMMARY:LIVE MUSIC FRIDAY
DESCRIPTION:FRIDAY NIGHTS are about letting your hair down\, so you’ll find a musician or three on stage ready to pick\, pluck and strum their magic from 7.30pm to 10.30pm \nThe return of live music to our venue is a boon for the club\, members & musicians \nEnjoy!!
URL:https://www.rainbowsportsclub.com.au/event/live-music-friday/2025-11-28/
LOCATION:QLD
CATEGORIES:What's On
ATTACH;FMTTYPE=image/jpeg:https://www.rainbowsportsclub.com.au/wp-content/uploads/2024/11/Black-Brown-Modern-Music-Present.jpg
END:VEVENT
BEGIN:VEVENT
DTSTART;TZID=Australia/Brisbane:20251129T192900
DTEND;TZID=Australia/Brisbane:20251129T223000
DTSTAMP:20260420T165848
CREATED:20251107T080603Z
LAST-MODIFIED:20251113T222748Z
UID:10018494-1764444540-1764455400@www.rainbowsportsclub.com.au
SUMMARY:LIVE MUSIC SATURDAY
DESCRIPTION:SATURDAY NIGHTS with some legend on a mic & caressing a guitar are back\, baby !! Every week we line up another artist to give vibe to the venue so you and your friends can enjoy your weekend the way you want
URL:https://www.rainbowsportsclub.com.au/event/live-music-saturday/2025-11-29/
LOCATION:Rainbow Beach Sports Club\, Turana St\, Rainbow Beach\, QLD\, 4581\, Australia
CATEGORIES:What's On
ATTACH;FMTTYPE=image/jpeg:https://www.rainbowsportsclub.com.au/wp-content/uploads/2025/11/Saturday-night-live-music-3-scaled.jpg
END:VEVENT
BEGIN:VEVENT
DTSTART;TZID=Australia/Brisbane:20251130T140000
DTEND;TZID=Australia/Brisbane:20251130T153000
DTSTAMP:20260420T165848
CREATED:20251013T235606Z
LAST-MODIFIED:20251014T000214Z
UID:10017947-1764511200-1764516600@www.rainbowsportsclub.com.au
SUMMARY:Splash N Cash
DESCRIPTION:We’re giving away a fantastic jetski on the 7th December 2025\, as well as a total of $10\,000 in cash in weekly draws over 10 weeks to up to 40 members\nMembers will earn one (1) entry ticket during the promotion with every $20 play (turnover) on the gaming machines with their membership card inserted\, with every $4 spend on food and beverage (where card services are available\, and members card is swiped)\, or one (1) daily swipe at the kiosk at Rainbow Beach Sports Club during the promotional period
URL:https://www.rainbowsportsclub.com.au/event/splash-n-cash-2/2025-11-30/
LOCATION:Rainbow Beach Sports Club\, Turana St\, Rainbow Beach\, QLD\, 4581\, Australia
CATEGORIES:What's On
ATTACH;FMTTYPE=image/jpeg:https://www.rainbowsportsclub.com.au/wp-content/uploads/2025/10/Rainbow-Beach-Splash-n-Cash_Website-Page-Banner.jpg
END:VEVENT
BEGIN:VEVENT
DTSTART;TZID=Australia/Brisbane:20251202T130000
DTEND;TZID=Australia/Brisbane:20251202T140000
DTSTAMP:20260420T165848
CREATED:20251013T232228Z
LAST-MODIFIED:20251209T031618Z
UID:10017669-1764680400-1764684000@www.rainbowsportsclub.com.au
SUMMARY:SPIN & SAVE
DESCRIPTION:Every Tuesday arvo at 2pm\, four lucky members will get the chance to spin our wheel – TWICE !!! Meaning we add the two amounts and hand over the readies. Easy as \nAll members need to do is use their membership card to swipe in as they enter\, to order stuff at the tills (every $4)\, and in the gaming room (every $10) from midday. \n 
URL:https://www.rainbowsportsclub.com.au/event/spin-save/2025-12-02/
LOCATION:Rainbow Beach Sports Club\, Turana St\, Rainbow Beach\, QLD\, 4581\, Australia
CATEGORIES:What's On
ATTACH;FMTTYPE=image/jpeg:https://www.rainbowsportsclub.com.au/wp-content/uploads/2025/10/Rainbow_Wheel_Be_Lucky_EDM_Header-1.jpg
END:VEVENT
BEGIN:VEVENT
DTSTART;TZID=Australia/Brisbane:20251203T110000
DTEND;TZID=Australia/Brisbane:20251203T140000
DTSTAMP:20260420T165848
CREATED:20251124T043359Z
LAST-MODIFIED:20251124T043434Z
UID:10019566-1764759600-1764770400@www.rainbowsportsclub.com.au
SUMMARY:Morning Melodies
DESCRIPTION:Join us on the first Wednesday of the month\, from 11am to 2pm\, for a wonderfully entertaining\, host lead sing-a-long\, including a two-course lunch
URL:https://www.rainbowsportsclub.com.au/event/morning-melodies-2/
LOCATION:Rainbow Beach Sports Club\, Turana St\, Rainbow Beach\, QLD\, 4581\, Australia
CATEGORIES:What's On
ATTACH;FMTTYPE=image/jpeg:https://www.rainbowsportsclub.com.au/wp-content/uploads/2025/11/Rainbow-Beach-Morning-Melodies-Dec_Web-Page-Banner.jpg
END:VEVENT
BEGIN:VEVENT
DTSTART;TZID=Australia/Brisbane:20251204T190000
DTEND;TZID=Australia/Brisbane:20251204T210000
DTSTAMP:20260420T165848
CREATED:20250729T000441Z
LAST-MODIFIED:20251210T015935Z
UID:10017137-1764874800-1764882000@www.rainbowsportsclub.com.au
SUMMARY:Thursday Trivia
DESCRIPTION:Whether to underline your know-it-all status\, or the opportunity to win some great prizes\, we’ve got the perfect excuse to drink\, laugh\, and show off your vast knowledge of useless information to your friends. \nArrive early to nab the best tables and nominate your team name. \nThe first round kicks off at 7pm 😀 \nPrizes for each of six rounds for teams of 1 to 4 players. \nFree to play. \nBe sure to bring your sense of humour
URL:https://www.rainbowsportsclub.com.au/event/thursday-trivia-2/2025-12-04/
LOCATION:Rainbow Beach Sports Club\, Turana St\, Rainbow Beach\, QLD\, 4581\, Australia
CATEGORIES:Events,What's On
ATTACH;FMTTYPE=image/jpeg:https://www.rainbowsportsclub.com.au/wp-content/uploads/2025/07/T-8-1.jpg
END:VEVENT
BEGIN:VEVENT
DTSTART;TZID=Australia/Brisbane:20251206T192900
DTEND;TZID=Australia/Brisbane:20251206T223000
DTSTAMP:20260420T165848
CREATED:20251107T080603Z
LAST-MODIFIED:20251113T222748Z
UID:10018495-1765049340-1765060200@www.rainbowsportsclub.com.au
SUMMARY:LIVE MUSIC SATURDAY
DESCRIPTION:SATURDAY NIGHTS with some legend on a mic & caressing a guitar are back\, baby !! Every week we line up another artist to give vibe to the venue so you and your friends can enjoy your weekend the way you want
URL:https://www.rainbowsportsclub.com.au/event/live-music-saturday/2025-12-06/
LOCATION:Rainbow Beach Sports Club\, Turana St\, Rainbow Beach\, QLD\, 4581\, Australia
CATEGORIES:What's On
ATTACH;FMTTYPE=image/jpeg:https://www.rainbowsportsclub.com.au/wp-content/uploads/2025/11/Saturday-night-live-music-3-scaled.jpg
END:VEVENT
BEGIN:VEVENT
DTSTART;TZID=Australia/Brisbane:20251207T140000
DTEND;TZID=Australia/Brisbane:20251207T170000
DTSTAMP:20260420T165848
CREATED:20251002T114835Z
LAST-MODIFIED:20251002T115437Z
UID:10017659-1765116000-1765126800@www.rainbowsportsclub.com.au
SUMMARY:SPLASH n CASH
DESCRIPTION:Your chance to win a Yamaha Jetski valued at $18\,490\, plus cash\, Cash\, CASH all for coming in like you already do and enjoying yourself \nMembers will earn one (1) entry ticket during the promotion with every $20 play (turnover) on the gaming machines with their membership card inserted\, with every $4 spend on food and beverage (where card services are available\, and members card is swiped)\, or one (1) daily swipe at the kiosk at Rainbow Beach Sports Club during the promotional period. \nTerms & Conditions
URL:https://www.rainbowsportsclub.com.au/event/splash-n-cash/
LOCATION:Rainbow Beach Sports Club\, Turana St\, Rainbow Beach\, QLD\, 4581\, Australia
CATEGORIES:Special Events,What's On
ATTACH;FMTTYPE=image/jpeg:https://www.rainbowsportsclub.com.au/wp-content/uploads/2025/10/Rainbow-Beach-Splash-n-Cash_TVL.jpg
END:VEVENT
BEGIN:VEVENT
DTSTART;TZID=Australia/Brisbane:20251209T200000
DTEND;TZID=Australia/Brisbane:20251209T203000
DTSTAMP:20260420T165848
CREATED:20251209T034206Z
LAST-MODIFIED:20251211T025557Z
UID:10020433-1765310400-1765312200@www.rainbowsportsclub.com.au
SUMMARY:Music Bingo
DESCRIPTION:Following our members draws\, and back by popular demand\, we have Music Bingo \nFree to play and loads of great prizes
URL:https://www.rainbowsportsclub.com.au/event/music-bingo-2/2025-12-09/
LOCATION:Rainbow Beach Sports Club\, Turana St\, Rainbow Beach\, QLD\, 4581\, Australia
CATEGORIES:What's On
ATTACH;FMTTYPE=image/jpeg:https://www.rainbowsportsclub.com.au/wp-content/uploads/2025/12/music-bingo-envelope-3-1.jpg
END:VEVENT
BEGIN:VEVENT
DTSTART;TZID=Australia/Brisbane:20251211T190000
DTEND;TZID=Australia/Brisbane:20251211T210000
DTSTAMP:20260420T165848
CREATED:20250729T000441Z
LAST-MODIFIED:20251210T015935Z
UID:10017138-1765479600-1765486800@www.rainbowsportsclub.com.au
SUMMARY:Thursday Trivia
DESCRIPTION:Whether to underline your know-it-all status\, or the opportunity to win some great prizes\, we’ve got the perfect excuse to drink\, laugh\, and show off your vast knowledge of useless information to your friends. \nArrive early to nab the best tables and nominate your team name. \nThe first round kicks off at 7pm 😀 \nPrizes for each of six rounds for teams of 1 to 4 players. \nFree to play. \nBe sure to bring your sense of humour
URL:https://www.rainbowsportsclub.com.au/event/thursday-trivia-2/2025-12-11/
LOCATION:Rainbow Beach Sports Club\, Turana St\, Rainbow Beach\, QLD\, 4581\, Australia
CATEGORIES:Events,What's On
ATTACH;FMTTYPE=image/jpeg:https://www.rainbowsportsclub.com.au/wp-content/uploads/2025/07/T-8-1.jpg
END:VEVENT
END:VCALENDAR