BEGIN:VCALENDAR
VERSION:2.0
PRODID:-//Rainbow Sports Club - ECPv6.15.17//NONSGML v1.0//EN
CALSCALE:GREGORIAN
METHOD:PUBLISH
X-WR-CALNAME:Rainbow Sports Club
X-ORIGINAL-URL:https://www.rainbowsportsclub.com.au
X-WR-CALDESC:Events for Rainbow Sports Club
REFRESH-INTERVAL;VALUE=DURATION:PT1H
X-Robots-Tag:noindex
X-PUBLISHED-TTL:PT1H
BEGIN:VTIMEZONE
TZID:Australia/Brisbane
BEGIN:STANDARD
TZOFFSETFROM:+1000
TZOFFSETTO:+1000
TZNAME:AEST
DTSTART:20230101T000000
END:STANDARD
END:VTIMEZONE
BEGIN:VEVENT
DTSTART;TZID=Australia/Brisbane:20241006T122000
DTEND;TZID=Australia/Brisbane:20241006T210000
DTSTAMP:20260422T211855
CREATED:20240919T074153Z
LAST-MODIFIED:20240919T074431Z
UID:10007114-1728217200-1728248400@www.rainbowsportsclub.com.au
SUMMARY:NRL GRAND FINAL
DESCRIPTION:Best place to be for a GRAND FINAL is a SPORTS CLUB. That’s just science. \nRainbow Beach Sports Club is upping their game with beverage specials\, 20 wings for $20\, and the BIG game on the BIG screen!
URL:https://www.rainbowsportsclub.com.au/event/nrl-grand-final/
LOCATION:Rainbow Beach Sports Club\, Turana St\, Rainbow Beach\, QLD\, 4581\, Australia
CATEGORIES:Daily Promotions,Events,Major Promotions,What's On
ATTACH;FMTTYPE=image/jpeg:https://www.rainbowsportsclub.com.au/wp-content/uploads/2024/09/Rainbow-Beach-Footy-Grand-Finals_VECTORS-480x272_03.jpg
END:VEVENT
BEGIN:VEVENT
DTSTART;VALUE=DATE:20241026
DTEND;VALUE=DATE:20241028
DTSTAMP:20260422T211855
CREATED:20241014T024051Z
LAST-MODIFIED:20241014T034603Z
UID:10007189-1729900800-1730073599@www.rainbowsportsclub.com.au
SUMMARY:Bowls Tournament
DESCRIPTION:Watch on as the best from around our region and beyond battle it out to see who can finesse the best relationship over two days with the cot\, the pill\, the dolly\, kitty\, the jack or the white.
URL:https://www.rainbowsportsclub.com.au/event/bowls-tournament-3/
LOCATION:QLD
CATEGORIES:Events,What's On
ATTACH;FMTTYPE=image/jpeg:https://www.rainbowsportsclub.com.au/wp-content/uploads/2024/10/RBSC-261-of-309-1.jpg
END:VEVENT
END:VCALENDAR