BEGIN:VCALENDAR
VERSION:2.0
PRODID:-//Rainbow Sports Club - ECPv6.15.17//NONSGML v1.0//EN
CALSCALE:GREGORIAN
METHOD:PUBLISH
X-ORIGINAL-URL:https://www.rainbowsportsclub.com.au
X-WR-CALDESC:Events for Rainbow Sports Club
REFRESH-INTERVAL;VALUE=DURATION:PT1H
X-Robots-Tag:noindex
X-PUBLISHED-TTL:PT1H
BEGIN:VTIMEZONE
TZID:Australia/Brisbane
BEGIN:STANDARD
TZOFFSETFROM:+1000
TZOFFSETTO:+1000
TZNAME:AEST
DTSTART:20250101T000000
END:STANDARD
END:VTIMEZONE
BEGIN:VEVENT
DTSTART;TZID=Australia/Brisbane:20260421T090000
DTEND;TZID=Australia/Brisbane:20260622T130000
DTSTAMP:20260423T034954
CREATED:20251209T031426Z
LAST-MODIFIED:20260419T102459Z
UID:10019316-1776762000-1782133200@www.rainbowsportsclub.com.au
SUMMARY:BINGO TUESDAY
DESCRIPTION:Progressive ‘WINNER TAKES ALL’ Plus Jackpot STATUS \nCalls to win weekly jackpot plus carry over bonus Tuesday 17th March 2026: \n\nCalls: 53\nBonus Carry Over Jackpot Amount (the Plus): $137\n\nEvery Tuesday our function room opens itself to members & guests for a fun morning of Bingo. \nWe play 18 games\, which costs $25 for one of everything\, but you can buy & play whichever you like\, and multiple games as well. \nThese are the games we play: \n\nBingo Down Under ($2) – Full House\n10 Game Book ($9) – One Pattern then Full House\n5 Game Book ($7) – One Line\, Two Lines\, then Full House\nWinner Takes All ($3) – Full House\nProgressive Winner Takes All Plus ($4) – Full House\n\nA feature of our Bingo session is we return ALL the money which players put into buying their games into the prize pool and give it back as the prize kitties. \nOther nice things to know: \n\nWe have a $5 minimum prize (no-one needs more coinage)\nIf more than one player calls a successful bingo we still have a minimum $5 prize for everyone\nAny money leftover from the previous 17 games after prizes & roundings gets added to the final progressive jackpot Winner Takes All Plus game\, making it an even more coveted prize\nElectronic iPads (aka PETS) are available at no additional charge.\n\nBingo is a very social morning\, usually finished before 1pm\, and we’d love to see you here !!!
URL:https://www.rainbowsportsclub.com.au/event/bingo-tuesday-2-2/2026-04-21/
LOCATION:Rainbow Beach Sports Club\, Turana St\, Rainbow Beach\, QLD\, 4581\, Australia
CATEGORIES:What's On
ATTACH;FMTTYPE=image/jpeg:https://www.rainbowsportsclub.com.au/wp-content/uploads/2025/12/Bingo-Sunday-6-scaled.jpg
END:VEVENT
BEGIN:VEVENT
DTSTART;TZID=Australia/Brisbane:20260421T180000
DTEND;TZID=Australia/Brisbane:20260630T210000
DTSTAMP:20260423T034954
CREATED:20250704T213529Z
LAST-MODIFIED:20260419T102539Z
UID:10020918-1776794400-1782853200@www.rainbowsportsclub.com.au
SUMMARY:Tuesday Members Night
DESCRIPTION:Tuesdays are for our members! \nJoin us every Tuesday night for: \nRAFFLES\nTickets from 6pm\, drawn from 7pm \nMEMBERS DRAWS\nJackpotting from $1\,000 + $200 per week
URL:https://www.rainbowsportsclub.com.au/event/friday-members-night-3/2026-04-21/
LOCATION:Rainbow Beach Sports Club\, Turana St\, Rainbow Beach\, QLD\, 4581\, Australia
CATEGORIES:What's On
ATTACH;FMTTYPE=image/jpeg:https://www.rainbowsportsclub.com.au/wp-content/uploads/2025/07/Untitled-design-2026-01-08T155242.352-scaled.jpg
END:VEVENT
BEGIN:VEVENT
DTSTART;TZID=Australia/Brisbane:20260423T190000
DTEND;TZID=Australia/Brisbane:20260423T210000
DTSTAMP:20260423T034954
CREATED:20260115T192941Z
LAST-MODIFIED:20260313T085528Z
UID:10017157-1776970800-1776978000@www.rainbowsportsclub.com.au
SUMMARY:Thursday Trivia
DESCRIPTION:Whether to underline your know-it-all status\, or the opportunity to win some great prizes\, we’ve got the perfect excuse to drink\, laugh\, and show off your vast knowledge of useless information to your friends. \nArrive early to nab the best tables and nominate your team name. \nThe first round kicks off at 7pm 😀 \nPrizes for each of six rounds for teams of 1 to 4 players. \nFree to play. \nBe sure to bring your sense of humour
URL:https://www.rainbowsportsclub.com.au/event/thursday-trivia-2-3/2026-04-23/
LOCATION:Rainbow Beach Sports Club\, Turana St\, Rainbow Beach\, QLD\, 4581\, Australia
CATEGORIES:Events,What's On
ATTACH;FMTTYPE=image/jpeg:https://www.rainbowsportsclub.com.au/wp-content/uploads/2026/03/04032026004424-RBS-20-RainbowBeach-Trivia_TVL.jpg
END:VEVENT
BEGIN:VEVENT
DTSTART;TZID=Australia/Brisbane:20260424T193000
DTEND;TZID=Australia/Brisbane:20260424T223000
DTSTAMP:20260423T034954
CREATED:20260419T102203Z
LAST-MODIFIED:20260419T102203Z
UID:10021549-1777059000-1777069800@www.rainbowsportsclub.com.au
SUMMARY:MIDNIGHT TICKET Live
DESCRIPTION:One of the best duos around will\, Midnight Ticket\, will be entertaining patrons in our sports bar Friday night from 7.30pm
URL:https://www.rainbowsportsclub.com.au/event/midnight-ticket-live-2/
LOCATION:Rainbow Beach Sports Club\, Turana St\, Rainbow Beach\, QLD\, 4581\, Australia
CATEGORIES:What's On
ATTACH;FMTTYPE=image/jpeg:https://www.rainbowsportsclub.com.au/wp-content/uploads/2026/04/FRIDAY-MUSI-RBSC-2.jpg
END:VEVENT
BEGIN:VEVENT
DTSTART;VALUE=DATE:20260425
DTEND;VALUE=DATE:20260426
DTSTAMP:20260423T034954
CREATED:20260419T084122Z
LAST-MODIFIED:20260421T030547Z
UID:10021547-1777075200-1777161599@www.rainbowsportsclub.com.au
SUMMARY:ANZAC DAY
DESCRIPTION:Following Anzac Day ceremonies\, our venue will be opening at 11.30am\, with no gaming or bottle shop sales until 1pm \n\nTwo-Up from 1pm\nLive entertainment with Bevan Spiers from 5pm\nFree lawn bowls\n\nJoin us for an afternoon of sports on Rainbow Beach’s biggest screen
URL:https://www.rainbowsportsclub.com.au/event/anzac-day/
LOCATION:Rainbow Beach Sports Club\, Turana St\, Rainbow Beach\, QLD\, 4581\, Australia
CATEGORIES:Special Events,What's On
ATTACH;FMTTYPE=image/jpeg:https://www.rainbowsportsclub.com.au/wp-content/uploads/2026/04/Anzac-Day-2026-3.jpg
END:VEVENT
BEGIN:VEVENT
DTSTART;TZID=Australia/Brisbane:20260425T170000
DTEND;TZID=Australia/Brisbane:20260425T200000
DTSTAMP:20260423T034954
CREATED:20260419T102353Z
LAST-MODIFIED:20260419T102353Z
UID:10021550-1777136400-1777147200@www.rainbowsportsclub.com.au
SUMMARY:BEVAN SPIERS Live
DESCRIPTION:Slight change to our usual live entertainment schedule with Bevan Spiers starting up at 5pm on Anzac Day
URL:https://www.rainbowsportsclub.com.au/event/bevan-spiers-live-2/
LOCATION:Rainbow Beach Sports Club\, Turana St\, Rainbow Beach\, QLD\, 4581\, Australia
CATEGORIES:What's On
ATTACH;FMTTYPE=image/jpeg:https://www.rainbowsportsclub.com.au/wp-content/uploads/2026/04/Saturday-Music-16.jpg
END:VEVENT
BEGIN:VEVENT
DTSTART;TZID=Australia/Brisbane:20260426T120000
DTEND;TZID=Australia/Brisbane:20260426T150000
DTSTAMP:20260423T034954
CREATED:20260419T102005Z
LAST-MODIFIED:20260419T102005Z
UID:10021548-1777204800-1777215600@www.rainbowsportsclub.com.au
SUMMARY:SIMON MEOLA Live
DESCRIPTION:From midday Sunday\, Simon Meola will be pushing out the arvo vibes in the sports club
URL:https://www.rainbowsportsclub.com.au/event/simon-meola-live-3/
LOCATION:Rainbow Beach Sports Club\, Turana St\, Rainbow Beach\, QLD\, 4581\, Australia
CATEGORIES:What's On
ATTACH;FMTTYPE=image/jpeg:https://www.rainbowsportsclub.com.au/wp-content/uploads/2026/04/Sunday-Arvo-Music-15.jpg
END:VEVENT
BEGIN:VEVENT
DTSTART;TZID=Australia/Brisbane:20260428T090000
DTEND;TZID=Australia/Brisbane:20260629T130000
DTSTAMP:20260423T034954
CREATED:20251209T031426Z
LAST-MODIFIED:20260419T102459Z
UID:10019317-1777366800-1782738000@www.rainbowsportsclub.com.au
SUMMARY:BINGO TUESDAY
DESCRIPTION:Progressive ‘WINNER TAKES ALL’ Plus Jackpot STATUS \nCalls to win weekly jackpot plus carry over bonus Tuesday 17th March 2026: \n\nCalls: 53\nBonus Carry Over Jackpot Amount (the Plus): $137\n\nEvery Tuesday our function room opens itself to members & guests for a fun morning of Bingo. \nWe play 18 games\, which costs $25 for one of everything\, but you can buy & play whichever you like\, and multiple games as well. \nThese are the games we play: \n\nBingo Down Under ($2) – Full House\n10 Game Book ($9) – One Pattern then Full House\n5 Game Book ($7) – One Line\, Two Lines\, then Full House\nWinner Takes All ($3) – Full House\nProgressive Winner Takes All Plus ($4) – Full House\n\nA feature of our Bingo session is we return ALL the money which players put into buying their games into the prize pool and give it back as the prize kitties. \nOther nice things to know: \n\nWe have a $5 minimum prize (no-one needs more coinage)\nIf more than one player calls a successful bingo we still have a minimum $5 prize for everyone\nAny money leftover from the previous 17 games after prizes & roundings gets added to the final progressive jackpot Winner Takes All Plus game\, making it an even more coveted prize\nElectronic iPads (aka PETS) are available at no additional charge.\n\nBingo is a very social morning\, usually finished before 1pm\, and we’d love to see you here !!!
URL:https://www.rainbowsportsclub.com.au/event/bingo-tuesday-2-2/2026-04-28/
LOCATION:Rainbow Beach Sports Club\, Turana St\, Rainbow Beach\, QLD\, 4581\, Australia
CATEGORIES:What's On
ATTACH;FMTTYPE=image/jpeg:https://www.rainbowsportsclub.com.au/wp-content/uploads/2025/12/Bingo-Sunday-6-scaled.jpg
END:VEVENT
BEGIN:VEVENT
DTSTART;TZID=Australia/Brisbane:20260428T180000
DTEND;TZID=Australia/Brisbane:20260707T210000
DTSTAMP:20260423T034954
CREATED:20250704T213529Z
LAST-MODIFIED:20260419T102539Z
UID:10020919-1777399200-1783458000@www.rainbowsportsclub.com.au
SUMMARY:Tuesday Members Night
DESCRIPTION:Tuesdays are for our members! \nJoin us every Tuesday night for: \nRAFFLES\nTickets from 6pm\, drawn from 7pm \nMEMBERS DRAWS\nJackpotting from $1\,000 + $200 per week
URL:https://www.rainbowsportsclub.com.au/event/friday-members-night-3/2026-04-28/
LOCATION:Rainbow Beach Sports Club\, Turana St\, Rainbow Beach\, QLD\, 4581\, Australia
CATEGORIES:What's On
ATTACH;FMTTYPE=image/jpeg:https://www.rainbowsportsclub.com.au/wp-content/uploads/2025/07/Untitled-design-2026-01-08T155242.352-scaled.jpg
END:VEVENT
BEGIN:VEVENT
DTSTART;TZID=Australia/Brisbane:20260430T190000
DTEND;TZID=Australia/Brisbane:20260430T210000
DTSTAMP:20260423T034954
CREATED:20260115T192941Z
LAST-MODIFIED:20260313T085528Z
UID:10017158-1777575600-1777582800@www.rainbowsportsclub.com.au
SUMMARY:Thursday Trivia
DESCRIPTION:Whether to underline your know-it-all status\, or the opportunity to win some great prizes\, we’ve got the perfect excuse to drink\, laugh\, and show off your vast knowledge of useless information to your friends. \nArrive early to nab the best tables and nominate your team name. \nThe first round kicks off at 7pm 😀 \nPrizes for each of six rounds for teams of 1 to 4 players. \nFree to play. \nBe sure to bring your sense of humour
URL:https://www.rainbowsportsclub.com.au/event/thursday-trivia-2-3/2026-04-30/
LOCATION:Rainbow Beach Sports Club\, Turana St\, Rainbow Beach\, QLD\, 4581\, Australia
CATEGORIES:Events,What's On
ATTACH;FMTTYPE=image/jpeg:https://www.rainbowsportsclub.com.au/wp-content/uploads/2026/03/04032026004424-RBS-20-RainbowBeach-Trivia_TVL.jpg
END:VEVENT
END:VCALENDAR