BEGIN:VCALENDAR
VERSION:2.0
PRODID:-//Rainbow Sports Club - ECPv6.15.17//NONSGML v1.0//EN
CALSCALE:GREGORIAN
METHOD:PUBLISH
X-ORIGINAL-URL:https://www.rainbowsportsclub.com.au
X-WR-CALDESC:Events for Rainbow Sports Club
REFRESH-INTERVAL;VALUE=DURATION:PT1H
X-Robots-Tag:noindex
X-PUBLISHED-TTL:PT1H
BEGIN:VTIMEZONE
TZID:Australia/Brisbane
BEGIN:STANDARD
TZOFFSETFROM:+1000
TZOFFSETTO:+1000
TZNAME:AEST
DTSTART:20240101T000000
END:STANDARD
END:VTIMEZONE
BEGIN:VEVENT
DTSTART;TZID=Australia/Brisbane:20251221T130000
DTEND;TZID=Australia/Brisbane:20251221T160000
DTSTAMP:20260420T150718
CREATED:20251219T060027Z
LAST-MODIFIED:20251219T060027Z
UID:10020573-1766322000-1766332800@www.rainbowsportsclub.com.au
SUMMARY:COOL LULA live
DESCRIPTION:Cool Lula bring it every time they play for our venue
URL:https://www.rainbowsportsclub.com.au/event/cool-lula-live/
LOCATION:Rainbow Beach Sports Club\, Turana St\, Rainbow Beach\, QLD\, 4581\, Australia
CATEGORIES:What's On
ATTACH;FMTTYPE=image/jpeg:https://www.rainbowsportsclub.com.au/wp-content/uploads/2025/12/Cool-Lula-Entertainment-Music-scaled.jpg
END:VEVENT
BEGIN:VEVENT
DTSTART;TZID=Australia/Brisbane:20251221T140000
DTEND;TZID=Australia/Brisbane:20251221T170000
DTSTAMP:20260420T150718
CREATED:20251209T032716Z
LAST-MODIFIED:20251209T032716Z
UID:10020108-1766325600-1766336400@www.rainbowsportsclub.com.au
SUMMARY:MEMBERS CHRISTMAS PARTY
DESCRIPTION:All members need to do so they’re in the running for one of 20 Christmas Hams is to swipe in at the kiosk in the foyer on their way into the venue \nThis party is our way of thanking members and wishing them every joy over Christmas \nThere will be free soft drink\, giveaways\, raffles\, specials and a BBQ\, as well as live entertainment and good company
URL:https://www.rainbowsportsclub.com.au/event/members-christmas-party-2/
LOCATION:Rainbow Beach Sports Club\, Turana St\, Rainbow Beach\, QLD\, 4581\, Australia
CATEGORIES:Special Events,What's On
ATTACH;FMTTYPE=image/jpeg:https://www.rainbowsportsclub.com.au/wp-content/uploads/2025/12/Rainbow_Members_Christmas_Party_TVL.jpg
END:VEVENT
BEGIN:VEVENT
DTSTART;TZID=Australia/Brisbane:20251223T180000
DTEND;TZID=Australia/Brisbane:20251223T200000
DTSTAMP:20260420T150718
CREATED:20251210T091004Z
LAST-MODIFIED:20251224T025308Z
UID:10020564-1766512800-1766520000@www.rainbowsportsclub.com.au
SUMMARY:LET'S GLOW CRAZY
DESCRIPTION:Join us for a fun night of glow bowls on our green from 6pm to 8pm \nBeach Buddies play for FREE \n\n\n\n$10pp Adults & Non-Beach Buddy Members \n\n\n\n 
URL:https://www.rainbowsportsclub.com.au/event/lets-glow-crazy/
LOCATION:Rainbow Beach Sports Club\, Turana St\, Rainbow Beach\, QLD\, 4581\, Australia
CATEGORIES:Family,Special Events,What's On
ATTACH;FMTTYPE=image/jpeg:https://www.rainbowsportsclub.com.au/wp-content/uploads/2025/12/This-Tuesday-23rd-December-2-scaled.jpg
END:VEVENT
BEGIN:VEVENT
DTSTART;TZID=Australia/Brisbane:20251223T200000
DTEND;TZID=Australia/Brisbane:20251223T203000
DTSTAMP:20260420T150718
CREATED:20251209T034206Z
LAST-MODIFIED:20251211T025557Z
UID:10020435-1766520000-1766521800@www.rainbowsportsclub.com.au
SUMMARY:Music Bingo
DESCRIPTION:Following our members draws\, and back by popular demand\, we have Music Bingo \nFree to play and loads of great prizes
URL:https://www.rainbowsportsclub.com.au/event/music-bingo-2/2025-12-23/
LOCATION:Rainbow Beach Sports Club\, Turana St\, Rainbow Beach\, QLD\, 4581\, Australia
CATEGORIES:What's On
ATTACH;FMTTYPE=image/jpeg:https://www.rainbowsportsclub.com.au/wp-content/uploads/2025/12/music-bingo-envelope-3-1.jpg
END:VEVENT
BEGIN:VEVENT
DTSTART;TZID=Australia/Brisbane:20251224T110000
DTEND;TZID=Australia/Brisbane:20251224T140000
DTSTAMP:20260420T150718
CREATED:20251209T033324Z
LAST-MODIFIED:20260109T083551Z
UID:10020114-1766574000-1766584800@www.rainbowsportsclub.com.au
SUMMARY:KIDS BINGO
DESCRIPTION:Every Wednesday throughout the Christmas School Holidays\, we’ve organized to have a fantastic session of Kids Bingo from 11am \nJoining in only costs $10 and prizes will be a grand assortment of toys \nAdults are welcome to play as well\, although we will be insisting any winnings go to their young chaperone/s
URL:https://www.rainbowsportsclub.com.au/event/kids-bingo/2025-12-24/
LOCATION:Rainbow Beach Sports Club\, Turana St\, Rainbow Beach\, QLD\, 4581\, Australia
CATEGORIES:Family,Special Events,What's On
ATTACH;FMTTYPE=image/jpeg:https://www.rainbowsportsclub.com.au/wp-content/uploads/2025/12/kids-bingo-1.jpg
END:VEVENT
BEGIN:VEVENT
DTSTART;TZID=Australia/Brisbane:20251225T110000
DTEND;TZID=Australia/Brisbane:20251225T140000
DTSTAMP:20260420T150718
CREATED:20240728T232614Z
LAST-MODIFIED:20251224T043825Z
UID:10006515-1766660400-1766671200@www.rainbowsportsclub.com.au
SUMMARY:Christmas Banquet
DESCRIPTION:Indulge in an all-inclusive Christmas Banquet feast that will tantalise your tastebuds at Rainbow Beach Sports Club this Christmas\, and bring the whole family together to enjoy a lavish seafood & carvery banquet with all your favourite Christmas dishes. \nChristmas Banquet includes:\n– 3-hour drinks package*\n– Fresh Local and Australian sourced Seafood\n– Selection of roasted meats with all the trimmings\n– Delectable Desserts \n*Bottomless Beer\, Wine\, Soft drink\, Tea & Coffee – Spirits available for purchase \nAdults $185 | Teens 13-17 $95 | Kids 5-12 $55 | Under 5 FREE\nMembers Pricing – non members add $10. \nNot a member? Join now for just $15 and start earing rewards and discounts today. \nDATE\nThursday 25 December 2024 11:00am – 2pm \nBookings ESSENTIAL – Click here to secure your spot.
URL:https://www.rainbowsportsclub.com.au/event/christmas-banquet/
LOCATION:Rainbow Beach Sports Club\, Turana St\, Rainbow Beach\, QLD\, 4581\, Australia
CATEGORIES:What's On
ATTACH;FMTTYPE=image/jpeg:https://www.rainbowsportsclub.com.au/wp-content/uploads/2025/07/Rainbow_Christmas-Lunch_2025_Silver_16x9L.jpg
END:VEVENT
BEGIN:VEVENT
DTSTART;VALUE=DATE:20251226
DTEND;VALUE=DATE:20251227
DTSTAMP:20260420T150718
CREATED:20251210T034926Z
LAST-MODIFIED:20251210T034926Z
UID:10020507-1766707200-1766793599@www.rainbowsportsclub.com.au
SUMMARY:BOXING DAY TEST
DESCRIPTION:JOIN US to enjoy the best part of the Christmas long weekend\, watching the test on Rainbow’s biggest screen in air-conditioned comfort and all the atmosphere of being there
URL:https://www.rainbowsportsclub.com.au/event/boxing-day-test/
LOCATION:Rainbow Beach Sports Club\, Turana St\, Rainbow Beach\, QLD\, 4581\, Australia
CATEGORIES:Special Events,What's On
ATTACH;FMTTYPE=image/jpeg:https://www.rainbowsportsclub.com.au/wp-content/uploads/2025/12/BOXING-DAY-3-1.jpg
END:VEVENT
BEGIN:VEVENT
DTSTART;TZID=Australia/Brisbane:20251227T192900
DTEND;TZID=Australia/Brisbane:20251227T223000
DTSTAMP:20260420T150718
CREATED:20251210T015643Z
LAST-MODIFIED:20251219T054717Z
UID:10018498-1766863740-1766874600@www.rainbowsportsclub.com.au
SUMMARY:LIVE MUSIC SATURDAY
DESCRIPTION:SATURDAY NIGHTS with some legend on a mic & caressing a guitar are back\, baby !! Every week we line up another artist to give vibe to the venue so you and your friends can enjoy your weekend the way you want
URL:https://www.rainbowsportsclub.com.au/event/live-music-saturday-2/
LOCATION:Rainbow Beach Sports Club\, Turana St\, Rainbow Beach\, QLD\, 4581\, Australia
CATEGORIES:What's On
ATTACH;FMTTYPE=image/jpeg:https://www.rainbowsportsclub.com.au/wp-content/uploads/2025/11/Saturday-night-live-music-3-scaled.jpg
END:VEVENT
BEGIN:VEVENT
DTSTART;TZID=Australia/Brisbane:20251228T130000
DTEND;TZID=Australia/Brisbane:20251228T160000
DTSTAMP:20260420T150718
CREATED:20251209T033735Z
LAST-MODIFIED:20251224T025250Z
UID:10020174-1766926800-1766937600@www.rainbowsportsclub.com.au
SUMMARY:Sunday Arvo Sessions
DESCRIPTION:Live music from 1pm to 4pm\, with good vibes\, great company\, gaming\, cafe\, courtesy bus and the perfect end to a summer weekend
URL:https://www.rainbowsportsclub.com.au/event/sunday-arvo-sessions/
LOCATION:Rainbow Beach Sports Club\, Turana St\, Rainbow Beach\, QLD\, 4581\, Australia
CATEGORIES:Family,What's On
ATTACH;FMTTYPE=image/jpeg:https://www.rainbowsportsclub.com.au/wp-content/uploads/2025/12/18112025050603-RainbowBeach_SundayArvoSession_TVL-scaled.jpg
END:VEVENT
BEGIN:VEVENT
DTSTART;TZID=Australia/Brisbane:20251231T110000
DTEND;TZID=Australia/Brisbane:20251231T140000
DTSTAMP:20260420T150718
CREATED:20251209T033324Z
LAST-MODIFIED:20260109T083551Z
UID:10020115-1767178800-1767189600@www.rainbowsportsclub.com.au
SUMMARY:KIDS BINGO
DESCRIPTION:Every Wednesday throughout the Christmas School Holidays\, we’ve organized to have a fantastic session of Kids Bingo from 11am \nJoining in only costs $10 and prizes will be a grand assortment of toys \nAdults are welcome to play as well\, although we will be insisting any winnings go to their young chaperone/s
URL:https://www.rainbowsportsclub.com.au/event/kids-bingo/2025-12-31/
LOCATION:Rainbow Beach Sports Club\, Turana St\, Rainbow Beach\, QLD\, 4581\, Australia
CATEGORIES:Family,Special Events,What's On
ATTACH;FMTTYPE=image/jpeg:https://www.rainbowsportsclub.com.au/wp-content/uploads/2025/12/kids-bingo-1.jpg
END:VEVENT
BEGIN:VEVENT
DTSTART;TZID=Australia/Brisbane:20251231T200000
DTEND;TZID=Australia/Brisbane:20260101T010000
DTSTAMP:20260420T150718
CREATED:20251210T034624Z
LAST-MODIFIED:20251210T034624Z
UID:10020506-1767211200-1767229200@www.rainbowsportsclub.com.au
SUMMARY:NEW YEARS EVE PARTY
DESCRIPTION:JOIN US to see the old year out in style and the new year in with gusto\, with live music and great vibes
URL:https://www.rainbowsportsclub.com.au/event/new-years-eve-party/
LOCATION:Rainbow Beach Sports Club\, Turana St\, Rainbow Beach\, QLD\, 4581\, Australia
CATEGORIES:Special Events,What's On
ATTACH;FMTTYPE=image/jpeg:https://www.rainbowsportsclub.com.au/wp-content/uploads/2025/12/Rainbow_Beach_-_NYE_TVL.jpg
END:VEVENT
BEGIN:VEVENT
DTSTART;TZID=Australia/Brisbane:20260101T190000
DTEND;TZID=Australia/Brisbane:20260101T210000
DTSTAMP:20260420T150718
CREATED:20250729T000441Z
LAST-MODIFIED:20251210T015935Z
UID:10017141-1767294000-1767301200@www.rainbowsportsclub.com.au
SUMMARY:Thursday Trivia
DESCRIPTION:Whether to underline your know-it-all status\, or the opportunity to win some great prizes\, we’ve got the perfect excuse to drink\, laugh\, and show off your vast knowledge of useless information to your friends. \nArrive early to nab the best tables and nominate your team name. \nThe first round kicks off at 7pm 😀 \nPrizes for each of six rounds for teams of 1 to 4 players. \nFree to play. \nBe sure to bring your sense of humour
URL:https://www.rainbowsportsclub.com.au/event/thursday-trivia-2/2026-01-01/
LOCATION:Rainbow Beach Sports Club\, Turana St\, Rainbow Beach\, QLD\, 4581\, Australia
CATEGORIES:Events,What's On
ATTACH;FMTTYPE=image/jpeg:https://www.rainbowsportsclub.com.au/wp-content/uploads/2025/07/T-8-1.jpg
END:VEVENT
BEGIN:VEVENT
DTSTART;TZID=Australia/Brisbane:20260102T193000
DTEND;TZID=Australia/Brisbane:20260102T223000
DTSTAMP:20260420T150718
CREATED:20251230T044948Z
LAST-MODIFIED:20251230T045025Z
UID:10020578-1767382200-1767393000@www.rainbowsportsclub.com.au
SUMMARY:THOSE FOLKS
DESCRIPTION:It’s advised that anyone that is passionate about folk music should attend Those Folk if given a chance\, it’s something I would highly recommend. I think most music lovers will be able to find appreciation in their music and if you’re looking for a show that isn’t overbearing but more relaxing\, a show where you can sit back\, enjoy a glass of wine\, and listen to a duo that are devoted to their craft with deeply rich songs on display then this is the perfect show for you.
URL:https://www.rainbowsportsclub.com.au/event/those-folks/
LOCATION:Rainbow Beach Sports Club\, Turana St\, Rainbow Beach\, QLD\, 4581\, Australia
CATEGORIES:Special Events,What's On
ATTACH;FMTTYPE=image/jpeg:https://www.rainbowsportsclub.com.au/wp-content/uploads/2025/12/Graeme-Jensen-Entertainment-Music-1-scaled.jpg
END:VEVENT
BEGIN:VEVENT
DTSTART;TZID=Australia/Brisbane:20260103T193000
DTEND;TZID=Australia/Brisbane:20260103T223000
DTSTAMP:20260420T150718
CREATED:20251230T045151Z
LAST-MODIFIED:20251230T045151Z
UID:10020579-1767468600-1767479400@www.rainbowsportsclub.com.au
SUMMARY:BILLY GUY
DESCRIPTION:Billy Guy\, the ultimate ENTERTAINER! Crowd pleaser a huge range of music styles\, Contemporary\, R&B\, Country Rock\, R&R\, Rockabilly\, and more. Draws a crowd keeps a crowd! Plays to the audience in front of him. Professional attitude\, Sensitive to sound levels.WOW! Factor\, vocal take off’s! Elvis\, Willy Nelson + more! Amazing impressions of legends like Neil Diamond and Johnny Cash\, he performs successfully Tribute shows as well. Billy will keep the party going all night long.
URL:https://www.rainbowsportsclub.com.au/event/billy-guy/
LOCATION:Rainbow Beach Sports Club\, Turana St\, Rainbow Beach\, QLD\, 4581\, Australia
CATEGORIES:Special Events,What's On
ATTACH;FMTTYPE=image/jpeg:https://www.rainbowsportsclub.com.au/wp-content/uploads/2025/12/Karl-Mclean-Entertainment-Music-3-scaled.jpg
END:VEVENT
BEGIN:VEVENT
DTSTART;TZID=Australia/Brisbane:20260104T130000
DTEND;TZID=Australia/Brisbane:20260104T160000
DTSTAMP:20260420T150718
CREATED:20251230T045851Z
LAST-MODIFIED:20251230T050232Z
UID:10020584-1767531600-1767542400@www.rainbowsportsclub.com.au
SUMMARY:COOL LULA
DESCRIPTION:Live music with Cool Lula from 1pm to 4pm\, with good vibes\, great company\, gaming\, cafe\, courtesy bus and the perfect end to a summer weekend
URL:https://www.rainbowsportsclub.com.au/event/cool-lula/
LOCATION:Rainbow Beach Sports Club\, Turana St\, Rainbow Beach\, QLD\, 4581\, Australia
CATEGORIES:Special Events,What's On
ATTACH;FMTTYPE=image/jpeg:https://www.rainbowsportsclub.com.au/wp-content/uploads/2025/12/Cool-Lula-Entertainment-Music-1-scaled.jpg
END:VEVENT
BEGIN:VEVENT
DTSTART;VALUE=DATE:20260105
DTEND;VALUE=DATE:20260106
DTSTAMP:20260420T150718
CREATED:20260103T085330Z
LAST-MODIFIED:20260105T230707Z
UID:10020588-1767571200-1767657599@www.rainbowsportsclub.com.au
SUMMARY:SLALOM SLIDE
DESCRIPTION:We are thrilled to introduce some summer fun at our Rainbow Beach Aquatic Centre\, with our very first inflatable – the Slalom Slide \nConditions \n~ limited to a maximum of 20 participants a session \n~ first in\, first to jump in (no bookings\, except for party bookings) \n~ $5pp to join the fun \n~ Beach Buddies members can join in for FREE \n~ only for competent swimmers \nSessions  \nMonday-Saturday \n9am-10.30am & 3pm-4.30pm
URL:https://www.rainbowsportsclub.com.au/event/slalom-slide/
LOCATION:Rainbow Beach Sports Club\, Turana St\, Rainbow Beach\, QLD\, 4581\, Australia
CATEGORIES:Special Events,What's On
ATTACH;FMTTYPE=image/jpeg:https://www.rainbowsportsclub.com.au/wp-content/uploads/2026/01/5-3-scaled.jpg
END:VEVENT
BEGIN:VEVENT
DTSTART;TZID=Australia/Brisbane:20260107T110000
DTEND;TZID=Australia/Brisbane:20260107T140000
DTSTAMP:20260420T150718
CREATED:20251209T033324Z
LAST-MODIFIED:20260109T083551Z
UID:10020116-1767783600-1767794400@www.rainbowsportsclub.com.au
SUMMARY:KIDS BINGO
DESCRIPTION:Every Wednesday throughout the Christmas School Holidays\, we’ve organized to have a fantastic session of Kids Bingo from 11am \nJoining in only costs $10 and prizes will be a grand assortment of toys \nAdults are welcome to play as well\, although we will be insisting any winnings go to their young chaperone/s
URL:https://www.rainbowsportsclub.com.au/event/kids-bingo/2026-01-07/
LOCATION:Rainbow Beach Sports Club\, Turana St\, Rainbow Beach\, QLD\, 4581\, Australia
CATEGORIES:Family,Special Events,What's On
ATTACH;FMTTYPE=image/jpeg:https://www.rainbowsportsclub.com.au/wp-content/uploads/2025/12/kids-bingo-1.jpg
END:VEVENT
BEGIN:VEVENT
DTSTART;TZID=Australia/Brisbane:20260107T110000
DTEND;TZID=Australia/Brisbane:20260107T140000
DTSTAMP:20260420T150718
CREATED:20251230T044656Z
LAST-MODIFIED:20251230T044710Z
UID:10020577-1767783600-1767794400@www.rainbowsportsclub.com.au
SUMMARY:MORNING MELODIES
DESCRIPTION:GRAEME JENSEN is hosting this month’s Morning Melodies\, our monthly come-along sing-along activity \nEntry includes a 2-course meal and lucky door prize
URL:https://www.rainbowsportsclub.com.au/event/morning-melodies-3/
LOCATION:Rainbow Beach Sports Club\, Turana St\, Rainbow Beach\, QLD\, 4581\, Australia
CATEGORIES:Special Events,What's On
ATTACH;FMTTYPE=image/jpeg:https://www.rainbowsportsclub.com.au/wp-content/uploads/2025/12/NOV-MORNING-MELODIES-1-scaled.jpg
END:VEVENT
BEGIN:VEVENT
DTSTART;TZID=Australia/Brisbane:20260108T110000
DTEND;TZID=Australia/Brisbane:20260108T140000
DTSTAMP:20260420T150718
CREATED:20251210T035908Z
LAST-MODIFIED:20260109T083659Z
UID:10020509-1767870000-1767880800@www.rainbowsportsclub.com.au
SUMMARY:Paint & Poppers
DESCRIPTION:Every Thursday in January until the school holidays come to an end\, we are holding a hosted painting activity from 11am\, with everything provided including guided instructions to help your child produce a wall-worthy piece of art \nThe low price of $35 includes not only a canvas\, paints\, brushes\, easel\, paint tray\, and a host to guide your child’s creativity\, but lunch & a popper \nOur young Beach Buddies receive a discount of $5 for this activity – if your kid isn’t a Beach Buddy yet\, join them up! \nPlaces are strictly limited so be sure to book in our reception area
URL:https://www.rainbowsportsclub.com.au/event/paint-poppers/2026-01-08/
LOCATION:Rainbow Beach Sports Club\, Turana St\, Rainbow Beach\, QLD\, 4581\, Australia
CATEGORIES:Family,Special Events,What's On
ATTACH;FMTTYPE=image/jpeg:https://www.rainbowsportsclub.com.au/wp-content/uploads/2025/12/Paint-Poppers-scaled.jpg
END:VEVENT
BEGIN:VEVENT
DTSTART;TZID=Australia/Brisbane:20260108T190000
DTEND;TZID=Australia/Brisbane:20260108T210000
DTSTAMP:20260420T150718
CREATED:20250729T000441Z
LAST-MODIFIED:20251210T015935Z
UID:10017142-1767898800-1767906000@www.rainbowsportsclub.com.au
SUMMARY:Thursday Trivia
DESCRIPTION:Whether to underline your know-it-all status\, or the opportunity to win some great prizes\, we’ve got the perfect excuse to drink\, laugh\, and show off your vast knowledge of useless information to your friends. \nArrive early to nab the best tables and nominate your team name. \nThe first round kicks off at 7pm 😀 \nPrizes for each of six rounds for teams of 1 to 4 players. \nFree to play. \nBe sure to bring your sense of humour
URL:https://www.rainbowsportsclub.com.au/event/thursday-trivia-2/2026-01-08/
LOCATION:Rainbow Beach Sports Club\, Turana St\, Rainbow Beach\, QLD\, 4581\, Australia
CATEGORIES:Events,What's On
ATTACH;FMTTYPE=image/jpeg:https://www.rainbowsportsclub.com.au/wp-content/uploads/2025/07/T-8-1.jpg
END:VEVENT
BEGIN:VEVENT
DTSTART;TZID=Australia/Brisbane:20260109T193000
DTEND;TZID=Australia/Brisbane:20260109T223000
DTSTAMP:20260420T150718
CREATED:20260105T224717Z
LAST-MODIFIED:20260105T224717Z
UID:10020589-1767987000-1767997800@www.rainbowsportsclub.com.au
SUMMARY:Graeme Jensen LIVE
DESCRIPTION:Graeme Jensen is the whole package – accomplished singer-songwriter & great performer \nWe are thrilled to have him back in our venue this Friday night
URL:https://www.rainbowsportsclub.com.au/event/graeme-jensen-live-2/
LOCATION:Rainbow Beach Sports Club\, Turana St\, Rainbow Beach\, QLD\, 4581\, Australia
CATEGORIES:What's On
ATTACH;FMTTYPE=image/jpeg:https://www.rainbowsportsclub.com.au/wp-content/uploads/2026/01/Graeme-Jensen-Entertainment-Music-2-scaled.jpg
END:VEVENT
BEGIN:VEVENT
DTSTART;TZID=Australia/Brisbane:20260110T193000
DTEND;TZID=Australia/Brisbane:20260110T223000
DTSTAMP:20260420T150718
CREATED:20260108T054729Z
LAST-MODIFIED:20260108T054729Z
UID:10020856-1768073400-1768084200@www.rainbowsportsclub.com.au
SUMMARY:JUNCTION ROAD LIVE
DESCRIPTION:Junction Road were hugely popular when they last played here so we’re thrilled to have them back in the venue
URL:https://www.rainbowsportsclub.com.au/event/junction-road-live/
LOCATION:Rainbow Beach Sports Club\, Turana St\, Rainbow Beach\, QLD\, 4581\, Australia
CATEGORIES:What's On
ATTACH;FMTTYPE=image/jpeg:https://www.rainbowsportsclub.com.au/wp-content/uploads/2026/01/Karl-Mclean-Entertainment-Music-4-scaled.jpg
END:VEVENT
BEGIN:VEVENT
DTSTART;TZID=Australia/Brisbane:20260111T193000
DTEND;TZID=Australia/Brisbane:20260111T223000
DTSTAMP:20260420T150718
CREATED:20260108T054253Z
LAST-MODIFIED:20260108T054324Z
UID:10020853-1768159800-1768170600@www.rainbowsportsclub.com.au
SUMMARY:MARIA WHITTAKER LIVE
DESCRIPTION:Maria Whittaker will be in the venue Sunday for an enjoyable afternoon of good music\, good company & good vibes \nSee you here
URL:https://www.rainbowsportsclub.com.au/event/maria-whittaker-live-3/
LOCATION:Rainbow Beach Sports Club\, Turana St\, Rainbow Beach\, QLD\, 4581\, Australia
CATEGORIES:What's On
ATTACH;FMTTYPE=image/jpeg:https://www.rainbowsportsclub.com.au/wp-content/uploads/2026/01/Cool-Lula-Entertainment-Music-2-scaled.jpg
END:VEVENT
BEGIN:VEVENT
DTSTART;TZID=Australia/Brisbane:20260113T180000
DTEND;TZID=Australia/Brisbane:20260113T193000
DTSTAMP:20260420T150718
CREATED:20260111T085136Z
LAST-MODIFIED:20260111T085617Z
UID:10020862-1768327200-1768332600@www.rainbowsportsclub.com.au
SUMMARY:COMMUNITY RAFFLES
DESCRIPTION:Every Members night not only have members draws but community raffles\, which is our way of helping local community groups raise much-needed funds.  \nAll January\, our Tuesday Community Raffles will be benefiting Rainbow Beach Boardriders Club
URL:https://www.rainbowsportsclub.com.au/event/tuesday-night-community-raffles/2026-01-13/
LOCATION:Rainbow Beach Sports Club\, Turana St\, Rainbow Beach\, QLD\, 4581\, Australia
CATEGORIES:What's On
ATTACH;FMTTYPE=image/jpeg:https://www.rainbowsportsclub.com.au/wp-content/uploads/2026/01/Tuesday-Raffles-scaled.jpg
END:VEVENT
BEGIN:VEVENT
DTSTART;TZID=Australia/Brisbane:20260113T200000
DTEND;TZID=Australia/Brisbane:20260113T210000
DTSTAMP:20260420T150718
CREATED:20260105T230234Z
LAST-MODIFIED:20260105T230234Z
UID:10020591-1768334400-1768338000@www.rainbowsportsclub.com.au
SUMMARY:MUSIC BINGO
DESCRIPTION:Listen to 30 seconds of a song and figure out the title\, then see if you can cross it off your game sheet. Call ‘BINGO!’ before anyone else. Win a prize. \nIt’s that simple\, and it’s a lot of fun. Also\, FREE to participate
URL:https://www.rainbowsportsclub.com.au/event/music-bingo-3/2026-01-13/
LOCATION:Rainbow Beach Sports Club\, Turana St\, Rainbow Beach\, QLD\, 4581\, Australia
CATEGORIES:What's On
ATTACH;FMTTYPE=image/jpeg:https://www.rainbowsportsclub.com.au/wp-content/uploads/2025/12/music-bingo-envelope-3-1.jpg
END:VEVENT
BEGIN:VEVENT
DTSTART;TZID=Australia/Brisbane:20260114T110000
DTEND;TZID=Australia/Brisbane:20260114T140000
DTSTAMP:20260420T150718
CREATED:20251209T033324Z
LAST-MODIFIED:20260109T083551Z
UID:10020117-1768388400-1768399200@www.rainbowsportsclub.com.au
SUMMARY:KIDS BINGO
DESCRIPTION:Every Wednesday throughout the Christmas School Holidays\, we’ve organized to have a fantastic session of Kids Bingo from 11am \nJoining in only costs $10 and prizes will be a grand assortment of toys \nAdults are welcome to play as well\, although we will be insisting any winnings go to their young chaperone/s
URL:https://www.rainbowsportsclub.com.au/event/kids-bingo/2026-01-14/
LOCATION:Rainbow Beach Sports Club\, Turana St\, Rainbow Beach\, QLD\, 4581\, Australia
CATEGORIES:Family,Special Events,What's On
ATTACH;FMTTYPE=image/jpeg:https://www.rainbowsportsclub.com.au/wp-content/uploads/2025/12/kids-bingo-1.jpg
END:VEVENT
BEGIN:VEVENT
DTSTART;TZID=Australia/Brisbane:20260115T110000
DTEND;TZID=Australia/Brisbane:20260115T140000
DTSTAMP:20260420T150718
CREATED:20251210T035908Z
LAST-MODIFIED:20260109T083659Z
UID:10020510-1768474800-1768485600@www.rainbowsportsclub.com.au
SUMMARY:Paint & Poppers
DESCRIPTION:Every Thursday in January until the school holidays come to an end\, we are holding a hosted painting activity from 11am\, with everything provided including guided instructions to help your child produce a wall-worthy piece of art \nThe low price of $35 includes not only a canvas\, paints\, brushes\, easel\, paint tray\, and a host to guide your child’s creativity\, but lunch & a popper \nOur young Beach Buddies receive a discount of $5 for this activity – if your kid isn’t a Beach Buddy yet\, join them up! \nPlaces are strictly limited so be sure to book in our reception area
URL:https://www.rainbowsportsclub.com.au/event/paint-poppers/2026-01-15/
LOCATION:Rainbow Beach Sports Club\, Turana St\, Rainbow Beach\, QLD\, 4581\, Australia
CATEGORIES:Family,Special Events,What's On
ATTACH;FMTTYPE=image/jpeg:https://www.rainbowsportsclub.com.au/wp-content/uploads/2025/12/Paint-Poppers-scaled.jpg
END:VEVENT
BEGIN:VEVENT
DTSTART;TZID=Australia/Brisbane:20260116T180000
DTEND;TZID=Australia/Brisbane:20260116T193000
DTSTAMP:20260420T150718
CREATED:20260111T085458Z
LAST-MODIFIED:20260118T081825Z
UID:10020889-1768586400-1768591800@www.rainbowsportsclub.com.au
SUMMARY:COMMUNITY RAFFLES
DESCRIPTION:Every week our community raffles help local community groups raise much needed funds \nAll January\, your chance to win meat trays will support Rainbow Beach Bowling Club & Rainbow Beach Aquatic Centre
URL:https://www.rainbowsportsclub.com.au/event/community-raffles-3/2026-01-16/
LOCATION:Rainbow Beach Sports Club\, Turana St\, Rainbow Beach\, QLD\, 4581\, Australia
CATEGORIES:What's On
ATTACH;FMTTYPE=image/jpeg:https://www.rainbowsportsclub.com.au/wp-content/uploads/2026/01/Fri-Sat-Raffles-1-scaled.jpg
END:VEVENT
BEGIN:VEVENT
DTSTART;TZID=Australia/Brisbane:20260116T193000
DTEND;TZID=Australia/Brisbane:20260116T223000
DTSTAMP:20260420T150718
CREATED:20260111T075943Z
LAST-MODIFIED:20260111T080038Z
UID:10020858-1768591800-1768602600@www.rainbowsportsclub.com.au
SUMMARY:BRAD SORENSEN LIVE
DESCRIPTION:Join us from 7.30pm this Friday when Brad Sorensen takes to the stage to entertain our members & guests\, leading us all into the weekend with great tunes
URL:https://www.rainbowsportsclub.com.au/event/brad-sorensen-live/
LOCATION:Rainbow Beach Sports Club\, Turana St\, Rainbow Beach\, QLD\, 4581\, Australia
CATEGORIES:What's On
ATTACH;FMTTYPE=image/jpeg:https://www.rainbowsportsclub.com.au/wp-content/uploads/2026/01/brad-sorensen-Entertainment-Music-scaled.jpg
END:VEVENT
BEGIN:VEVENT
DTSTART;TZID=Australia/Brisbane:20260117T180000
DTEND;TZID=Australia/Brisbane:20260117T193000
DTSTAMP:20260420T150718
CREATED:20260111T085458Z
LAST-MODIFIED:20260118T081825Z
UID:10020890-1768672800-1768678200@www.rainbowsportsclub.com.au
SUMMARY:COMMUNITY RAFFLES
DESCRIPTION:Every week our community raffles help local community groups raise much needed funds \nAll January\, your chance to win meat trays will support Rainbow Beach Bowling Club & Rainbow Beach Aquatic Centre
URL:https://www.rainbowsportsclub.com.au/event/community-raffles-3/2026-01-17/
LOCATION:Rainbow Beach Sports Club\, Turana St\, Rainbow Beach\, QLD\, 4581\, Australia
CATEGORIES:What's On
ATTACH;FMTTYPE=image/jpeg:https://www.rainbowsportsclub.com.au/wp-content/uploads/2026/01/Fri-Sat-Raffles-1-scaled.jpg
END:VEVENT
END:VCALENDAR