BEGIN:VCALENDAR
VERSION:2.0
PRODID:-//Rainbow Sports Club - ECPv6.15.17//NONSGML v1.0//EN
CALSCALE:GREGORIAN
METHOD:PUBLISH
X-ORIGINAL-URL:https://www.rainbowsportsclub.com.au
X-WR-CALDESC:Events for Rainbow Sports Club
REFRESH-INTERVAL;VALUE=DURATION:PT1H
X-Robots-Tag:noindex
X-PUBLISHED-TTL:PT1H
BEGIN:VTIMEZONE
TZID:Australia/Brisbane
BEGIN:STANDARD
TZOFFSETFROM:+1000
TZOFFSETTO:+1000
TZNAME:AEST
DTSTART:20250101T000000
END:STANDARD
END:VTIMEZONE
BEGIN:VEVENT
DTSTART;TZID=Australia/Brisbane:20260718T192900
DTEND;TZID=Australia/Brisbane:20260718T223000
DTSTAMP:20260425T005232
CREATED:20251230T045357Z
LAST-MODIFIED:20260419T102722Z
UID:10018527-1784402940-1784413800@www.rainbowsportsclub.com.au
SUMMARY:LIVE MUSIC SATURDAY
DESCRIPTION:SATURDAY NIGHTS with some legend on a mic & caressing a guitar are back\, baby !! Every week we line up another artist to give vibe to the venue so you and your friends can enjoy your weekend the way you want
URL:https://www.rainbowsportsclub.com.au/event/live-music-saturday-2-2/2026-07-18/
LOCATION:Rainbow Beach Sports Club\, Turana St\, Rainbow Beach\, QLD\, 4581\, Australia
CATEGORIES:What's On
ATTACH;FMTTYPE=image/jpeg:https://www.rainbowsportsclub.com.au/wp-content/uploads/2025/11/Saturday-night-live-music-3-scaled.jpg
END:VEVENT
BEGIN:VEVENT
DTSTART;TZID=Australia/Brisbane:20260716T190000
DTEND;TZID=Australia/Brisbane:20260716T210000
DTSTAMP:20260425T005232
CREATED:20260115T192941Z
LAST-MODIFIED:20260313T085528Z
UID:10017169-1784228400-1784235600@www.rainbowsportsclub.com.au
SUMMARY:Thursday Trivia
DESCRIPTION:Whether to underline your know-it-all status\, or the opportunity to win some great prizes\, we’ve got the perfect excuse to drink\, laugh\, and show off your vast knowledge of useless information to your friends. \nArrive early to nab the best tables and nominate your team name. \nThe first round kicks off at 7pm 😀 \nPrizes for each of six rounds for teams of 1 to 4 players. \nFree to play. \nBe sure to bring your sense of humour
URL:https://www.rainbowsportsclub.com.au/event/thursday-trivia-2-3/2026-07-16/
LOCATION:Rainbow Beach Sports Club\, Turana St\, Rainbow Beach\, QLD\, 4581\, Australia
CATEGORIES:Events,What's On
ATTACH;FMTTYPE=image/jpeg:https://www.rainbowsportsclub.com.au/wp-content/uploads/2026/03/04032026004424-RBS-20-RainbowBeach-Trivia_TVL.jpg
END:VEVENT
BEGIN:VEVENT
DTSTART;TZID=Australia/Brisbane:20260712T130000
DTEND;TZID=Australia/Brisbane:20260712T160000
DTSTAMP:20260425T005232
CREATED:20251230T045628Z
LAST-MODIFIED:20260419T102758Z
UID:10020202-1783861200-1783872000@www.rainbowsportsclub.com.au
SUMMARY:Sunday Arvo Sessions
DESCRIPTION:Live music from 1pm to 4pm\, with good vibes\, great company\, gaming\, cafe\, courtesy bus and the perfect end to a summer weekend
URL:https://www.rainbowsportsclub.com.au/event/sunday-arvo-sessions-2/2026-07-12/
LOCATION:Rainbow Beach Sports Club\, Turana St\, Rainbow Beach\, QLD\, 4581\, Australia
CATEGORIES:Family,What's On
ATTACH;FMTTYPE=image/jpeg:https://www.rainbowsportsclub.com.au/wp-content/uploads/2025/12/Live-Music-Midday-to-3pm.jpg
END:VEVENT
BEGIN:VEVENT
DTSTART;TZID=Australia/Brisbane:20260711T192900
DTEND;TZID=Australia/Brisbane:20260711T223000
DTSTAMP:20260425T005232
CREATED:20251230T045357Z
LAST-MODIFIED:20260419T102722Z
UID:10018526-1783798140-1783809000@www.rainbowsportsclub.com.au
SUMMARY:LIVE MUSIC SATURDAY
DESCRIPTION:SATURDAY NIGHTS with some legend on a mic & caressing a guitar are back\, baby !! Every week we line up another artist to give vibe to the venue so you and your friends can enjoy your weekend the way you want
URL:https://www.rainbowsportsclub.com.au/event/live-music-saturday-2-2/2026-07-11/
LOCATION:Rainbow Beach Sports Club\, Turana St\, Rainbow Beach\, QLD\, 4581\, Australia
CATEGORIES:What's On
ATTACH;FMTTYPE=image/jpeg:https://www.rainbowsportsclub.com.au/wp-content/uploads/2025/11/Saturday-night-live-music-3-scaled.jpg
END:VEVENT
BEGIN:VEVENT
DTSTART;TZID=Australia/Brisbane:20260709T190000
DTEND;TZID=Australia/Brisbane:20260709T210000
DTSTAMP:20260425T005232
CREATED:20260115T192941Z
LAST-MODIFIED:20260313T085528Z
UID:10017168-1783623600-1783630800@www.rainbowsportsclub.com.au
SUMMARY:Thursday Trivia
DESCRIPTION:Whether to underline your know-it-all status\, or the opportunity to win some great prizes\, we’ve got the perfect excuse to drink\, laugh\, and show off your vast knowledge of useless information to your friends. \nArrive early to nab the best tables and nominate your team name. \nThe first round kicks off at 7pm 😀 \nPrizes for each of six rounds for teams of 1 to 4 players. \nFree to play. \nBe sure to bring your sense of humour
URL:https://www.rainbowsportsclub.com.au/event/thursday-trivia-2-3/2026-07-09/
LOCATION:Rainbow Beach Sports Club\, Turana St\, Rainbow Beach\, QLD\, 4581\, Australia
CATEGORIES:Events,What's On
ATTACH;FMTTYPE=image/jpeg:https://www.rainbowsportsclub.com.au/wp-content/uploads/2026/03/04032026004424-RBS-20-RainbowBeach-Trivia_TVL.jpg
END:VEVENT
BEGIN:VEVENT
DTSTART;TZID=Australia/Brisbane:20260705T130000
DTEND;TZID=Australia/Brisbane:20260705T160000
DTSTAMP:20260425T005232
CREATED:20251230T045628Z
LAST-MODIFIED:20260419T102758Z
UID:10020201-1783256400-1783267200@www.rainbowsportsclub.com.au
SUMMARY:Sunday Arvo Sessions
DESCRIPTION:Live music from 1pm to 4pm\, with good vibes\, great company\, gaming\, cafe\, courtesy bus and the perfect end to a summer weekend
URL:https://www.rainbowsportsclub.com.au/event/sunday-arvo-sessions-2/2026-07-05/
LOCATION:Rainbow Beach Sports Club\, Turana St\, Rainbow Beach\, QLD\, 4581\, Australia
CATEGORIES:Family,What's On
ATTACH;FMTTYPE=image/jpeg:https://www.rainbowsportsclub.com.au/wp-content/uploads/2025/12/Live-Music-Midday-to-3pm.jpg
END:VEVENT
BEGIN:VEVENT
DTSTART;TZID=Australia/Brisbane:20260704T192900
DTEND;TZID=Australia/Brisbane:20260704T223000
DTSTAMP:20260425T005232
CREATED:20251230T045357Z
LAST-MODIFIED:20260419T102722Z
UID:10018525-1783193340-1783204200@www.rainbowsportsclub.com.au
SUMMARY:LIVE MUSIC SATURDAY
DESCRIPTION:SATURDAY NIGHTS with some legend on a mic & caressing a guitar are back\, baby !! Every week we line up another artist to give vibe to the venue so you and your friends can enjoy your weekend the way you want
URL:https://www.rainbowsportsclub.com.au/event/live-music-saturday-2-2/2026-07-04/
LOCATION:Rainbow Beach Sports Club\, Turana St\, Rainbow Beach\, QLD\, 4581\, Australia
CATEGORIES:What's On
ATTACH;FMTTYPE=image/jpeg:https://www.rainbowsportsclub.com.au/wp-content/uploads/2025/11/Saturday-night-live-music-3-scaled.jpg
END:VEVENT
BEGIN:VEVENT
DTSTART;TZID=Australia/Brisbane:20260702T190000
DTEND;TZID=Australia/Brisbane:20260702T210000
DTSTAMP:20260425T005232
CREATED:20260115T192941Z
LAST-MODIFIED:20260313T085528Z
UID:10017167-1783018800-1783026000@www.rainbowsportsclub.com.au
SUMMARY:Thursday Trivia
DESCRIPTION:Whether to underline your know-it-all status\, or the opportunity to win some great prizes\, we’ve got the perfect excuse to drink\, laugh\, and show off your vast knowledge of useless information to your friends. \nArrive early to nab the best tables and nominate your team name. \nThe first round kicks off at 7pm 😀 \nPrizes for each of six rounds for teams of 1 to 4 players. \nFree to play. \nBe sure to bring your sense of humour
URL:https://www.rainbowsportsclub.com.au/event/thursday-trivia-2-3/2026-07-02/
LOCATION:Rainbow Beach Sports Club\, Turana St\, Rainbow Beach\, QLD\, 4581\, Australia
CATEGORIES:Events,What's On
ATTACH;FMTTYPE=image/jpeg:https://www.rainbowsportsclub.com.au/wp-content/uploads/2026/03/04032026004424-RBS-20-RainbowBeach-Trivia_TVL.jpg
END:VEVENT
BEGIN:VEVENT
DTSTART;TZID=Australia/Brisbane:20260628T130000
DTEND;TZID=Australia/Brisbane:20260628T160000
DTSTAMP:20260425T005232
CREATED:20251230T045628Z
LAST-MODIFIED:20260419T102758Z
UID:10020200-1782651600-1782662400@www.rainbowsportsclub.com.au
SUMMARY:Sunday Arvo Sessions
DESCRIPTION:Live music from 1pm to 4pm\, with good vibes\, great company\, gaming\, cafe\, courtesy bus and the perfect end to a summer weekend
URL:https://www.rainbowsportsclub.com.au/event/sunday-arvo-sessions-2/2026-06-28/
LOCATION:Rainbow Beach Sports Club\, Turana St\, Rainbow Beach\, QLD\, 4581\, Australia
CATEGORIES:Family,What's On
ATTACH;FMTTYPE=image/jpeg:https://www.rainbowsportsclub.com.au/wp-content/uploads/2025/12/Live-Music-Midday-to-3pm.jpg
END:VEVENT
BEGIN:VEVENT
DTSTART;TZID=Australia/Brisbane:20260627T192900
DTEND;TZID=Australia/Brisbane:20260627T223000
DTSTAMP:20260425T005232
CREATED:20251230T045357Z
LAST-MODIFIED:20260419T102722Z
UID:10018524-1782588540-1782599400@www.rainbowsportsclub.com.au
SUMMARY:LIVE MUSIC SATURDAY
DESCRIPTION:SATURDAY NIGHTS with some legend on a mic & caressing a guitar are back\, baby !! Every week we line up another artist to give vibe to the venue so you and your friends can enjoy your weekend the way you want
URL:https://www.rainbowsportsclub.com.au/event/live-music-saturday-2-2/2026-06-27/
LOCATION:Rainbow Beach Sports Club\, Turana St\, Rainbow Beach\, QLD\, 4581\, Australia
CATEGORIES:What's On
ATTACH;FMTTYPE=image/jpeg:https://www.rainbowsportsclub.com.au/wp-content/uploads/2025/11/Saturday-night-live-music-3-scaled.jpg
END:VEVENT
BEGIN:VEVENT
DTSTART;TZID=Australia/Brisbane:20260625T190000
DTEND;TZID=Australia/Brisbane:20260625T210000
DTSTAMP:20260425T005232
CREATED:20260115T192941Z
LAST-MODIFIED:20260313T085528Z
UID:10017166-1782414000-1782421200@www.rainbowsportsclub.com.au
SUMMARY:Thursday Trivia
DESCRIPTION:Whether to underline your know-it-all status\, or the opportunity to win some great prizes\, we’ve got the perfect excuse to drink\, laugh\, and show off your vast knowledge of useless information to your friends. \nArrive early to nab the best tables and nominate your team name. \nThe first round kicks off at 7pm 😀 \nPrizes for each of six rounds for teams of 1 to 4 players. \nFree to play. \nBe sure to bring your sense of humour
URL:https://www.rainbowsportsclub.com.au/event/thursday-trivia-2-3/2026-06-25/
LOCATION:Rainbow Beach Sports Club\, Turana St\, Rainbow Beach\, QLD\, 4581\, Australia
CATEGORIES:Events,What's On
ATTACH;FMTTYPE=image/jpeg:https://www.rainbowsportsclub.com.au/wp-content/uploads/2026/03/04032026004424-RBS-20-RainbowBeach-Trivia_TVL.jpg
END:VEVENT
BEGIN:VEVENT
DTSTART;TZID=Australia/Brisbane:20260621T130000
DTEND;TZID=Australia/Brisbane:20260621T160000
DTSTAMP:20260425T005232
CREATED:20251230T045628Z
LAST-MODIFIED:20260419T102758Z
UID:10020199-1782046800-1782057600@www.rainbowsportsclub.com.au
SUMMARY:Sunday Arvo Sessions
DESCRIPTION:Live music from 1pm to 4pm\, with good vibes\, great company\, gaming\, cafe\, courtesy bus and the perfect end to a summer weekend
URL:https://www.rainbowsportsclub.com.au/event/sunday-arvo-sessions-2/2026-06-21/
LOCATION:Rainbow Beach Sports Club\, Turana St\, Rainbow Beach\, QLD\, 4581\, Australia
CATEGORIES:Family,What's On
ATTACH;FMTTYPE=image/jpeg:https://www.rainbowsportsclub.com.au/wp-content/uploads/2025/12/Live-Music-Midday-to-3pm.jpg
END:VEVENT
BEGIN:VEVENT
DTSTART;TZID=Australia/Brisbane:20260620T192900
DTEND;TZID=Australia/Brisbane:20260620T223000
DTSTAMP:20260425T005232
CREATED:20251230T045357Z
LAST-MODIFIED:20260419T102722Z
UID:10018523-1781983740-1781994600@www.rainbowsportsclub.com.au
SUMMARY:LIVE MUSIC SATURDAY
DESCRIPTION:SATURDAY NIGHTS with some legend on a mic & caressing a guitar are back\, baby !! Every week we line up another artist to give vibe to the venue so you and your friends can enjoy your weekend the way you want
URL:https://www.rainbowsportsclub.com.au/event/live-music-saturday-2-2/2026-06-20/
LOCATION:Rainbow Beach Sports Club\, Turana St\, Rainbow Beach\, QLD\, 4581\, Australia
CATEGORIES:What's On
ATTACH;FMTTYPE=image/jpeg:https://www.rainbowsportsclub.com.au/wp-content/uploads/2025/11/Saturday-night-live-music-3-scaled.jpg
END:VEVENT
BEGIN:VEVENT
DTSTART;TZID=Australia/Brisbane:20260619T193000
DTEND;TZID=Australia/Brisbane:20260717T223000
DTSTAMP:20260425T005232
CREATED:20251209T032815Z
LAST-MODIFIED:20260419T102635Z
UID:10018259-1781897400-1784327400@www.rainbowsportsclub.com.au
SUMMARY:LIVE MUSIC FRIDAY
DESCRIPTION:FRIDAY NIGHTS are about letting your hair down\, so you’ll find a musician or three on stage ready to pick\, pluck and strum their magic from 7.30pm to 10.30pm \nEnjoy!!
URL:https://www.rainbowsportsclub.com.au/event/live-music-friday-2/2026-06-19/
LOCATION:QLD
CATEGORIES:What's On
ATTACH;FMTTYPE=image/jpeg:https://www.rainbowsportsclub.com.au/wp-content/uploads/2024/11/Black-Brown-Modern-Music-Present.jpg
END:VEVENT
BEGIN:VEVENT
DTSTART;TZID=Australia/Brisbane:20260618T190000
DTEND;TZID=Australia/Brisbane:20260618T210000
DTSTAMP:20260425T005232
CREATED:20260115T192941Z
LAST-MODIFIED:20260313T085528Z
UID:10017165-1781809200-1781816400@www.rainbowsportsclub.com.au
SUMMARY:Thursday Trivia
DESCRIPTION:Whether to underline your know-it-all status\, or the opportunity to win some great prizes\, we’ve got the perfect excuse to drink\, laugh\, and show off your vast knowledge of useless information to your friends. \nArrive early to nab the best tables and nominate your team name. \nThe first round kicks off at 7pm 😀 \nPrizes for each of six rounds for teams of 1 to 4 players. \nFree to play. \nBe sure to bring your sense of humour
URL:https://www.rainbowsportsclub.com.au/event/thursday-trivia-2-3/2026-06-18/
LOCATION:Rainbow Beach Sports Club\, Turana St\, Rainbow Beach\, QLD\, 4581\, Australia
CATEGORIES:Events,What's On
ATTACH;FMTTYPE=image/jpeg:https://www.rainbowsportsclub.com.au/wp-content/uploads/2026/03/04032026004424-RBS-20-RainbowBeach-Trivia_TVL.jpg
END:VEVENT
BEGIN:VEVENT
DTSTART;TZID=Australia/Brisbane:20260614T130000
DTEND;TZID=Australia/Brisbane:20260614T160000
DTSTAMP:20260425T005232
CREATED:20251230T045628Z
LAST-MODIFIED:20260419T102758Z
UID:10020198-1781442000-1781452800@www.rainbowsportsclub.com.au
SUMMARY:Sunday Arvo Sessions
DESCRIPTION:Live music from 1pm to 4pm\, with good vibes\, great company\, gaming\, cafe\, courtesy bus and the perfect end to a summer weekend
URL:https://www.rainbowsportsclub.com.au/event/sunday-arvo-sessions-2/2026-06-14/
LOCATION:Rainbow Beach Sports Club\, Turana St\, Rainbow Beach\, QLD\, 4581\, Australia
CATEGORIES:Family,What's On
ATTACH;FMTTYPE=image/jpeg:https://www.rainbowsportsclub.com.au/wp-content/uploads/2025/12/Live-Music-Midday-to-3pm.jpg
END:VEVENT
BEGIN:VEVENT
DTSTART;TZID=Australia/Brisbane:20260613T192900
DTEND;TZID=Australia/Brisbane:20260613T223000
DTSTAMP:20260425T005232
CREATED:20251230T045357Z
LAST-MODIFIED:20260419T102722Z
UID:10018522-1781378940-1781389800@www.rainbowsportsclub.com.au
SUMMARY:LIVE MUSIC SATURDAY
DESCRIPTION:SATURDAY NIGHTS with some legend on a mic & caressing a guitar are back\, baby !! Every week we line up another artist to give vibe to the venue so you and your friends can enjoy your weekend the way you want
URL:https://www.rainbowsportsclub.com.au/event/live-music-saturday-2-2/2026-06-13/
LOCATION:Rainbow Beach Sports Club\, Turana St\, Rainbow Beach\, QLD\, 4581\, Australia
CATEGORIES:What's On
ATTACH;FMTTYPE=image/jpeg:https://www.rainbowsportsclub.com.au/wp-content/uploads/2025/11/Saturday-night-live-music-3-scaled.jpg
END:VEVENT
BEGIN:VEVENT
DTSTART;TZID=Australia/Brisbane:20260612T193000
DTEND;TZID=Australia/Brisbane:20260710T223000
DTSTAMP:20260425T005232
CREATED:20251209T032815Z
LAST-MODIFIED:20260419T102635Z
UID:10018258-1781292600-1783722600@www.rainbowsportsclub.com.au
SUMMARY:LIVE MUSIC FRIDAY
DESCRIPTION:FRIDAY NIGHTS are about letting your hair down\, so you’ll find a musician or three on stage ready to pick\, pluck and strum their magic from 7.30pm to 10.30pm \nEnjoy!!
URL:https://www.rainbowsportsclub.com.au/event/live-music-friday-2/2026-06-12/
LOCATION:QLD
CATEGORIES:What's On
ATTACH;FMTTYPE=image/jpeg:https://www.rainbowsportsclub.com.au/wp-content/uploads/2024/11/Black-Brown-Modern-Music-Present.jpg
END:VEVENT
BEGIN:VEVENT
DTSTART;TZID=Australia/Brisbane:20260611T190000
DTEND;TZID=Australia/Brisbane:20260611T210000
DTSTAMP:20260425T005232
CREATED:20260115T192941Z
LAST-MODIFIED:20260313T085528Z
UID:10017164-1781204400-1781211600@www.rainbowsportsclub.com.au
SUMMARY:Thursday Trivia
DESCRIPTION:Whether to underline your know-it-all status\, or the opportunity to win some great prizes\, we’ve got the perfect excuse to drink\, laugh\, and show off your vast knowledge of useless information to your friends. \nArrive early to nab the best tables and nominate your team name. \nThe first round kicks off at 7pm 😀 \nPrizes for each of six rounds for teams of 1 to 4 players. \nFree to play. \nBe sure to bring your sense of humour
URL:https://www.rainbowsportsclub.com.au/event/thursday-trivia-2-3/2026-06-11/
LOCATION:Rainbow Beach Sports Club\, Turana St\, Rainbow Beach\, QLD\, 4581\, Australia
CATEGORIES:Events,What's On
ATTACH;FMTTYPE=image/jpeg:https://www.rainbowsportsclub.com.au/wp-content/uploads/2026/03/04032026004424-RBS-20-RainbowBeach-Trivia_TVL.jpg
END:VEVENT
BEGIN:VEVENT
DTSTART;TZID=Australia/Brisbane:20260607T130000
DTEND;TZID=Australia/Brisbane:20260607T160000
DTSTAMP:20260425T005232
CREATED:20251230T045628Z
LAST-MODIFIED:20260419T102758Z
UID:10020197-1780837200-1780848000@www.rainbowsportsclub.com.au
SUMMARY:Sunday Arvo Sessions
DESCRIPTION:Live music from 1pm to 4pm\, with good vibes\, great company\, gaming\, cafe\, courtesy bus and the perfect end to a summer weekend
URL:https://www.rainbowsportsclub.com.au/event/sunday-arvo-sessions-2/2026-06-07/
LOCATION:Rainbow Beach Sports Club\, Turana St\, Rainbow Beach\, QLD\, 4581\, Australia
CATEGORIES:Family,What's On
ATTACH;FMTTYPE=image/jpeg:https://www.rainbowsportsclub.com.au/wp-content/uploads/2025/12/Live-Music-Midday-to-3pm.jpg
END:VEVENT
BEGIN:VEVENT
DTSTART;TZID=Australia/Brisbane:20260606T192900
DTEND;TZID=Australia/Brisbane:20260606T223000
DTSTAMP:20260425T005232
CREATED:20251230T045357Z
LAST-MODIFIED:20260419T102722Z
UID:10018521-1780774140-1780785000@www.rainbowsportsclub.com.au
SUMMARY:LIVE MUSIC SATURDAY
DESCRIPTION:SATURDAY NIGHTS with some legend on a mic & caressing a guitar are back\, baby !! Every week we line up another artist to give vibe to the venue so you and your friends can enjoy your weekend the way you want
URL:https://www.rainbowsportsclub.com.au/event/live-music-saturday-2-2/2026-06-06/
LOCATION:Rainbow Beach Sports Club\, Turana St\, Rainbow Beach\, QLD\, 4581\, Australia
CATEGORIES:What's On
ATTACH;FMTTYPE=image/jpeg:https://www.rainbowsportsclub.com.au/wp-content/uploads/2025/11/Saturday-night-live-music-3-scaled.jpg
END:VEVENT
BEGIN:VEVENT
DTSTART;TZID=Australia/Brisbane:20260605T193000
DTEND;TZID=Australia/Brisbane:20260703T223000
DTSTAMP:20260425T005232
CREATED:20251209T032815Z
LAST-MODIFIED:20260419T102635Z
UID:10018257-1780687800-1783117800@www.rainbowsportsclub.com.au
SUMMARY:LIVE MUSIC FRIDAY
DESCRIPTION:FRIDAY NIGHTS are about letting your hair down\, so you’ll find a musician or three on stage ready to pick\, pluck and strum their magic from 7.30pm to 10.30pm \nEnjoy!!
URL:https://www.rainbowsportsclub.com.au/event/live-music-friday-2/2026-06-05/
LOCATION:QLD
CATEGORIES:What's On
ATTACH;FMTTYPE=image/jpeg:https://www.rainbowsportsclub.com.au/wp-content/uploads/2024/11/Black-Brown-Modern-Music-Present.jpg
END:VEVENT
BEGIN:VEVENT
DTSTART;TZID=Australia/Brisbane:20260604T190000
DTEND;TZID=Australia/Brisbane:20260604T210000
DTSTAMP:20260425T005232
CREATED:20260115T192941Z
LAST-MODIFIED:20260313T085528Z
UID:10017163-1780599600-1780606800@www.rainbowsportsclub.com.au
SUMMARY:Thursday Trivia
DESCRIPTION:Whether to underline your know-it-all status\, or the opportunity to win some great prizes\, we’ve got the perfect excuse to drink\, laugh\, and show off your vast knowledge of useless information to your friends. \nArrive early to nab the best tables and nominate your team name. \nThe first round kicks off at 7pm 😀 \nPrizes for each of six rounds for teams of 1 to 4 players. \nFree to play. \nBe sure to bring your sense of humour
URL:https://www.rainbowsportsclub.com.au/event/thursday-trivia-2-3/2026-06-04/
LOCATION:Rainbow Beach Sports Club\, Turana St\, Rainbow Beach\, QLD\, 4581\, Australia
CATEGORIES:Events,What's On
ATTACH;FMTTYPE=image/jpeg:https://www.rainbowsportsclub.com.au/wp-content/uploads/2026/03/04032026004424-RBS-20-RainbowBeach-Trivia_TVL.jpg
END:VEVENT
BEGIN:VEVENT
DTSTART;TZID=Australia/Brisbane:20260531T130000
DTEND;TZID=Australia/Brisbane:20260531T160000
DTSTAMP:20260425T005232
CREATED:20251230T045628Z
LAST-MODIFIED:20260419T102758Z
UID:10020196-1780232400-1780243200@www.rainbowsportsclub.com.au
SUMMARY:Sunday Arvo Sessions
DESCRIPTION:Live music from 1pm to 4pm\, with good vibes\, great company\, gaming\, cafe\, courtesy bus and the perfect end to a summer weekend
URL:https://www.rainbowsportsclub.com.au/event/sunday-arvo-sessions-2/2026-05-31/
LOCATION:Rainbow Beach Sports Club\, Turana St\, Rainbow Beach\, QLD\, 4581\, Australia
CATEGORIES:Family,What's On
ATTACH;FMTTYPE=image/jpeg:https://www.rainbowsportsclub.com.au/wp-content/uploads/2025/12/Live-Music-Midday-to-3pm.jpg
END:VEVENT
BEGIN:VEVENT
DTSTART;TZID=Australia/Brisbane:20260530T192900
DTEND;TZID=Australia/Brisbane:20260530T223000
DTSTAMP:20260425T005232
CREATED:20251230T045357Z
LAST-MODIFIED:20260419T102722Z
UID:10018520-1780169340-1780180200@www.rainbowsportsclub.com.au
SUMMARY:LIVE MUSIC SATURDAY
DESCRIPTION:SATURDAY NIGHTS with some legend on a mic & caressing a guitar are back\, baby !! Every week we line up another artist to give vibe to the venue so you and your friends can enjoy your weekend the way you want
URL:https://www.rainbowsportsclub.com.au/event/live-music-saturday-2-2/2026-05-30/
LOCATION:Rainbow Beach Sports Club\, Turana St\, Rainbow Beach\, QLD\, 4581\, Australia
CATEGORIES:What's On
ATTACH;FMTTYPE=image/jpeg:https://www.rainbowsportsclub.com.au/wp-content/uploads/2025/11/Saturday-night-live-music-3-scaled.jpg
END:VEVENT
BEGIN:VEVENT
DTSTART;TZID=Australia/Brisbane:20260529T193000
DTEND;TZID=Australia/Brisbane:20260626T223000
DTSTAMP:20260425T005232
CREATED:20251209T032815Z
LAST-MODIFIED:20260419T102635Z
UID:10018256-1780083000-1782513000@www.rainbowsportsclub.com.au
SUMMARY:LIVE MUSIC FRIDAY
DESCRIPTION:FRIDAY NIGHTS are about letting your hair down\, so you’ll find a musician or three on stage ready to pick\, pluck and strum their magic from 7.30pm to 10.30pm \nEnjoy!!
URL:https://www.rainbowsportsclub.com.au/event/live-music-friday-2/2026-05-29/
LOCATION:QLD
CATEGORIES:What's On
ATTACH;FMTTYPE=image/jpeg:https://www.rainbowsportsclub.com.au/wp-content/uploads/2024/11/Black-Brown-Modern-Music-Present.jpg
END:VEVENT
BEGIN:VEVENT
DTSTART;TZID=Australia/Brisbane:20260528T190000
DTEND;TZID=Australia/Brisbane:20260528T210000
DTSTAMP:20260425T005232
CREATED:20260115T192941Z
LAST-MODIFIED:20260313T085528Z
UID:10017162-1779994800-1780002000@www.rainbowsportsclub.com.au
SUMMARY:Thursday Trivia
DESCRIPTION:Whether to underline your know-it-all status\, or the opportunity to win some great prizes\, we’ve got the perfect excuse to drink\, laugh\, and show off your vast knowledge of useless information to your friends. \nArrive early to nab the best tables and nominate your team name. \nThe first round kicks off at 7pm 😀 \nPrizes for each of six rounds for teams of 1 to 4 players. \nFree to play. \nBe sure to bring your sense of humour
URL:https://www.rainbowsportsclub.com.au/event/thursday-trivia-2-3/2026-05-28/
LOCATION:Rainbow Beach Sports Club\, Turana St\, Rainbow Beach\, QLD\, 4581\, Australia
CATEGORIES:Events,What's On
ATTACH;FMTTYPE=image/jpeg:https://www.rainbowsportsclub.com.au/wp-content/uploads/2026/03/04032026004424-RBS-20-RainbowBeach-Trivia_TVL.jpg
END:VEVENT
BEGIN:VEVENT
DTSTART;TZID=Australia/Brisbane:20260524T130000
DTEND;TZID=Australia/Brisbane:20260524T160000
DTSTAMP:20260425T005232
CREATED:20251230T045628Z
LAST-MODIFIED:20260419T102758Z
UID:10020195-1779627600-1779638400@www.rainbowsportsclub.com.au
SUMMARY:Sunday Arvo Sessions
DESCRIPTION:Live music from 1pm to 4pm\, with good vibes\, great company\, gaming\, cafe\, courtesy bus and the perfect end to a summer weekend
URL:https://www.rainbowsportsclub.com.au/event/sunday-arvo-sessions-2/2026-05-24/
LOCATION:Rainbow Beach Sports Club\, Turana St\, Rainbow Beach\, QLD\, 4581\, Australia
CATEGORIES:Family,What's On
ATTACH;FMTTYPE=image/jpeg:https://www.rainbowsportsclub.com.au/wp-content/uploads/2025/12/Live-Music-Midday-to-3pm.jpg
END:VEVENT
BEGIN:VEVENT
DTSTART;TZID=Australia/Brisbane:20260523T192900
DTEND;TZID=Australia/Brisbane:20260523T223000
DTSTAMP:20260425T005232
CREATED:20251230T045357Z
LAST-MODIFIED:20260419T102722Z
UID:10018519-1779564540-1779575400@www.rainbowsportsclub.com.au
SUMMARY:LIVE MUSIC SATURDAY
DESCRIPTION:SATURDAY NIGHTS with some legend on a mic & caressing a guitar are back\, baby !! Every week we line up another artist to give vibe to the venue so you and your friends can enjoy your weekend the way you want
URL:https://www.rainbowsportsclub.com.au/event/live-music-saturday-2-2/2026-05-23/
LOCATION:Rainbow Beach Sports Club\, Turana St\, Rainbow Beach\, QLD\, 4581\, Australia
CATEGORIES:What's On
ATTACH;FMTTYPE=image/jpeg:https://www.rainbowsportsclub.com.au/wp-content/uploads/2025/11/Saturday-night-live-music-3-scaled.jpg
END:VEVENT
BEGIN:VEVENT
DTSTART;TZID=Australia/Brisbane:20260522T193000
DTEND;TZID=Australia/Brisbane:20260619T223000
DTSTAMP:20260425T005232
CREATED:20251209T032815Z
LAST-MODIFIED:20260419T102635Z
UID:10018255-1779478200-1781908200@www.rainbowsportsclub.com.au
SUMMARY:LIVE MUSIC FRIDAY
DESCRIPTION:FRIDAY NIGHTS are about letting your hair down\, so you’ll find a musician or three on stage ready to pick\, pluck and strum their magic from 7.30pm to 10.30pm \nEnjoy!!
URL:https://www.rainbowsportsclub.com.au/event/live-music-friday-2/2026-05-22/
LOCATION:QLD
CATEGORIES:What's On
ATTACH;FMTTYPE=image/jpeg:https://www.rainbowsportsclub.com.au/wp-content/uploads/2024/11/Black-Brown-Modern-Music-Present.jpg
END:VEVENT
END:VCALENDAR